BEGIN:VCALENDAR
VERSION:2.0
PRODID:-//Sabre//Sabre VObject 4.5.8//EN
CALSCALE:GREGORIAN
NAME:Bistum Augsburg
X-WR-CALNAME:Bistum Augsburg
BEGIN:VEVENT
UID:sabre-vobject-0c509c19-3735-4369-afda-89d14dc46aa0
DTSTAMP:20260425T113839Z
SUMMARY:Festgottesdienst zur Feier der Erstkommunion
DESCRIPTION:https://www2.bistum-augsburg.de/gottesdienste/festgottesdienst-
 zur-feier-der-erstkommunion_id1713821
DTSTART;TZID=Europe/Berlin:20260426T100000
DURATION:PT30M
LOCATION:St. Fridolin
END:VEVENT
BEGIN:VEVENT
UID:sabre-vobject-50a2b5c1-4e73-4ccd-8b2f-d8ea949ad37e
DTSTAMP:20260425T113839Z
SUMMARY:Rosenkranz
DESCRIPTION:https://www2.bistum-augsburg.de/gottesdienste/rosenkranz_id1713
 822
DTSTART;TZID=Europe/Berlin:20260428T183000
DURATION:PT30M
LOCATION:St. Fridolin
END:VEVENT
BEGIN:VEVENT
UID:sabre-vobject-f46b2427-6f1a-41c9-aa17-01962d8c4f5c
DTSTAMP:20260425T113839Z
SUMMARY:Eucharistiefeier
DESCRIPTION:https://www2.bistum-augsburg.de/gottesdienste/eucharistiefeier_
 id1713823
DTSTART;TZID=Europe/Berlin:20260428T190000
DURATION:PT30M
LOCATION:St. Fridolin
END:VEVENT
BEGIN:VEVENT
UID:sabre-vobject-d8cbeb89-906c-4000-af94-40fcf42fdf1b
DTSTAMP:20260425T113839Z
SUMMARY:Maiandacht mit Eucharistischem Segen an der Grotte
DESCRIPTION:https://www2.bistum-augsburg.de/gottesdienste/maiandacht-mit-eu
 charistischem-segen-an-der-grotte_id1713861
DTSTART;TZID=Europe/Berlin:20260501T183000
DURATION:PT30M
LOCATION:St. Fridolin
END:VEVENT
BEGIN:VEVENT
UID:sabre-vobject-5ed32952-32c7-48bb-ac91-0fedf0526f88
DTSTAMP:20260425T113839Z
SUMMARY:Rosenkranz der MMC
DESCRIPTION:https://www2.bistum-augsburg.de/gottesdienste/rosenkranz-der-mm
 c_id1733398
DTSTART;TZID=Europe/Berlin:20260502T183000
DURATION:PT30M
LOCATION:St. Fridolin
END:VEVENT
BEGIN:VEVENT
UID:sabre-vobject-0bff518c-746e-4a60-b65e-8df8dd2406af
DTSTAMP:20260425T113839Z
SUMMARY:Eucharistiefeier am Vorabend
DESCRIPTION:https://www2.bistum-augsburg.de/gottesdienste/eucharistiefeier-
 am-vorabend_id1733399
DTSTART;TZID=Europe/Berlin:20260502T190000
DURATION:PT30M
LOCATION:St. Fridolin
END:VEVENT
BEGIN:VEVENT
UID:sabre-vobject-5918a66d-3d5b-47cf-8d32-083c5a6c11ad
DTSTAMP:20260425T113839Z
SUMMARY:Rosenkranz
DESCRIPTION:https://www2.bistum-augsburg.de/gottesdienste/rosenkranz_id1733
 400
DTSTART;TZID=Europe/Berlin:20260505T183000
DURATION:PT30M
LOCATION:St. Fridolin
END:VEVENT
BEGIN:VEVENT
UID:sabre-vobject-0aca2f9c-29c9-439e-9add-f139fcd2b6be
DTSTAMP:20260425T113839Z
SUMMARY:Eucharistiefeier
DESCRIPTION:https://www2.bistum-augsburg.de/gottesdienste/eucharistiefeier_
 id1733402
DTSTART;TZID=Europe/Berlin:20260505T190000
DURATION:PT30M
LOCATION:St. Fridolin
END:VEVENT
BEGIN:VEVENT
UID:sabre-vobject-f919e44a-b83b-46d2-b6b9-c870dbbd2b9a
DTSTAMP:20260425T113839Z
SUMMARY:Eucharistiefeier
DESCRIPTION:https://www2.bistum-augsburg.de/gottesdienste/eucharistiefeier_
 id1733403
DTSTART;TZID=Europe/Berlin:20260510T083000
DURATION:PT30M
LOCATION:St. Fridolin
END:VEVENT
BEGIN:VEVENT
UID:sabre-vobject-4edf48a0-2518-4610-8297-b08e191a22fc
DTSTAMP:20260425T113839Z
SUMMARY:Bittandacht an der Annakapelle (bei schlechtem Wetter in der Kirche
 )
DESCRIPTION:https://www2.bistum-augsburg.de/gottesdienste/bittandacht-an-de
 r-annakapelle-bei-schlechtem-wetter-in-der-kirche_id1733404
DTSTART;TZID=Europe/Berlin:20260511T183000
DURATION:PT30M
LOCATION:St. Fridolin
END:VEVENT
BEGIN:VEVENT
UID:sabre-vobject-a0ed83c2-c9cb-4271-aca2-3e540fc49ed3
DTSTAMP:20260425T113839Z
SUMMARY:Bittprozession zur Grotte\, Treffpunkt Gewaltopfermahnmal (bei schl
 echtem Wetter in der Kirche)
DESCRIPTION:https://www2.bistum-augsburg.de/gottesdienste/bittprozession-zu
 r-grotte-treffpunkt-gewaltopfermahnmal-bei-schlechtem-wetter-in-der-kirche
 _id1733405
DTSTART;TZID=Europe/Berlin:20260512T183000
DURATION:PT30M
LOCATION:St. Fridolin
END:VEVENT
BEGIN:VEVENT
UID:sabre-vobject-96ae8eab-99f2-4f9e-8889-24e91d6f5b5c
DTSTAMP:20260425T113839Z
SUMMARY:Festgottesdienst
DESCRIPTION:https://www2.bistum-augsburg.de/gottesdienste/festgottesdienst_
 id1734592
DTSTART;TZID=Europe/Berlin:20260514T100000
DURATION:PT30M
LOCATION:St. Fridolin
END:VEVENT
END:VCALENDAR
