BEGIN:VCALENDAR
VERSION:2.0
PRODID:-//Sabre//Sabre VObject 4.5.8//EN
CALSCALE:GREGORIAN
NAME:Bistum Augsburg
X-WR-CALNAME:Bistum Augsburg
BEGIN:VEVENT
UID:sabre-vobject-d38f6f46-9d64-4501-9b7a-e58aae2ac4aa
DTSTAMP:20260426T040926Z
SUMMARY:Heilige Messe
DESCRIPTION:https://www2.bistum-augsburg.de/gottesdienste/heilige-messe_id1
 730690
DTSTART;TZID=Europe/Berlin:20260430T190000
DURATION:PT30M
LOCATION:Mariä Verkündigung\, Marienstraße\, 86453 Dasing-Taiting
END:VEVENT
BEGIN:VEVENT
UID:sabre-vobject-c15bfb88-795b-42d5-b4f0-59318b4e537e
DTSTAMP:20260426T040926Z
SUMMARY:Sonntagsmesse
DESCRIPTION:https://www2.bistum-augsburg.de/gottesdienste/sonntagsmesse_id1
 730691
DTSTART;TZID=Europe/Berlin:20260503T094500
DURATION:PT30M
LOCATION:Mariä Verkündigung\, Marienstraße\, 86453 Dasing-Taiting
END:VEVENT
BEGIN:VEVENT
UID:sabre-vobject-912d40cc-7229-4e68-90c7-2fe54f75e718
DTSTAMP:20260426T040926Z
SUMMARY:Bittgang nach Herrgottsruh mit der Pfarrei Dasing
DESCRIPTION:https://www2.bistum-augsburg.de/gottesdienste/bittgang-nach-her
 rgottsruh-mit-der-pfarrei-dasing_id1729141
DTSTART;TZID=Europe/Berlin:20260510T061500
DURATION:PT30M
LOCATION:Mariä Verkündigung\, Marienstraße\, 86453 Dasing-Taiting
END:VEVENT
BEGIN:VEVENT
UID:sabre-vobject-2fd8570f-8b8b-4704-8002-35559371c74c
DTSTAMP:20260426T040926Z
SUMMARY:Heilige Messe
DESCRIPTION:https://www2.bistum-augsburg.de/gottesdienste/heilige-messe_id1
 728848
DTSTART;TZID=Europe/Berlin:20260514T094500
DURATION:PT30M
LOCATION:Mariä Verkündigung\, Marienstraße\, 86453 Dasing-Taiting
END:VEVENT
BEGIN:VEVENT
UID:sabre-vobject-1b986f2b-76ed-4257-9939-2914d4a48db0
DTSTAMP:20260426T040926Z
SUMMARY:Sonntagsmesse
DESCRIPTION:https://www2.bistum-augsburg.de/gottesdienste/sonntagsmesse_id1
 728849
DTSTART;TZID=Europe/Berlin:20260517T094500
DURATION:PT30M
LOCATION:Mariä Verkündigung\, Marienstraße\, 86453 Dasing-Taiting
END:VEVENT
END:VCALENDAR
