BEGIN:VCALENDAR
VERSION:2.0
PRODID:-//Sabre//Sabre VObject 4.5.8//EN
CALSCALE:GREGORIAN
NAME:Bistum Augsburg
X-WR-CALNAME:Bistum Augsburg
BEGIN:VEVENT
UID:sabre-vobject-39b048e0-29d1-41d9-bb2e-674bdc3248da
DTSTAMP:20260425T193827Z
SUMMARY:Heilige Messe
DESCRIPTION:https://www2.bistum-augsburg.de/gottesdienste/heilige-messe_id1
 723907
DTSTART;TZID=Europe/Berlin:20260426T083000
DURATION:PT30M
LOCATION:St. Katharina
END:VEVENT
BEGIN:VEVENT
UID:sabre-vobject-9b013f76-eea0-4ebc-98ed-32326620c551
DTSTAMP:20260425T193827Z
SUMMARY:Wallfahrt nach Maria Birnbaum\, dort um 8:30 Messe
DESCRIPTION:https://www2.bistum-augsburg.de/gottesdienste/wallfahrt-nach-ma
 ria-birnbaum-dort-um-8-30-messe_id1723908
DTSTART;TZID=Europe/Berlin:20260501T074500
DURATION:PT30M
LOCATION:St. Katharina
END:VEVENT
BEGIN:VEVENT
UID:sabre-vobject-5cdb3593-39cb-42ba-9c42-5cb23f3e5e11
DTSTAMP:20260425T193827Z
SUMMARY:Feierliche Erstkommunion
DESCRIPTION:https://www2.bistum-augsburg.de/gottesdienste/feierliche-erstko
 mmunion_id1723909
DTSTART;TZID=Europe/Berlin:20260503T100000
DURATION:PT30M
LOCATION:St. Katharina
END:VEVENT
BEGIN:VEVENT
UID:sabre-vobject-9dce361a-1ead-4f0e-a56a-ef652fca7881
DTSTAMP:20260425T193827Z
SUMMARY:Flurumgang mit Schauermesse
DESCRIPTION:https://www2.bistum-augsburg.de/gottesdienste/flurumgang-mit-sc
 hauermesse_id1687132
DTSTART;TZID=Europe/Berlin:20260505T190000
DURATION:PT30M
LOCATION:St. Katharina
END:VEVENT
BEGIN:VEVENT
UID:sabre-vobject-a293af65-30f2-47e7-90f4-20cb94ec6c2f
DTSTAMP:20260425T193827Z
SUMMARY:Heilige Messe
DESCRIPTION:https://www2.bistum-augsburg.de/gottesdienste/heilige-messe_id1
 687133
DTSTART;TZID=Europe/Berlin:20260510T100000
DURATION:PT30M
LOCATION:St. Katharina
END:VEVENT
BEGIN:VEVENT
UID:sabre-vobject-c99aaa15-abd8-48f5-84ad-b473d35c658a
DTSTAMP:20260425T193827Z
SUMMARY:Feierliche Maiandacht
DESCRIPTION:https://www2.bistum-augsburg.de/gottesdienste/feierliche-maiand
 acht_id1687134
DTSTART;TZID=Europe/Berlin:20260510T190000
DURATION:PT30M
LOCATION:St. Katharina
END:VEVENT
BEGIN:VEVENT
UID:sabre-vobject-cc3f28c0-e410-46fc-aad6-85dea7c925e6
DTSTAMP:20260425T193827Z
SUMMARY:Bittgang nach Kiemertshofen
DESCRIPTION:https://www2.bistum-augsburg.de/gottesdienste/bittgang-nach-kie
 mertshofen_id1687135
DTSTART;TZID=Europe/Berlin:20260511T183000
DURATION:PT30M
LOCATION:St. Katharina
END:VEVENT
BEGIN:VEVENT
UID:sabre-vobject-161179e7-a14f-4035-9614-1ff9e4136902
DTSTAMP:20260425T193827Z
SUMMARY:Buswallfahrt nach Andechs
DESCRIPTION:https://www2.bistum-augsburg.de/gottesdienste/buswallfahrt-nach
 -andechs_id1687136
DTSTART;TZID=Europe/Berlin:20260513T083000
DURATION:PT30M
LOCATION:St. Katharina
END:VEVENT
BEGIN:VEVENT
UID:sabre-vobject-109dfa88-b98c-400d-bd1d-fcb994a2ff9f
DTSTAMP:20260425T193827Z
SUMMARY:Heilige Messe f. die Pfarreiengemeinschaft
DESCRIPTION:https://www2.bistum-augsburg.de/gottesdienste/heilige-messe-f-d
 ie-pfarreiengemeinschaft_id1687137
DTSTART;TZID=Europe/Berlin:20260514T083000
DURATION:PT30M
LOCATION:St. Katharina
END:VEVENT
BEGIN:VEVENT
UID:sabre-vobject-5815e819-d0d5-435b-88dc-eed406ba2fb1
DTSTAMP:20260425T193827Z
SUMMARY:Heilige Messe
DESCRIPTION:https://www2.bistum-augsburg.de/gottesdienste/heilige-messe_id1
 687138
DTSTART;TZID=Europe/Berlin:20260517T083000
DURATION:PT30M
LOCATION:St. Katharina
END:VEVENT
BEGIN:VEVENT
UID:sabre-vobject-65dbaa53-bf4a-4771-ad7c-3829673b2de5
DTSTAMP:20260425T193827Z
SUMMARY:Rosenkranz
DESCRIPTION:https://www2.bistum-augsburg.de/gottesdienste/rosenkranz_id1687
 139
DTSTART;TZID=Europe/Berlin:20260519T183000
DURATION:PT30M
LOCATION:St. Katharina
END:VEVENT
BEGIN:VEVENT
UID:sabre-vobject-91e00f22-800d-463a-91d2-3bf44d4d8f10
DTSTAMP:20260425T193827Z
SUMMARY:Heilige Messe
DESCRIPTION:https://www2.bistum-augsburg.de/gottesdienste/heilige-messe_id1
 687140
DTSTART;TZID=Europe/Berlin:20260519T190000
DURATION:PT30M
LOCATION:St. Katharina
END:VEVENT
BEGIN:VEVENT
UID:sabre-vobject-0857bd6f-99e0-456f-8005-6231b9d154ef
DTSTAMP:20260425T193827Z
SUMMARY:Rosenkranz
DESCRIPTION:https://www2.bistum-augsburg.de/gottesdienste/rosenkranz_id1687
 141
DTSTART;TZID=Europe/Berlin:20260523T183000
DURATION:PT30M
LOCATION:St. Katharina
END:VEVENT
BEGIN:VEVENT
UID:sabre-vobject-29a7367c-6ede-4a5d-b623-d6cc10808b45
DTSTAMP:20260425T193827Z
SUMMARY:Pfingst-Festgottesdienst
DESCRIPTION:https://www2.bistum-augsburg.de/gottesdienste/pfingst-festgotte
 sdienst_id1687143
DTSTART;TZID=Europe/Berlin:20260523T190000
DURATION:PT30M
LOCATION:St. Katharina
END:VEVENT
BEGIN:VEVENT
UID:sabre-vobject-0ffa1e6e-25dc-4ce4-a737-81c6d38c6a4d
DTSTAMP:20260425T193827Z
SUMMARY:Heilige Messe
DESCRIPTION:https://www2.bistum-augsburg.de/gottesdienste/heilige-messe_id1
 687144
DTSTART;TZID=Europe/Berlin:20260525T100000
DURATION:PT30M
LOCATION:St. Katharina
END:VEVENT
BEGIN:VEVENT
UID:sabre-vobject-b2183000-e38d-4d40-a045-8bed184f29ca
DTSTAMP:20260425T193827Z
SUMMARY:Heilige Messe f. die Pfarreiengemeinschaft
DESCRIPTION:https://www2.bistum-augsburg.de/gottesdienste/heilige-messe-f-d
 ie-pfarreiengemeinschaft_id1687145
DTSTART;TZID=Europe/Berlin:20260531T083000
DURATION:PT30M
LOCATION:St. Katharina
END:VEVENT
BEGIN:VEVENT
UID:sabre-vobject-dc57f9d4-6d39-4d42-9550-d3530f8c369b
DTSTAMP:20260425T193827Z
SUMMARY:Maiandacht
DESCRIPTION:https://www2.bistum-augsburg.de/gottesdienste/maiandacht_id1687
 146
DTSTART;TZID=Europe/Berlin:20260531T190000
DURATION:PT30M
LOCATION:St. Katharina
END:VEVENT
BEGIN:VEVENT
UID:sabre-vobject-3592606e-a2ff-4cbe-bfa5-a07cb3b374ec
DTSTAMP:20260425T193827Z
SUMMARY:Familienradfahrt nach Geislwies\, Treffpunkt Festbauer\, im Anschlu
 ss Einkehr beim Obsthof Mahl
DESCRIPTION:https://www2.bistum-augsburg.de/gottesdienste/familienradfahrt-
 nach-geislwies-treffpunkt-festbauer-im-anschluss-einkehr-beim-obsthof-mahl
 _id1687174
DTSTART;TZID=Europe/Berlin:20260604T124500
DURATION:PT30M
LOCATION:St. Katharina
END:VEVENT
BEGIN:VEVENT
UID:sabre-vobject-4a28241d-a2bf-4090-8558-464b478b213d
DTSTAMP:20260425T193827Z
SUMMARY:Fronleichnam\, Festgottesdienst\, im Anschluss Fronleichnamsprozess
 ion\, Heilige Messe
DESCRIPTION:https://www2.bistum-augsburg.de/gottesdienste/fronleichnam-fest
 gottesdienst-im-anschluss-fronleichnamsprozession-heilige-messe_id1687175
DTSTART;TZID=Europe/Berlin:20260607T090000
DURATION:PT30M
LOCATION:St. Katharina
END:VEVENT
BEGIN:VEVENT
UID:sabre-vobject-b9628f34-5a59-4227-be5e-a530719d557d
DTSTAMP:20260425T193827Z
SUMMARY:Heilige Messe m. ewiger Anbetung
DESCRIPTION:https://www2.bistum-augsburg.de/gottesdienste/heilige-messe-m-e
 wiger-anbetung_id1687176
DTSTART;TZID=Europe/Berlin:20260612T190000
DURATION:PT30M
LOCATION:St. Katharina
END:VEVENT
BEGIN:VEVENT
UID:sabre-vobject-b0432b5d-15e8-43cf-9deb-94d1910164ad
DTSTAMP:20260425T193827Z
SUMMARY:Heilige Messe f. die Pfarreiengemeinschaft  Pfarrfest???
DESCRIPTION:https://www2.bistum-augsburg.de/gottesdienste/heilige-messe-f-d
 ie-pfarreiengemeinschaft-pfarrfest_id1687177
DTSTART;TZID=Europe/Berlin:20260614T100000
DURATION:PT30M
LOCATION:St. Katharina
END:VEVENT
BEGIN:VEVENT
UID:sabre-vobject-6ac28484-a4d7-4512-bfb7-c504f76bacc6
DTSTAMP:20260425T193827Z
SUMMARY:Taufe von Amalia Popfinger
DESCRIPTION:https://www2.bistum-augsburg.de/gottesdienste/taufe-von-amalia-
 popfinger_id1687178
DTSTART;TZID=Europe/Berlin:20260620T110000
DURATION:PT30M
LOCATION:St. Katharina
END:VEVENT
BEGIN:VEVENT
UID:sabre-vobject-4b27d5a6-6b17-470e-b9f3-a9fdf3760e2d
DTSTAMP:20260425T193827Z
SUMMARY:Rosenkranz
DESCRIPTION:https://www2.bistum-augsburg.de/gottesdienste/rosenkranz_id1687
 215
DTSTART;TZID=Europe/Berlin:20260620T183000
DURATION:PT30M
LOCATION:St. Katharina
END:VEVENT
BEGIN:VEVENT
UID:sabre-vobject-e052f05d-1acb-4f49-bbdf-5bbd99efaac1
DTSTAMP:20260425T193827Z
SUMMARY:Heilige Messe
DESCRIPTION:https://www2.bistum-augsburg.de/gottesdienste/heilige-messe_id1
 687212
DTSTART;TZID=Europe/Berlin:20260620T190000
DURATION:PT30M
LOCATION:St. Katharina
END:VEVENT
BEGIN:VEVENT
UID:sabre-vobject-38f3a71b-7763-41fb-9b5a-de4310a72795
DTSTAMP:20260425T193827Z
SUMMARY:Rosenkranz
DESCRIPTION:https://www2.bistum-augsburg.de/gottesdienste/rosenkranz_id1687
 213
DTSTART;TZID=Europe/Berlin:20260623T183000
DURATION:PT30M
LOCATION:St. Katharina
END:VEVENT
BEGIN:VEVENT
UID:sabre-vobject-1dbf6b6c-7881-4e0c-a462-aeddd78f0bea
DTSTAMP:20260425T193827Z
SUMMARY:Heilige Messe
DESCRIPTION:https://www2.bistum-augsburg.de/gottesdienste/heilige-messe_id1
 687216
DTSTART;TZID=Europe/Berlin:20260623T190000
DURATION:PT30M
LOCATION:St. Katharina
END:VEVENT
BEGIN:VEVENT
UID:sabre-vobject-5beb5e91-ac5a-4001-88f0-3a9f93791fbd
DTSTAMP:20260425T193827Z
SUMMARY:Heilige Messe
DESCRIPTION:https://www2.bistum-augsburg.de/gottesdienste/heilige-messe_id1
 687217
DTSTART;TZID=Europe/Berlin:20260628T083000
DURATION:PT30M
LOCATION:St. Katharina
END:VEVENT
END:VCALENDAR
