BEGIN:VCALENDAR
VERSION:2.0
PRODID:-//Sabre//Sabre VObject 4.5.8//EN
CALSCALE:GREGORIAN
NAME:Bistum Augsburg
X-WR-CALNAME:Bistum Augsburg
BEGIN:VEVENT
UID:sabre-vobject-c8894e92-8aff-4124-abf5-799042d4418a
DTSTAMP:20260425T034745Z
SUMMARY:Rosenkranz
DESCRIPTION:https://www2.bistum-augsburg.de/gottesdienste/rosenkranz_id1728
 985
DTSTART;TZID=Europe/Berlin:20260425T180000
DURATION:PT30M
LOCATION:St. Stephan
END:VEVENT
BEGIN:VEVENT
UID:sabre-vobject-961fad71-4095-4d47-9157-ae25858643c8
DTSTAMP:20260425T034745Z
SUMMARY:Heilige Messe - Erstkommunion - Kinder aus Steindorf und Hausen
DESCRIPTION:https://www2.bistum-augsburg.de/gottesdienste/heilige-messe-ers
 tkommunion-kinder-aus-steindorf-und-hausen_id1728986
DTSTART;TZID=Europe/Berlin:20260426T103000
DURATION:PT30M
LOCATION:St. Stephan
END:VEVENT
END:VCALENDAR
