BEGIN:VCALENDAR
VERSION:2.0
PRODID:-//Sabre//Sabre VObject 4.5.8//EN
CALSCALE:GREGORIAN
NAME:Bistum Augsburg
X-WR-CALNAME:Bistum Augsburg
BEGIN:VEVENT
UID:sabre-vobject-9d8baa7e-57bd-4e99-8f9e-48740ef72959
DTSTAMP:20260426T001018Z
SUMMARY:Festgottesdienst zur Erstkommunion für die verst. Angehörigen der
  Erstkommunionkinder
DESCRIPTION:https://www2.bistum-augsburg.de/gottesdienste/festgottesdienst-
 zur-erstkommunion-fuer-die-verst-angehoerigen-der-erstkommunionkinder_id17
 22920
DTSTART;TZID=Europe/Berlin:20260426T100000
DURATION:PT30M
LOCATION:St. Martin
END:VEVENT
BEGIN:VEVENT
UID:sabre-vobject-c91d359c-2ebf-43fe-af92-bad3ded7e575
DTSTAMP:20260426T001018Z
SUMMARY:Messfeier für
DESCRIPTION:https://www2.bistum-augsburg.de/gottesdienste/messfeier-fuer_id
 1722916
DTSTART;TZID=Europe/Berlin:20260428T083000
DURATION:PT30M
LOCATION:St. Martin
END:VEVENT
BEGIN:VEVENT
UID:sabre-vobject-a887a9d1-d58b-43b5-9810-2ecf1866d247
DTSTAMP:20260426T001018Z
SUMMARY:Feierl. Maiandacht musikalisch gestaltet vom Kirchenchor
DESCRIPTION:https://www2.bistum-augsburg.de/gottesdienste/feierl-maiandacht
 -musikalisch-gestaltet-vom-kirchenchor_id1722917
DTSTART;TZID=Europe/Berlin:20260501T180000
DURATION:PT30M
LOCATION:St. Martin
END:VEVENT
BEGIN:VEVENT
UID:sabre-vobject-d01d38a0-8861-4e92-8280-984e0b66d176
DTSTAMP:20260426T001018Z
SUMMARY:Taufe
DESCRIPTION:https://www2.bistum-augsburg.de/gottesdienste/taufe_id1736028
DTSTART;TZID=Europe/Berlin:20260502T110000
DURATION:PT30M
LOCATION:St. Martin
END:VEVENT
BEGIN:VEVENT
UID:sabre-vobject-cbd6dcd5-7d37-4276-b4e6-9f19557d5509
DTSTAMP:20260426T001018Z
SUMMARY:Sonntagsmessfeier für
DESCRIPTION:https://www2.bistum-augsburg.de/gottesdienste/sonntagsmessfeier
 -fuer_id1736029
DTSTART;TZID=Europe/Berlin:20260503T083000
DURATION:PT30M
LOCATION:St. Martin
END:VEVENT
BEGIN:VEVENT
UID:sabre-vobject-b78488e8-73a2-48ed-92ee-bce6f9cf6c8b
DTSTAMP:20260426T001018Z
SUMMARY:Messfeier für
DESCRIPTION:https://www2.bistum-augsburg.de/gottesdienste/messfeier-fuer_id
 1736030
DTSTART;TZID=Europe/Berlin:20260505T083000
DURATION:PT30M
LOCATION:St. Martin
END:VEVENT
BEGIN:VEVENT
UID:sabre-vobject-2f4cee95-c5a5-4337-9659-b683b52465de
DTSTAMP:20260426T001018Z
SUMMARY:Festgottesdienst und Pfarrgottesdienst für alle Lebenden und Verst
 orbenen der Pfarreiengemeinschaft im Gebetsgedenken an:
DESCRIPTION:https://www2.bistum-augsburg.de/gottesdienste/festgottesdienst-
 und-pfarrgottesdienst-fuer-alle-lebenden-und-verstorbenen-der-pfarreiengem
 einschaft-im-gebetsgedenken-an_id1735082
DTSTART;TZID=Europe/Berlin:20260510T100000
DURATION:PT30M
LOCATION:St. Martin
END:VEVENT
BEGIN:VEVENT
UID:sabre-vobject-9cfc9753-acd3-493e-8221-272eb6dddc9b
DTSTAMP:20260426T001018Z
SUMMARY:Messfeier für
DESCRIPTION:https://www2.bistum-augsburg.de/gottesdienste/messfeier-fuer_id
 1735083
DTSTART;TZID=Europe/Berlin:20260512T083000
DURATION:PT30M
LOCATION:St. Martin
END:VEVENT
BEGIN:VEVENT
UID:sabre-vobject-c929ac80-da47-4921-91f9-ce1599543eed
DTSTAMP:20260426T001018Z
SUMMARY:Prozession von der Kirche zum Stettener Kreuz
DESCRIPTION:https://www2.bistum-augsburg.de/gottesdienste/prozession-von-de
 r-kirche-zum-stettener-kreuz_id1735084
DTSTART;TZID=Europe/Berlin:20260514T081500
DURATION:PT30M
LOCATION:St. Martin
END:VEVENT
BEGIN:VEVENT
UID:sabre-vobject-04ea6823-d592-4c3e-a1e4-7f44581bcb0e
DTSTAMP:20260426T001018Z
SUMMARY:Festgottesdienst im Wald beim Stettener Kreuz mit Zelebrant/Predige
 r Pfr. Jan Forma  für die Lebenden u. Verstorbenen der teilnehmenden Pfar
 reien\, im Gebetsgedenken an:
DESCRIPTION:https://www2.bistum-augsburg.de/gottesdienste/festgottesdienst-
 im-wald-beim-stettener-kreuz-mit-zelebrant-prediger-pfr-jan-forma-fuer-die
 -lebenden-u-verstorbenen-der-teilnehmenden-pfarreien-im-gebetsgedenken-an_
 id1735114
DTSTART;TZID=Europe/Berlin:20260514T093000
DURATION:PT30M
LOCATION:St. Martin
END:VEVENT
BEGIN:VEVENT
UID:sabre-vobject-79e460ff-728c-4390-9ddd-6a20d755d74a
DTSTAMP:20260426T001018Z
SUMMARY:Sonntagsmessfeier für
DESCRIPTION:https://www2.bistum-augsburg.de/gottesdienste/sonntagsmessfeier
 -fuer_id1735640
DTSTART;TZID=Europe/Berlin:20260517T100000
DURATION:PT30M
LOCATION:St. Martin
END:VEVENT
BEGIN:VEVENT
UID:sabre-vobject-649995c9-2068-413d-8cdd-3197d835747d
DTSTAMP:20260426T001018Z
SUMMARY:Taufe
DESCRIPTION:https://www2.bistum-augsburg.de/gottesdienste/taufe_id1735641
DTSTART;TZID=Europe/Berlin:20260517T111500
DURATION:PT30M
LOCATION:St. Martin
END:VEVENT
BEGIN:VEVENT
UID:sabre-vobject-59a3d7fa-a0cc-4f4a-86c3-bab3373d6872
DTSTAMP:20260426T001018Z
SUMMARY:Messfeier für
DESCRIPTION:https://www2.bistum-augsburg.de/gottesdienste/messfeier-fuer_id
 1735642
DTSTART;TZID=Europe/Berlin:20260519T083000
DURATION:PT30M
LOCATION:St. Martin
END:VEVENT
BEGIN:VEVENT
UID:sabre-vobject-299d24e9-62ec-41ce-82f7-f993186ec4e1
DTSTAMP:20260426T001018Z
SUMMARY:Vorabendmesse zu Pfingsten für
DESCRIPTION:https://www2.bistum-augsburg.de/gottesdienste/vorabendmesse-zu-
 pfingsten-fuer_id1735198
DTSTART;TZID=Europe/Berlin:20260523T190000
DURATION:PT30M
LOCATION:St. Martin
END:VEVENT
BEGIN:VEVENT
UID:sabre-vobject-2b226305-ab68-4e89-9bf0-3ae1c434185e
DTSTAMP:20260426T001018Z
SUMMARY:Messfeier für
DESCRIPTION:https://www2.bistum-augsburg.de/gottesdienste/messfeier-fuer_id
 1735199
DTSTART;TZID=Europe/Berlin:20260525T100000
DURATION:PT30M
LOCATION:St. Martin
END:VEVENT
BEGIN:VEVENT
UID:sabre-vobject-a44de13f-8228-47d5-80a0-2b9e3dae3b61
DTSTAMP:20260426T001018Z
SUMMARY:Abmarsch an der Pfarrkirche dann Messfeier an der Dreifaltigkeitska
 pelle für
DESCRIPTION:https://www2.bistum-augsburg.de/gottesdienste/abmarsch-an-der-p
 farrkirche-dann-messfeier-an-der-dreifaltigkeitskapelle-fuer_id1735142
DTSTART;TZID=Europe/Berlin:20260531T180000
DURATION:PT30M
LOCATION:St. Martin
END:VEVENT
END:VCALENDAR
