BEGIN:VCALENDAR
VERSION:2.0
PRODID:-//Sabre//Sabre VObject 4.5.8//EN
CALSCALE:GREGORIAN
NAME:Bistum Augsburg
X-WR-CALNAME:Bistum Augsburg
BEGIN:VEVENT
UID:sabre-vobject-6d757b17-13bb-49d5-a261-d02f1186ef12
DTSTAMP:20260425T110608Z
SUMMARY:Vorabendmesse
DESCRIPTION:https://www2.bistum-augsburg.de/gottesdienste/vorabendmesse_id1
 725737
DTSTART;TZID=Europe/Berlin:20260425T190000
DURATION:PT30M
LOCATION:St. Peter und Paul\, Kirchgasse 1\, 86872 Scherstetten
END:VEVENT
BEGIN:VEVENT
UID:sabre-vobject-139bb1eb-a2df-4469-aafc-0c898b28f4f1
DTSTAMP:20260425T110608Z
SUMMARY:Messfeier
DESCRIPTION:https://www2.bistum-augsburg.de/gottesdienste/messfeier_id17257
 48
DTSTART;TZID=Europe/Berlin:20260428T190000
DURATION:PT30M
LOCATION:St. Peter und Paul\, Kirchgasse 1\, 86872 Scherstetten
END:VEVENT
BEGIN:VEVENT
UID:sabre-vobject-daa19d18-b51a-4815-b46f-393ca2eab792
DTSTAMP:20260425T110608Z
SUMMARY:Maiandacht
DESCRIPTION:https://www2.bistum-augsburg.de/gottesdienste/maiandacht_id1725
 757
DTSTART;TZID=Europe/Berlin:20260501T190000
DURATION:PT30M
LOCATION:St. Peter und Paul\, Kirchgasse 1\, 86872 Scherstetten
END:VEVENT
BEGIN:VEVENT
UID:sabre-vobject-7e0a8e6e-1437-48e3-947c-171a6953ce86
DTSTAMP:20260425T110608Z
SUMMARY:Messfeier
DESCRIPTION:https://www2.bistum-augsburg.de/gottesdienste/messfeier_id17254
 61
DTSTART;TZID=Europe/Berlin:20260503T100000
DURATION:PT30M
LOCATION:St. Peter und Paul\, Kirchgasse 1\, 86872 Scherstetten
END:VEVENT
BEGIN:VEVENT
UID:sabre-vobject-cee9f9b7-9a8b-4bb4-b89a-5cc0bfe0040e
DTSTAMP:20260425T110608Z
SUMMARY:Maiandacht
DESCRIPTION:https://www2.bistum-augsburg.de/gottesdienste/maiandacht_id1725
 462
DTSTART;TZID=Europe/Berlin:20260508T160000
DURATION:PT30M
LOCATION:St. Peter und Paul\, Kirchgasse 1\, 86872 Scherstetten
END:VEVENT
BEGIN:VEVENT
UID:sabre-vobject-124b76c9-39f3-4978-8861-6841258b064e
DTSTAMP:20260425T110608Z
SUMMARY:Pfarrgottesdienst
DESCRIPTION:https://www2.bistum-augsburg.de/gottesdienste/pfarrgottesdienst
 _id1724986
DTSTART;TZID=Europe/Berlin:20260510T100000
DURATION:PT30M
LOCATION:St. Peter und Paul\, Kirchgasse 1\, 86872 Scherstetten
END:VEVENT
BEGIN:VEVENT
UID:sabre-vobject-b30a51af-1fc0-4cfc-8210-ce99a342f4e7
DTSTAMP:20260425T110608Z
SUMMARY:Bittrosenkranz
DESCRIPTION:https://www2.bistum-augsburg.de/gottesdienste/bittrosenkranz_id
 1724987
DTSTART;TZID=Europe/Berlin:20260511T190000
DURATION:PT30M
LOCATION:St. Peter und Paul\, Kirchgasse 1\, 86872 Scherstetten
END:VEVENT
BEGIN:VEVENT
UID:sabre-vobject-7816db30-fca5-448c-841f-dfb079cc495f
DTSTAMP:20260425T110608Z
SUMMARY:Bittgottesdienst in Erkhausen
DESCRIPTION:https://www2.bistum-augsburg.de/gottesdienste/bittgottesdienst-
 in-erkhausen_id1724988
DTSTART;TZID=Europe/Berlin:20260512T190000
DURATION:PT30M
LOCATION:St. Peter und Paul\, Kirchgasse 1\, 86872 Scherstetten
END:VEVENT
BEGIN:VEVENT
UID:sabre-vobject-bed83781-f0c3-48de-88b7-283906d0ff77
DTSTAMP:20260425T110608Z
SUMMARY:Festamt bei der Marienkapelle (bei guter Witterung)
DESCRIPTION:https://www2.bistum-augsburg.de/gottesdienste/festamt-bei-der-m
 arienkapelle-bei-guter-witterung_id1724989
DTSTART;TZID=Europe/Berlin:20260514T100000
DURATION:PT30M
LOCATION:St. Peter und Paul\, Kirchgasse 1\, 86872 Scherstetten
END:VEVENT
END:VCALENDAR
