BEGIN:VCALENDAR
VERSION:2.0
PRODID:-//Sabre//Sabre VObject 4.5.8//EN
CALSCALE:GREGORIAN
NAME:Bistum Augsburg
X-WR-CALNAME:Bistum Augsburg
BEGIN:VEVENT
UID:sabre-vobject-450359f8-1404-4d23-9163-8f2d8ec567a9
DTSTAMP:20260424T053955Z
SUMMARY:Familiengottesdienst mit  P. Tobias Merkt OSB\nMusik: Gospelquartet
 t
DESCRIPTION:https://www2.bistum-augsburg.de/gottesdienste/familiengottesdie
 nst-mit-p-tobias-merkt-osb-musik-gospelquartett_id1732346
DTSTART;TZID=Europe/Berlin:20260426T101500
DURATION:PT30M
LOCATION:St. Martin
END:VEVENT
BEGIN:VEVENT
UID:sabre-vobject-28ff4225-8329-4519-a31f-332fc7b2f59f
DTSTAMP:20260424T053955Z
SUMMARY:Heilige Messe in der Klinikkapelle
DESCRIPTION:https://www2.bistum-augsburg.de/gottesdienste/heilige-messe-in-
 der-klinikkapelle_id1732347
DTSTART;TZID=Europe/Berlin:20260426T110000
DURATION:PT30M
LOCATION:St. Martin
END:VEVENT
BEGIN:VEVENT
UID:sabre-vobject-8e57c188-b93a-4dfd-bf12-2620f4c05a92
DTSTAMP:20260424T053955Z
SUMMARY:Beichtgelegenheit
DESCRIPTION:https://www2.bistum-augsburg.de/gottesdienste/beichtgelegenheit
 _id1731043
DTSTART;TZID=Europe/Berlin:20260428T180000
DURATION:PT30M
LOCATION:St. Martin
END:VEVENT
BEGIN:VEVENT
UID:sabre-vobject-f663e5f6-8a7f-4245-a210-892f167f7223
DTSTAMP:20260424T053955Z
SUMMARY:Heilige Messe
DESCRIPTION:https://www2.bistum-augsburg.de/gottesdienste/heilige-messe_id1
 731044
DTSTART;TZID=Europe/Berlin:20260428T183000
DURATION:PT30M
LOCATION:St. Martin
END:VEVENT
BEGIN:VEVENT
UID:sabre-vobject-c9083236-5a2a-4ff9-aee4-d95cff49179b
DTSTAMP:20260424T053955Z
SUMMARY:Heilige Messe in der Klinikkapelle
DESCRIPTION:https://www2.bistum-augsburg.de/gottesdienste/heilige-messe-in-
 der-klinikkapelle_id1731045
DTSTART;TZID=Europe/Berlin:20260429T191500
DURATION:PT30M
LOCATION:St. Martin
END:VEVENT
BEGIN:VEVENT
UID:sabre-vobject-bb67e2bc-9e2f-4786-b39d-dae362f85fc9
DTSTAMP:20260424T053955Z
SUMMARY:Heilige Messe
DESCRIPTION:https://www2.bistum-augsburg.de/gottesdienste/heilige-messe_id1
 731054
DTSTART;TZID=Europe/Berlin:20260501T084500
DURATION:PT30M
LOCATION:St. Martin
END:VEVENT
BEGIN:VEVENT
UID:sabre-vobject-0489c833-c468-4eda-9b66-4a73c87cab10
DTSTAMP:20260424T053955Z
SUMMARY:Pfarrgottesdienst mit Monatsprozession
DESCRIPTION:https://www2.bistum-augsburg.de/gottesdienste/pfarrgottesdienst
 -mit-monatsprozession_id1731055
DTSTART;TZID=Europe/Berlin:20260503T084500
DURATION:PT30M
LOCATION:St. Martin
END:VEVENT
BEGIN:VEVENT
UID:sabre-vobject-fa4ad97a-319a-4cbc-aecf-2684e205cbd6
DTSTAMP:20260424T053955Z
SUMMARY:Heilige Messe in der Klinikkapelle
DESCRIPTION:https://www2.bistum-augsburg.de/gottesdienste/heilige-messe-in-
 der-klinikkapelle_id1731080
DTSTART;TZID=Europe/Berlin:20260503T090000
DURATION:PT30M
LOCATION:St. Martin
END:VEVENT
BEGIN:VEVENT
UID:sabre-vobject-3014e152-0084-452e-ace0-84a63b23b8dd
DTSTAMP:20260424T053955Z
SUMMARY:Beichtgelegenheit
DESCRIPTION:https://www2.bistum-augsburg.de/gottesdienste/beichtgelegenheit
 _id1731081
DTSTART;TZID=Europe/Berlin:20260505T180000
DURATION:PT30M
LOCATION:St. Martin
END:VEVENT
BEGIN:VEVENT
UID:sabre-vobject-64786297-9fee-4425-9574-c61bc6fcc1d9
DTSTAMP:20260424T053955Z
SUMMARY:Heilige Messe
DESCRIPTION:https://www2.bistum-augsburg.de/gottesdienste/heilige-messe_id1
 731082
DTSTART;TZID=Europe/Berlin:20260505T183000
DURATION:PT30M
LOCATION:St. Martin
END:VEVENT
BEGIN:VEVENT
UID:sabre-vobject-f2fdb98d-809e-4322-bbfc-29ca478781c3
DTSTAMP:20260424T053955Z
SUMMARY:Pfarrgottesdienst
DESCRIPTION:https://www2.bistum-augsburg.de/gottesdienste/pfarrgottesdienst
 _id1731083
DTSTART;TZID=Europe/Berlin:20260510T084500
DURATION:PT30M
LOCATION:St. Martin
END:VEVENT
BEGIN:VEVENT
UID:sabre-vobject-fb6e7f1e-ab12-4202-930b-951e1adc3ccb
DTSTAMP:20260424T053955Z
SUMMARY:Wortgottesdienst in der Klinikkapelle\n
DESCRIPTION:https://www2.bistum-augsburg.de/gottesdienste/wortgottesdienst-
 in-der-klinikkapelle_id1731085
DTSTART;TZID=Europe/Berlin:20260510T110000
DURATION:PT30M
LOCATION:St. Martin
END:VEVENT
BEGIN:VEVENT
UID:sabre-vobject-0a706df8-11ba-4059-834a-a5c4bf18392c
DTSTAMP:20260424T053955Z
SUMMARY:Bittgang von der Pfarrkirche zur "Liabwoanad Frau"
DESCRIPTION:https://www2.bistum-augsburg.de/gottesdienste/bittgang-von-der-
 pfarrkirche-zur-liabwoanad-frau_id1731087
DTSTART;TZID=Europe/Berlin:20260512T180000
DURATION:PT30M
LOCATION:St. Martin
END:VEVENT
BEGIN:VEVENT
UID:sabre-vobject-6e9e5cc9-13c3-418f-a8e8-f6d10644617e
DTSTAMP:20260424T053955Z
SUMMARY:Heilige Messe
DESCRIPTION:https://www2.bistum-augsburg.de/gottesdienste/heilige-messe_id1
 731088
DTSTART;TZID=Europe/Berlin:20260512T183000
DURATION:PT30M
LOCATION:St. Martin
END:VEVENT
BEGIN:VEVENT
UID:sabre-vobject-4cd78f86-795d-4634-bdf4-ddc648910369
DTSTAMP:20260424T053955Z
SUMMARY:Heilige Messe in der Klinikkapelle
DESCRIPTION:https://www2.bistum-augsburg.de/gottesdienste/heilige-messe-in-
 der-klinikkapelle_id1731089
DTSTART;TZID=Europe/Berlin:20260513T191500
DURATION:PT30M
LOCATION:St. Martin
END:VEVENT
BEGIN:VEVENT
UID:sabre-vobject-992ef519-2559-41b9-87ff-4b4adcefcde6
DTSTAMP:20260424T053955Z
SUMMARY:Festgottesdienst\nanschl. Flurumgang durch den Bernrieder Park
DESCRIPTION:https://www2.bistum-augsburg.de/gottesdienste/festgottesdienst-
 anschl-flurumgang-durch-den-bernrieder-park_id1731091
DTSTART;TZID=Europe/Berlin:20260514T084500
DURATION:PT30M
LOCATION:St. Martin
END:VEVENT
BEGIN:VEVENT
UID:sabre-vobject-4877331c-4d74-442d-abe3-4a808e252df5
DTSTAMP:20260424T053955Z
SUMMARY:Pfarrgottesdienst
DESCRIPTION:https://www2.bistum-augsburg.de/gottesdienste/pfarrgottesdienst
 _id1731103
DTSTART;TZID=Europe/Berlin:20260517T084500
DURATION:PT30M
LOCATION:St. Martin
END:VEVENT
BEGIN:VEVENT
UID:sabre-vobject-fa2730b2-d126-4001-a1f6-3e7b7ede3fce
DTSTAMP:20260424T053955Z
SUMMARY:Wortgottesdienst in der Klinikkapelle\n
DESCRIPTION:https://www2.bistum-augsburg.de/gottesdienste/wortgottesdienst-
 in-der-klinikkapelle_id1731104
DTSTART;TZID=Europe/Berlin:20260517T110000
DURATION:PT30M
LOCATION:St. Martin
END:VEVENT
BEGIN:VEVENT
UID:sabre-vobject-dba8f193-c525-4229-85cd-822bb6e996e8
DTSTAMP:20260424T053955Z
SUMMARY:Maiandacht an der Pestkapelle
DESCRIPTION:https://www2.bistum-augsburg.de/gottesdienste/maiandacht-an-der
 -pestkapelle_id1731105
DTSTART;TZID=Europe/Berlin:20260517T183000
DURATION:PT30M
LOCATION:St. Martin
END:VEVENT
BEGIN:VEVENT
UID:sabre-vobject-807b375f-ad96-4a7e-8bd9-b267f30dea94
DTSTAMP:20260424T053955Z
SUMMARY:Beichtgelegenheit
DESCRIPTION:https://www2.bistum-augsburg.de/gottesdienste/beichtgelegenheit
 _id1731155
DTSTART;TZID=Europe/Berlin:20260519T180000
DURATION:PT30M
LOCATION:St. Martin
END:VEVENT
BEGIN:VEVENT
UID:sabre-vobject-227d4df2-2bc0-48ac-8150-638b2b65dab8
DTSTAMP:20260424T053955Z
SUMMARY:Heilige Messe
DESCRIPTION:https://www2.bistum-augsburg.de/gottesdienste/heilige-messe_id1
 731156
DTSTART;TZID=Europe/Berlin:20260519T183000
DURATION:PT30M
LOCATION:St. Martin
END:VEVENT
BEGIN:VEVENT
UID:sabre-vobject-18aa1bb1-ab1c-4388-b9a4-959ec7c53998
DTSTAMP:20260424T053955Z
SUMMARY:Ökumenischer Gottesdienst i.d. Klosterkapelle
DESCRIPTION:https://www2.bistum-augsburg.de/gottesdienste/oekumenischer-got
 tesdienst-i-d-klosterkapelle_id1731157
DTSTART;TZID=Europe/Berlin:20260520T190000
DURATION:PT30M
LOCATION:St. Martin
END:VEVENT
BEGIN:VEVENT
UID:sabre-vobject-0d718a31-8868-4205-89ad-c37b15cbd414
DTSTAMP:20260424T053955Z
SUMMARY:Heilige Messe in der Klinikkapelle
DESCRIPTION:https://www2.bistum-augsburg.de/gottesdienste/heilige-messe-in-
 der-klinikkapelle_id1731158
DTSTART;TZID=Europe/Berlin:20260520T191500
DURATION:PT30M
LOCATION:St. Martin
END:VEVENT
BEGIN:VEVENT
UID:sabre-vobject-bbc18f42-b03e-4a07-916c-d0604eb950f8
DTSTAMP:20260424T053955Z
SUMMARY:Festgottesdienst
DESCRIPTION:https://www2.bistum-augsburg.de/gottesdienste/festgottesdienst_
 id1731178
DTSTART;TZID=Europe/Berlin:20260524T084500
DURATION:PT30M
LOCATION:St. Martin
END:VEVENT
BEGIN:VEVENT
UID:sabre-vobject-c8464bbb-ade5-4068-a835-4b0769241685
DTSTAMP:20260424T053955Z
SUMMARY:Heilige Messe in der Klinikkapelle
DESCRIPTION:https://www2.bistum-augsburg.de/gottesdienste/heilige-messe-in-
 der-klinikkapelle_id1731172
DTSTART;TZID=Europe/Berlin:20260524T110000
DURATION:PT30M
LOCATION:St. Martin
END:VEVENT
BEGIN:VEVENT
UID:sabre-vobject-5c3a0298-d125-4c67-aef3-3e252f49475c
DTSTAMP:20260424T053955Z
SUMMARY:Maiandacht
DESCRIPTION:https://www2.bistum-augsburg.de/gottesdienste/maiandacht_id1731
 173
DTSTART;TZID=Europe/Berlin:20260524T183000
DURATION:PT30M
LOCATION:St. Martin
END:VEVENT
BEGIN:VEVENT
UID:sabre-vobject-1451d425-52b4-44b3-ae68-81416140395a
DTSTAMP:20260424T053955Z
SUMMARY:Pfarrgottesdienst
DESCRIPTION:https://www2.bistum-augsburg.de/gottesdienste/pfarrgottesdienst
 _id1731174
DTSTART;TZID=Europe/Berlin:20260525T084500
DURATION:PT30M
LOCATION:St. Martin
END:VEVENT
BEGIN:VEVENT
UID:sabre-vobject-a1771f21-a4fa-4c63-a409-4ab147f76f10
DTSTAMP:20260424T053955Z
SUMMARY:Beichtgelegenheit
DESCRIPTION:https://www2.bistum-augsburg.de/gottesdienste/beichtgelegenheit
 _id1731175
DTSTART;TZID=Europe/Berlin:20260526T180000
DURATION:PT30M
LOCATION:St. Martin
END:VEVENT
BEGIN:VEVENT
UID:sabre-vobject-66cb2bd3-fffa-4290-a831-76b5a131fb7b
DTSTAMP:20260424T053955Z
SUMMARY:Heilige Messe
DESCRIPTION:https://www2.bistum-augsburg.de/gottesdienste/heilige-messe_id1
 731176
DTSTART;TZID=Europe/Berlin:20260526T183000
DURATION:PT30M
LOCATION:St. Martin
END:VEVENT
BEGIN:VEVENT
UID:sabre-vobject-1c0cdc2a-b895-434b-9d14-d38b8f447137
DTSTAMP:20260424T053955Z
SUMMARY:Heilige Messe in der Klinikkapelle
DESCRIPTION:https://www2.bistum-augsburg.de/gottesdienste/heilige-messe-in-
 der-klinikkapelle_id1731177
DTSTART;TZID=Europe/Berlin:20260531T090000
DURATION:PT30M
LOCATION:St. Martin
END:VEVENT
BEGIN:VEVENT
UID:sabre-vobject-94adbb08-0096-4a5b-9bec-e60396597e80
DTSTAMP:20260424T053955Z
SUMMARY:Familiengottesdienst
DESCRIPTION:https://www2.bistum-augsburg.de/gottesdienste/familiengottesdie
 nst_id1731179
DTSTART;TZID=Europe/Berlin:20260531T101500
DURATION:PT30M
LOCATION:St. Martin
END:VEVENT
BEGIN:VEVENT
UID:sabre-vobject-ef7d80e6-04cd-4221-a736-00ded6fd51f7
DTSTAMP:20260424T053955Z
SUMMARY:Maiandacht mit Robert Ischwang und Werner Dirr\, Kanidat f. d. Stä
 ndigen Diakonat
DESCRIPTION:https://www2.bistum-augsburg.de/gottesdienste/maiandacht-mit-ro
 bert-ischwang-und-werner-dirr-kanidat-f-d-staendigen-diakonat_id1731012
DTSTART;TZID=Europe/Berlin:20260531T183000
DURATION:PT30M
LOCATION:St. Martin
END:VEVENT
BEGIN:VEVENT
UID:sabre-vobject-33280b1f-f137-438a-8b67-6b5e43c536de
DTSTAMP:20260424T053955Z
SUMMARY:Beichtgelegenheit
DESCRIPTION:https://www2.bistum-augsburg.de/gottesdienste/beichtgelegenheit
 _id1731013
DTSTART;TZID=Europe/Berlin:20260602T180000
DURATION:PT30M
LOCATION:St. Martin
END:VEVENT
BEGIN:VEVENT
UID:sabre-vobject-d41541b4-c07b-485b-ba25-0355e2d4be57
DTSTAMP:20260424T053955Z
SUMMARY:Heilige Messe
DESCRIPTION:https://www2.bistum-augsburg.de/gottesdienste/heilige-messe_id1
 731014
DTSTART;TZID=Europe/Berlin:20260602T183000
DURATION:PT30M
LOCATION:St. Martin
END:VEVENT
BEGIN:VEVENT
UID:sabre-vobject-878b0bdb-aa45-4823-b94f-fc356a08400f
DTSTAMP:20260424T053955Z
SUMMARY:Hl. Messe mit Fronleichnamsprozession   \n
DESCRIPTION:https://www2.bistum-augsburg.de/gottesdienste/hl-messe-mit-fron
 leichnamsprozession_id1731015
DTSTART;TZID=Europe/Berlin:20260603T190000
DURATION:PT30M
LOCATION:St. Martin
END:VEVENT
BEGIN:VEVENT
UID:sabre-vobject-8271119a-89cd-43b1-b98b-d14f54eda6a9
DTSTAMP:20260424T053955Z
SUMMARY:Pfarrgottesdienst mit Monatsprozession
DESCRIPTION:https://www2.bistum-augsburg.de/gottesdienste/pfarrgottesdienst
 -mit-monatsprozession_id1731222
DTSTART;TZID=Europe/Berlin:20260607T084500
DURATION:PT30M
LOCATION:St. Martin
END:VEVENT
END:VCALENDAR
