BEGIN:VCALENDAR
VERSION:2.0
PRODID:-//Sabre//Sabre VObject 4.5.8//EN
CALSCALE:GREGORIAN
NAME:Bistum Augsburg
X-WR-CALNAME:Bistum Augsburg
BEGIN:VEVENT
UID:sabre-vobject-52b154d7-eb52-4b32-a9eb-2014fd77d19b
DTSTAMP:20260423T093558Z
SUMMARY:E R S T K O M M U N I O N F E I E R
DESCRIPTION:https://www2.bistum-augsburg.de/gottesdienste/e-r-s-t-k-o-m-m-u
 -n-i-o-n-f-e-i-e-r_id1730395
DTSTART;TZID=Europe/Berlin:20260426T100000
DURATION:PT30M
LOCATION:Mariä Himmelfahrt\, Kirchplatz 8\, 82269 Walleshausen
END:VEVENT
BEGIN:VEVENT
UID:sabre-vobject-0553ecc8-ff77-4e33-bf83-1b7802747a3c
DTSTAMP:20260423T093558Z
SUMMARY:Holy Hour\, eucharistische Anbetung mit biblischen Impulsen
DESCRIPTION:https://www2.bistum-augsburg.de/gottesdienste/holy-hour-euchari
 stische-anbetung-mit-biblischen-impulsen_id1730396
DTSTART;TZID=Europe/Berlin:20260426T190000
DURATION:PT30M
LOCATION:Mariä Himmelfahrt\, Kirchplatz 8\, 82269 Walleshausen
END:VEVENT
BEGIN:VEVENT
UID:sabre-vobject-cb2eb3c7-479c-442c-ba4f-e15e2a3b24d2
DTSTAMP:20260423T093558Z
SUMMARY:Eucharistiefeier
DESCRIPTION:https://www2.bistum-augsburg.de/gottesdienste/eucharistiefeier_
 id1730397
DTSTART;TZID=Europe/Berlin:20260501T100000
DURATION:PT30M
LOCATION:Mariä Himmelfahrt\, Kirchplatz 8\, 82269 Walleshausen
END:VEVENT
BEGIN:VEVENT
UID:sabre-vobject-7290cbde-111e-4abe-b2e6-92bff88d281d
DTSTAMP:20260423T093558Z
SUMMARY:Pfarrgottesdienst
DESCRIPTION:https://www2.bistum-augsburg.de/gottesdienste/pfarrgottesdienst
 _id1730398
DTSTART;TZID=Europe/Berlin:20260503T100000
DURATION:PT30M
LOCATION:Mariä Himmelfahrt\, Kirchplatz 8\, 82269 Walleshausen
END:VEVENT
BEGIN:VEVENT
UID:sabre-vobject-e181e482-5f15-4bc4-b499-4a47b8474390
DTSTAMP:20260423T093558Z
SUMMARY:Tauffeier von Carla Marie Winter
DESCRIPTION:https://www2.bistum-augsburg.de/gottesdienste/tauffeier-von-car
 la-marie-winter_id1730399
DTSTART;TZID=Europe/Berlin:20260503T111500
DURATION:PT30M
LOCATION:Mariä Himmelfahrt\, Kirchplatz 8\, 82269 Walleshausen
END:VEVENT
BEGIN:VEVENT
UID:sabre-vobject-6a8a7bc4-213b-4d07-9d17-f6b67aca5e6e
DTSTAMP:20260423T093558Z
SUMMARY:Vorabendmesse
DESCRIPTION:https://www2.bistum-augsburg.de/gottesdienste/vorabendmesse_id1
 730400
DTSTART;TZID=Europe/Berlin:20260509T183000
DURATION:PT30M
LOCATION:Mariä Himmelfahrt\, Kirchplatz 8\, 82269 Walleshausen
END:VEVENT
BEGIN:VEVENT
UID:sabre-vobject-7dfc27ce-f27f-4f50-a8da-593482e5bf52
DTSTAMP:20260423T093558Z
SUMMARY:Kinderkirche
DESCRIPTION:https://www2.bistum-augsburg.de/gottesdienste/kinderkirche_id17
 30401
DTSTART;TZID=Europe/Berlin:20260510T100000
DURATION:PT30M
LOCATION:Mariä Himmelfahrt\, Kirchplatz 8\, 82269 Walleshausen
END:VEVENT
BEGIN:VEVENT
UID:sabre-vobject-57f552e4-6549-4ff2-8839-cd1526a333a4
DTSTAMP:20260423T093558Z
SUMMARY:Maiandacht gest. vom WGF-Team\, bei schönem Wetter an der Lourdesg
 rotte
DESCRIPTION:https://www2.bistum-augsburg.de/gottesdienste/maiandacht-gest-v
 om-wgf-team-bei-schoenem-wetter-an-der-lourdesgrotte_id1730403
DTSTART;TZID=Europe/Berlin:20260510T183000
DURATION:PT30M
LOCATION:Mariä Himmelfahrt\, Kirchplatz 8\, 82269 Walleshausen
END:VEVENT
BEGIN:VEVENT
UID:sabre-vobject-b8dabc4b-db85-4985-bd86-a56951ac7178
DTSTAMP:20260423T093558Z
SUMMARY:Fatimarosenkranz\, bei schönem Wetter an der Lourdesgrotte
DESCRIPTION:https://www2.bistum-augsburg.de/gottesdienste/fatimarosenkranz-
 bei-schoenem-wetter-an-der-lourdesgrotte_id1730404
DTSTART;TZID=Europe/Berlin:20260511T160000
DURATION:PT30M
LOCATION:Mariä Himmelfahrt\, Kirchplatz 8\, 82269 Walleshausen
END:VEVENT
BEGIN:VEVENT
UID:sabre-vobject-e6a57b1f-3b42-4058-a00e-0b2799daabb6
DTSTAMP:20260423T093558Z
SUMMARY:Bittgang nach Petzenhofen
DESCRIPTION:https://www2.bistum-augsburg.de/gottesdienste/bittgang-nach-pet
 zenhofen_id1730405
DTSTART;TZID=Europe/Berlin:20260512T183000
DURATION:PT30M
LOCATION:Mariä Himmelfahrt\, Kirchplatz 8\, 82269 Walleshausen
END:VEVENT
BEGIN:VEVENT
UID:sabre-vobject-954e9fad-c173-44fd-ae5b-5ea976f9f7eb
DTSTAMP:20260423T093558Z
SUMMARY:Eucharistiefeier
DESCRIPTION:https://www2.bistum-augsburg.de/gottesdienste/eucharistiefeier_
 id1730406
DTSTART;TZID=Europe/Berlin:20260512T190000
DURATION:PT30M
LOCATION:Mariä Himmelfahrt\, Kirchplatz 8\, 82269 Walleshausen
END:VEVENT
BEGIN:VEVENT
UID:sabre-vobject-62f8988b-474b-4edd-b690-28396447084a
DTSTAMP:20260423T093558Z
SUMMARY:Hochfestgottesdienst
DESCRIPTION:https://www2.bistum-augsburg.de/gottesdienste/hochfestgottesdie
 nst_id1730407
DTSTART;TZID=Europe/Berlin:20260514T083000
DURATION:PT30M
LOCATION:Mariä Himmelfahrt\, Kirchplatz 8\, 82269 Walleshausen
END:VEVENT
BEGIN:VEVENT
UID:sabre-vobject-abc69411-3fb4-4335-91c3-143dd9036508
DTSTAMP:20260423T093558Z
SUMMARY:Maiandacht gest. vom WGF-Team\, bei schönem Wetter an der Lourdesg
 rotte
DESCRIPTION:https://www2.bistum-augsburg.de/gottesdienste/maiandacht-gest-v
 om-wgf-team-bei-schoenem-wetter-an-der-lourdesgrotte_id1730393
DTSTART;TZID=Europe/Berlin:20260514T183000
DURATION:PT30M
LOCATION:Mariä Himmelfahrt\, Kirchplatz 8\, 82269 Walleshausen
END:VEVENT
BEGIN:VEVENT
UID:sabre-vobject-496f22cc-87b3-483b-af2c-43ef9e430d6f
DTSTAMP:20260423T093558Z
SUMMARY:Festgottesdienst zum Patrozinium
DESCRIPTION:https://www2.bistum-augsburg.de/gottesdienste/festgottesdienst-
 zum-patrozinium_id1730402
DTSTART;TZID=Europe/Berlin:20260517T100000
DURATION:PT30M
LOCATION:Mariä Himmelfahrt\, Kirchplatz 8\, 82269 Walleshausen
END:VEVENT
BEGIN:VEVENT
UID:sabre-vobject-1ef64b30-5a09-4d99-a550-616a99a1524d
DTSTAMP:20260423T093558Z
SUMMARY:Feierliche Maiandacht (musik.Gest.: Kirchenchor)
DESCRIPTION:https://www2.bistum-augsburg.de/gottesdienste/feierliche-maiand
 acht-musik-gest-kirchenchor_id1729896
DTSTART;TZID=Europe/Berlin:20260517T183000
DURATION:PT30M
LOCATION:Mariä Himmelfahrt\, Kirchplatz 8\, 82269 Walleshausen
END:VEVENT
BEGIN:VEVENT
UID:sabre-vobject-de4c6cbb-1218-4c21-8dfd-68e3696ed643
DTSTAMP:20260423T093558Z
SUMMARY:Hochfestgottesdienst
DESCRIPTION:https://www2.bistum-augsburg.de/gottesdienste/hochfestgottesdie
 nst_id1729897
DTSTART;TZID=Europe/Berlin:20260524T083000
DURATION:PT30M
LOCATION:Mariä Himmelfahrt\, Kirchplatz 8\, 82269 Walleshausen
END:VEVENT
BEGIN:VEVENT
UID:sabre-vobject-a56df99f-06c3-4718-a1cc-e27b8e8fbebd
DTSTAMP:20260423T093558Z
SUMMARY:Holy Hour\, eucharistische Anbetung mit biblischen Impulsen
DESCRIPTION:https://www2.bistum-augsburg.de/gottesdienste/holy-hour-euchari
 stische-anbetung-mit-biblischen-impulsen_id1729898
DTSTART;TZID=Europe/Berlin:20260524T190000
DURATION:PT30M
LOCATION:Mariä Himmelfahrt\, Kirchplatz 8\, 82269 Walleshausen
END:VEVENT
BEGIN:VEVENT
UID:sabre-vobject-2c2bd07b-e679-428f-a399-2163ca0b9d00
DTSTAMP:20260423T093558Z
SUMMARY:Maiandacht gest. vom WGF-Team\, bei schönem Wetter an der Lourdesg
 rotte
DESCRIPTION:https://www2.bistum-augsburg.de/gottesdienste/maiandacht-gest-v
 om-wgf-team-bei-schoenem-wetter-an-der-lourdesgrotte_id1729899
DTSTART;TZID=Europe/Berlin:20260525T183000
DURATION:PT30M
LOCATION:Mariä Himmelfahrt\, Kirchplatz 8\, 82269 Walleshausen
END:VEVENT
BEGIN:VEVENT
UID:sabre-vobject-fb34dc17-66a2-4465-ab0a-991b4ed67bc4
DTSTAMP:20260423T093558Z
SUMMARY:Eucharistiefeier
DESCRIPTION:https://www2.bistum-augsburg.de/gottesdienste/eucharistiefeier_
 id1729900
DTSTART;TZID=Europe/Berlin:20260526T183000
DURATION:PT30M
LOCATION:Mariä Himmelfahrt\, Kirchplatz 8\, 82269 Walleshausen
END:VEVENT
BEGIN:VEVENT
UID:sabre-vobject-cc0a6144-8c7f-49ae-97bd-556d6fa2e4c3
DTSTAMP:20260423T093558Z
SUMMARY:Eucharistiefeier
DESCRIPTION:https://www2.bistum-augsburg.de/gottesdienste/eucharistiefeier_
 id1729948
DTSTART;TZID=Europe/Berlin:20260531T100000
DURATION:PT30M
LOCATION:Mariä Himmelfahrt\, Kirchplatz 8\, 82269 Walleshausen
END:VEVENT
BEGIN:VEVENT
UID:sabre-vobject-fdbb3b72-e7e5-470c-8847-ced18e7777cc
DTSTAMP:20260423T093558Z
SUMMARY:Maiandacht gest. vom WGF-Team\, bei schönem Wetter an der Lourdesg
 rotte
DESCRIPTION:https://www2.bistum-augsburg.de/gottesdienste/maiandacht-gest-v
 om-wgf-team-bei-schoenem-wetter-an-der-lourdesgrotte_id1729949
DTSTART;TZID=Europe/Berlin:20260531T183000
DURATION:PT30M
LOCATION:Mariä Himmelfahrt\, Kirchplatz 8\, 82269 Walleshausen
END:VEVENT
BEGIN:VEVENT
UID:sabre-vobject-a6c54d62-4650-4730-806f-3b9c8a825746
DTSTAMP:20260423T093558Z
SUMMARY:Hochfestgottesdienst anschl. Fronleichnamsprozession
DESCRIPTION:https://www2.bistum-augsburg.de/gottesdienste/hochfestgottesdie
 nst-anschl-fronleichnamsprozession_id1729950
DTSTART;TZID=Europe/Berlin:20260604T083000
DURATION:PT30M
LOCATION:Mariä Himmelfahrt\, Kirchplatz 8\, 82269 Walleshausen
END:VEVENT
END:VCALENDAR
