BEGIN:VCALENDAR
VERSION:2.0
PRODID:-//Sabre//Sabre VObject 4.5.8//EN
CALSCALE:GREGORIAN
NAME:Bistum Augsburg
X-WR-CALNAME:Bistum Augsburg
BEGIN:VEVENT
UID:sabre-vobject-15e37d6b-afa0-4855-a03e-0b8735285e37
DTSTAMP:20260425T144315Z
SUMMARY:ERSTKOMMUNION
DESCRIPTION:https://www2.bistum-augsburg.de/gottesdienste/erstkommunion_id1
 725402
DTSTART;TZID=Europe/Berlin:20260426T100000
DURATION:PT30M
LOCATION:St. Peter und Paul
END:VEVENT
BEGIN:VEVENT
UID:sabre-vobject-b3a387bd-7b9b-4dcd-9841-d0174e7d87ff
DTSTAMP:20260425T144315Z
SUMMARY:Kommunionausflug
DESCRIPTION:https://www2.bistum-augsburg.de/gottesdienste/kommunionausflug_
 id1725403
DTSTART;TZID=Europe/Berlin:20260427T080000
DURATION:PT30M
LOCATION:St. Peter und Paul
END:VEVENT
BEGIN:VEVENT
UID:sabre-vobject-23d66831-6622-49c3-9078-4b491851c3cd
DTSTAMP:20260425T144315Z
SUMMARY:Rosenkranz
DESCRIPTION:https://www2.bistum-augsburg.de/gottesdienste/rosenkranz_id1725
 404
DTSTART;TZID=Europe/Berlin:20260428T183000
DURATION:PT30M
LOCATION:St. Peter und Paul
END:VEVENT
BEGIN:VEVENT
UID:sabre-vobject-bf8819ed-2952-4780-92cf-69ae1c96f78e
DTSTAMP:20260425T144315Z
SUMMARY:Abendmesse
DESCRIPTION:https://www2.bistum-augsburg.de/gottesdienste/abendmesse_id1725
 405
DTSTART;TZID=Europe/Berlin:20260428T190000
DURATION:PT30M
LOCATION:St. Peter und Paul
END:VEVENT
BEGIN:VEVENT
UID:sabre-vobject-726b82e2-2509-48bb-bffb-176d1eed4322
DTSTAMP:20260425T144315Z
SUMMARY:Rosenkranz
DESCRIPTION:https://www2.bistum-augsburg.de/gottesdienste/rosenkranz_id1725
 417
DTSTART;TZID=Europe/Berlin:20260430T183000
DURATION:PT30M
LOCATION:St. Peter und Paul
END:VEVENT
BEGIN:VEVENT
UID:sabre-vobject-36ea416d-727f-4dcc-9e79-486bb9a3b21b
DTSTAMP:20260425T144315Z
SUMMARY:Maiandacht
DESCRIPTION:https://www2.bistum-augsburg.de/gottesdienste/maiandacht_id1725
 419
DTSTART;TZID=Europe/Berlin:20260501T180000
DURATION:PT30M
LOCATION:St. Peter und Paul
END:VEVENT
BEGIN:VEVENT
UID:sabre-vobject-8d25561e-9c3f-409f-86a2-1b949218c37a
DTSTAMP:20260425T144315Z
SUMMARY:Rosenkranz
DESCRIPTION:https://www2.bistum-augsburg.de/gottesdienste/rosenkranz_id1725
 420
DTSTART;TZID=Europe/Berlin:20260502T173000
DURATION:PT30M
LOCATION:St. Peter und Paul
END:VEVENT
BEGIN:VEVENT
UID:sabre-vobject-5f4bc773-558c-4b63-a7d1-cc80818dfe76
DTSTAMP:20260425T144315Z
SUMMARY:Vorabendmesse
DESCRIPTION:https://www2.bistum-augsburg.de/gottesdienste/vorabendmesse_id1
 725418
DTSTART;TZID=Europe/Berlin:20260502T180000
DURATION:PT30M
LOCATION:St. Peter und Paul
END:VEVENT
END:VCALENDAR
