BEGIN:VCALENDAR
VERSION:2.0
PRODID:-//Sabre//Sabre VObject 4.5.8//EN
CALSCALE:GREGORIAN
NAME:Bistum Augsburg
X-WR-CALNAME:Bistum Augsburg
BEGIN:VEVENT
UID:sabre-vobject-5dc4508a-d72e-47e2-be0c-db1e6febc936
DTSTAMP:20260423T075711Z
SUMMARY:Hl. Messe mit den Kommunionkindern mit Gebetsbitte für die verst. 
 Angehörigen der Erstkommunionkinder
DESCRIPTION:https://www2.bistum-augsburg.de/gottesdienste/hl-messe-mit-den-
 kommunionkindern-mit-gebetsbitte-fuer-die-verst-angehoerigen-der-erstkommu
 nionkinder_id1727311
DTSTART;TZID=Europe/Berlin:20260424T170000
DURATION:PT30M
LOCATION:St. Nikolaus\, Kirchweg 12\, 86944 Unterdießen
END:VEVENT
BEGIN:VEVENT
UID:sabre-vobject-7e47968d-f55e-42fd-a280-04ca9cbb0272
DTSTAMP:20260423T075711Z
SUMMARY:Rosenkranz
DESCRIPTION:https://www2.bistum-augsburg.de/gottesdienste/rosenkranz_id1727
 312
DTSTART;TZID=Europe/Berlin:20260425T160000
DURATION:PT30M
LOCATION:St. Nikolaus\, Kirchweg 12\, 86944 Unterdießen
END:VEVENT
BEGIN:VEVENT
UID:sabre-vobject-8e624e41-3400-49fe-b3ae-1dc33e40e37d
DTSTAMP:20260423T075711Z
SUMMARY:Feierliche Erstkommunion (Cantarella)
DESCRIPTION:https://www2.bistum-augsburg.de/gottesdienste/feierliche-erstko
 mmunion-cantarella_id1727313
DTSTART;TZID=Europe/Berlin:20260426T101500
DURATION:PT30M
LOCATION:St. Nikolaus\, Kirchweg 12\, 86944 Unterdießen
END:VEVENT
BEGIN:VEVENT
UID:sabre-vobject-b3b1dd0e-00a6-4088-b6b9-d174c5a13f90
DTSTAMP:20260423T075711Z
SUMMARY:Andacht in den Anliegen um Priester- und Ordensberufe
DESCRIPTION:https://www2.bistum-augsburg.de/gottesdienste/andacht-in-den-an
 liegen-um-priester-und-ordensberufe_id1730474
DTSTART;TZID=Europe/Berlin:20260430T191500
DURATION:PT30M
LOCATION:St. Nikolaus\, Kirchweg 12\, 86944 Unterdießen
END:VEVENT
BEGIN:VEVENT
UID:sabre-vobject-8e3479a0-6c0c-41b0-ad94-e451c3d6c1ee
DTSTAMP:20260423T075711Z
SUMMARY:Rosenkranz
DESCRIPTION:https://www2.bistum-augsburg.de/gottesdienste/rosenkranz_id1730
 475
DTSTART;TZID=Europe/Berlin:20260502T160000
DURATION:PT30M
LOCATION:St. Nikolaus\, Kirchweg 12\, 86944 Unterdießen
END:VEVENT
BEGIN:VEVENT
UID:sabre-vobject-8b6f4b12-2833-43b2-ad13-080d156a07f4
DTSTAMP:20260423T075711Z
SUMMARY:Pfarrgottesdienst
DESCRIPTION:https://www2.bistum-augsburg.de/gottesdienste/pfarrgottesdienst
 _id1730476
DTSTART;TZID=Europe/Berlin:20260503T084500
DURATION:PT30M
LOCATION:St. Nikolaus\, Kirchweg 12\, 86944 Unterdießen
END:VEVENT
BEGIN:VEVENT
UID:sabre-vobject-e4112960-efb0-4bc2-93a7-8e6dec9818c5
DTSTAMP:20260423T075711Z
SUMMARY:Hl. Messe mit Gebetsbitte für
DESCRIPTION:https://www2.bistum-augsburg.de/gottesdienste/hl-messe-mit-gebe
 tsbitte-fuer_id1730477
DTSTART;TZID=Europe/Berlin:20260508T191500
DURATION:PT30M
LOCATION:St. Nikolaus\, Kirchweg 12\, 86944 Unterdießen
END:VEVENT
BEGIN:VEVENT
UID:sabre-vobject-943f0f78-a41f-45a5-9375-7ef2d88ddc2f
DTSTAMP:20260423T075711Z
SUMMARY:Beichte und Rosenkranz\, Vorabendmesse mit Gebetsbitte für
DESCRIPTION:https://www2.bistum-augsburg.de/gottesdienste/beichte-und-rosen
 kranz-vorabendmesse-mit-gebetsbitte-fuer_id1730478
DTSTART;TZID=Europe/Berlin:20260509T184500
DURATION:PT30M
LOCATION:St. Nikolaus\, Kirchweg 12\, 86944 Unterdießen
END:VEVENT
BEGIN:VEVENT
UID:sabre-vobject-99cd974a-6471-4c48-aefe-47b859599fc9
DTSTAMP:20260423T075711Z
SUMMARY:Maiandacht gestaltet vom Liturgiekreis
DESCRIPTION:https://www2.bistum-augsburg.de/gottesdienste/maiandacht-gestal
 tet-vom-liturgiekreis_id1730470
DTSTART;TZID=Europe/Berlin:20260510T191500
DURATION:PT30M
LOCATION:St. Nikolaus\, Kirchweg 12\, 86944 Unterdießen
END:VEVENT
END:VCALENDAR
