BEGIN:VCALENDAR
VERSION:2.0
PRODID:-//Sabre//Sabre VObject 4.5.8//EN
CALSCALE:GREGORIAN
NAME:Bistum Augsburg
X-WR-CALNAME:Bistum Augsburg
BEGIN:VEVENT
UID:sabre-vobject-7f59a586-1f54-4e3b-8b83-a84ff13efa50
DTSTAMP:20260425T123556Z
SUMMARY:Sonntägliche Eucharistiefeier mit Erstkommunion
DESCRIPTION:https://www2.bistum-augsburg.de/gottesdienste/sonntaegliche-euc
 haristiefeier-mit-erstkommunion_id1705952
DTSTART;TZID=Europe/Berlin:20260426T100000
DURATION:PT30M
LOCATION:St. Johannes Baptist
END:VEVENT
BEGIN:VEVENT
UID:sabre-vobject-8915b9ba-0905-4863-a065-105b7f8cdda0
DTSTAMP:20260425T123556Z
SUMMARY:Sonntägliche Eucharistiefeier mit Erstkommunion
DESCRIPTION:https://www2.bistum-augsburg.de/gottesdienste/sonntaegliche-euc
 haristiefeier-mit-erstkommunion_id1705993
DTSTART;TZID=Europe/Berlin:20260426T111500
DURATION:PT30M
LOCATION:St. Johannes Baptist
END:VEVENT
BEGIN:VEVENT
UID:sabre-vobject-cf6716d3-c28a-4e5d-98bf-601ec4bb5339
DTSTAMP:20260425T123556Z
SUMMARY:Rosenkranz
DESCRIPTION:https://www2.bistum-augsburg.de/gottesdienste/rosenkranz_id1705
 994
DTSTART;TZID=Europe/Berlin:20260429T180000
DURATION:PT30M
LOCATION:St. Johannes Baptist
END:VEVENT
BEGIN:VEVENT
UID:sabre-vobject-bdc29f0f-bbfe-4a1d-ae46-1f390a9aa272
DTSTAMP:20260425T123556Z
SUMMARY:Eucharistiefeier
DESCRIPTION:https://www2.bistum-augsburg.de/gottesdienste/eucharistiefeier_
 id1705995
DTSTART;TZID=Europe/Berlin:20260429T183000
DURATION:PT30M
LOCATION:St. Johannes Baptist
END:VEVENT
BEGIN:VEVENT
UID:sabre-vobject-d1cf6f86-11ad-4b9e-8d85-8557224cfa00
DTSTAMP:20260425T123556Z
SUMMARY:Festliche Eucharistiefeier zu Ehren Josefs des Arbeiters\; anschl. 
 ökumen. Segnung des neuen Maibaums
DESCRIPTION:https://www2.bistum-augsburg.de/gottesdienste/festliche-euchari
 stiefeier-zu-ehren-josefs-des-arbeiters-anschl-oekumen-segnung-des-neuen-m
 aibaums_id1705996
DTSTART;TZID=Europe/Berlin:20260501T090000
DURATION:PT30M
LOCATION:St. Johannes Baptist
END:VEVENT
END:VCALENDAR
