BEGIN:VCALENDAR
VERSION:2.0
PRODID:-//Sabre//Sabre VObject 4.5.8//EN
CALSCALE:GREGORIAN
NAME:Bistum Augsburg
X-WR-CALNAME:Bistum Augsburg
BEGIN:VEVENT
UID:sabre-vobject-6854c4ae-f17f-4d26-b2e5-6d01bf644ec3
DTSTAMP:20260425T174446Z
SUMMARY:Beichtgelegenheit in Christkönig\, Weßling
DESCRIPTION:https://www2.bistum-augsburg.de/gottesdienste/beichtgelegenheit
 -in-christkoenig-wessling_id1685319
DTSTART;TZID=Europe/Berlin:20260425T174500
DURATION:PT30M
LOCATION:Christkönig
END:VEVENT
BEGIN:VEVENT
UID:sabre-vobject-ca93c22d-6b53-43c2-bc45-b08111e783d2
DTSTAMP:20260425T174446Z
SUMMARY:Heiliges Amt in Christkönig\, Weßling
DESCRIPTION:https://www2.bistum-augsburg.de/gottesdienste/heiliges-amt-in-c
 hristkoenig-wessling_id1685320
DTSTART;TZID=Europe/Berlin:20260426T090000
DURATION:PT30M
LOCATION:Christkönig
END:VEVENT
BEGIN:VEVENT
UID:sabre-vobject-9717de72-7934-4e1a-91ee-64b500b47ea0
DTSTAMP:20260425T174446Z
SUMMARY:Küchenrosenkranzgebet in Mariae Himmelfahrt\, Weßling
DESCRIPTION:https://www2.bistum-augsburg.de/gottesdienste/kuechenrosenkranz
 gebet-in-mariae-himmelfahrt-wessling_id1685321
DTSTART;TZID=Europe/Berlin:20260428T183000
DURATION:PT30M
LOCATION:Christkönig
END:VEVENT
BEGIN:VEVENT
UID:sabre-vobject-1cedb804-bf35-41ae-ab10-3229d50c3078
DTSTAMP:20260425T174446Z
SUMMARY:Heiliges Hochamt in Mariae Himmelfahrt\, Weßling - mit anschließe
 nder kurzer Aussetzung des Allerheiligsten
DESCRIPTION:https://www2.bistum-augsburg.de/gottesdienste/heiliges-hochamt-
 in-mariae-himmelfahrt-wessling-mit-anschliessender-kurzer-aussetzung-des-a
 llerheiligsten_id1685322
DTSTART;TZID=Europe/Berlin:20260430T190000
DURATION:PT30M
LOCATION:Christkönig
END:VEVENT
BEGIN:VEVENT
UID:sabre-vobject-2cf58ab6-4b30-4c38-b9ef-462d5f61abaf
DTSTAMP:20260425T174446Z
SUMMARY:Erste feierliche Maiandacht in Christkönig\, Weßling
DESCRIPTION:https://www2.bistum-augsburg.de/gottesdienste/erste-feierliche-
 maiandacht-in-christkoenig-wessling_id1685324
DTSTART;TZID=Europe/Berlin:20260501T190000
DURATION:PT30M
LOCATION:Christkönig
END:VEVENT
BEGIN:VEVENT
UID:sabre-vobject-a66ad490-33c0-41b3-bfff-4fcff4e485dc
DTSTAMP:20260425T174446Z
SUMMARY:Beichtgelegenheit in Christkönig\, Weßling
DESCRIPTION:https://www2.bistum-augsburg.de/gottesdienste/beichtgelegenheit
 -in-christkoenig-wessling_id1685325
DTSTART;TZID=Europe/Berlin:20260502T174500
DURATION:PT30M
LOCATION:Christkönig
END:VEVENT
BEGIN:VEVENT
UID:sabre-vobject-d489a663-c271-4837-99c5-4a5ce103ce07
DTSTAMP:20260425T174446Z
SUMMARY:Heiliges Amt in Christkönig\, Weßling - Verabschiedung der ausges
 chiedenen Pfarrgemeinderatsmitglieder
DESCRIPTION:https://www2.bistum-augsburg.de/gottesdienste/heiliges-amt-in-c
 hristkoenig-wessling-verabschiedung-der-ausgeschiedenen-pfarrgemeinderatsm
 itglieder_id1685346
DTSTART;TZID=Europe/Berlin:20260503T103000
DURATION:PT30M
LOCATION:Christkönig
END:VEVENT
BEGIN:VEVENT
UID:sabre-vobject-71e7f33f-17e9-4a28-8877-927b4ba4a5d7
DTSTAMP:20260425T174446Z
SUMMARY:Küchenrosenkranzgebet in Mariae Himmelfahrt\, Weßling
DESCRIPTION:https://www2.bistum-augsburg.de/gottesdienste/kuechenrosenkranz
 gebet-in-mariae-himmelfahrt-wessling_id1685460
DTSTART;TZID=Europe/Berlin:20260505T183000
DURATION:PT30M
LOCATION:Christkönig
END:VEVENT
BEGIN:VEVENT
UID:sabre-vobject-57d8f278-3626-456b-a59b-0c2553ed477e
DTSTAMP:20260425T174446Z
SUMMARY:Heilige Messe in Mariae Himmelfahrt\, Weßling
DESCRIPTION:https://www2.bistum-augsburg.de/gottesdienste/heilige-messe-in-
 mariae-himmelfahrt-wessling_id1685564
DTSTART;TZID=Europe/Berlin:20260508T190000
DURATION:PT30M
LOCATION:Christkönig
END:VEVENT
BEGIN:VEVENT
UID:sabre-vobject-2012f614-3baa-4cbc-9df7-6e28d6abd6a7
DTSTAMP:20260425T174446Z
SUMMARY:ev. Taufe in Maria Hilf\, Grünsink
DESCRIPTION:https://www2.bistum-augsburg.de/gottesdienste/ev-taufe-in-maria
 -hilf-gruensink_id1685330
DTSTART;TZID=Europe/Berlin:20260509T140000
DURATION:PT30M
LOCATION:Christkönig
END:VEVENT
BEGIN:VEVENT
UID:sabre-vobject-df781f55-7b92-419b-9938-73f6b8836d28
DTSTAMP:20260425T174446Z
SUMMARY:Beichtgelegenheit in Christkönig\, Weßling
DESCRIPTION:https://www2.bistum-augsburg.de/gottesdienste/beichtgelegenheit
 -in-christkoenig-wessling_id1685331
DTSTART;TZID=Europe/Berlin:20260509T174500
DURATION:PT30M
LOCATION:Christkönig
END:VEVENT
BEGIN:VEVENT
UID:sabre-vobject-2476bb57-7bda-47f0-b830-f2abb47038d2
DTSTAMP:20260425T174446Z
SUMMARY:Heiliges Amt in Christkönig\, Weßling
DESCRIPTION:https://www2.bistum-augsburg.de/gottesdienste/heiliges-amt-in-c
 hristkoenig-wessling_id1685332
DTSTART;TZID=Europe/Berlin:20260510T103000
DURATION:PT30M
LOCATION:Christkönig
END:VEVENT
BEGIN:VEVENT
UID:sabre-vobject-d89cfb06-95f8-4424-bc67-9b7e6c3ad66b
DTSTAMP:20260425T174446Z
SUMMARY:Heilige Messe in Maria Hilf\, Grünsink (Bittgang der Pfarrgemeinde
  Wörthsee/Steinebach)
DESCRIPTION:https://www2.bistum-augsburg.de/gottesdienste/heilige-messe-in-
 maria-hilf-gruensink-bittgang-der-pfarrgemeinde-woerthsee-steinebach_id168
 5347
DTSTART;TZID=Europe/Berlin:20260511T080000
DURATION:PT30M
LOCATION:Christkönig
END:VEVENT
BEGIN:VEVENT
UID:sabre-vobject-b1717415-477f-41ca-9df9-81a715ed74fd
DTSTAMP:20260425T174446Z
SUMMARY:Bittgang von Christkönig\, Weßling nach Maria Hilf\, Grünsink (f
 ür Weßling\, Oberpfaffenhofen\, Hochstadt)
DESCRIPTION:https://www2.bistum-augsburg.de/gottesdienste/bittgang-von-chri
 stkoenig-wessling-nach-maria-hilf-gruensink-fuer-wessling-oberpfaffenhofen
 -hochstadt_id1685358
DTSTART;TZID=Europe/Berlin:20260511T183000
DURATION:PT30M
LOCATION:Christkönig
END:VEVENT
BEGIN:VEVENT
UID:sabre-vobject-58a551f5-5c2f-4fbb-9934-21fe43d077d1
DTSTAMP:20260425T174446Z
SUMMARY:Heilige Messe in Maria Hilf\, Grünsink
DESCRIPTION:https://www2.bistum-augsburg.de/gottesdienste/heilige-messe-in-
 maria-hilf-gruensink_id1685359
DTSTART;TZID=Europe/Berlin:20260511T190000
DURATION:PT30M
LOCATION:Christkönig
END:VEVENT
BEGIN:VEVENT
UID:sabre-vobject-59b0a72d-3bdd-4d0c-b5a5-511f59da469b
DTSTAMP:20260425T174446Z
SUMMARY:Küchenrosenkranzgebet in Mariae Himmelfahrt\, Weßling
DESCRIPTION:https://www2.bistum-augsburg.de/gottesdienste/kuechenrosenkranz
 gebet-in-mariae-himmelfahrt-wessling_id1685458
DTSTART;TZID=Europe/Berlin:20260512T183000
DURATION:PT30M
LOCATION:Christkönig
END:VEVENT
BEGIN:VEVENT
UID:sabre-vobject-bff7afa9-c841-4d9d-b5a9-f792d27a1f48
DTSTAMP:20260425T174446Z
SUMMARY:Heilige Messe in Mariae Himmelfahrt\, Weßling (Bittgang der Pfarrg
 emeinde Gilching)
DESCRIPTION:https://www2.bistum-augsburg.de/gottesdienste/heilige-messe-in-
 mariae-himmelfahrt-wessling-bittgang-der-pfarrgemeinde-gilching_id1685566
DTSTART;TZID=Europe/Berlin:20260512T190000
DURATION:PT30M
LOCATION:Christkönig
END:VEVENT
BEGIN:VEVENT
UID:sabre-vobject-f4f806bd-20bf-4bd6-8985-9389bbdee8f8
DTSTAMP:20260425T174446Z
SUMMARY:Heilige Messe in Maria Hilf\, Grünsink  (Bittgang der Pfarrgemeind
 e Inning)
DESCRIPTION:https://www2.bistum-augsburg.de/gottesdienste/heilige-messe-in-
 maria-hilf-gruensink-bittgang-der-pfarrgemeinde-inning_id1685537
DTSTART;TZID=Europe/Berlin:20260515T073000
DURATION:PT30M
LOCATION:Christkönig
END:VEVENT
BEGIN:VEVENT
UID:sabre-vobject-c1102ab4-2923-4587-8fbf-017a63fc79f6
DTSTAMP:20260425T174446Z
SUMMARY:Heilige Messe in Maria Hilf\, Grünsink - mit anschließender kurze
 r Maiandacht und Lichterprozession
DESCRIPTION:https://www2.bistum-augsburg.de/gottesdienste/heilige-messe-in-
 maria-hilf-gruensink-mit-anschliessender-kurzer-maiandacht-und-lichterproz
 ession_id1685538
DTSTART;TZID=Europe/Berlin:20260515T190000
DURATION:PT30M
LOCATION:Christkönig
END:VEVENT
BEGIN:VEVENT
UID:sabre-vobject-c8617059-5db8-4e01-a086-62fedaa06fa0
DTSTAMP:20260425T174446Z
SUMMARY:Beichtgelegenheit in Christkönig\, Weßling
DESCRIPTION:https://www2.bistum-augsburg.de/gottesdienste/beichtgelegenheit
 -in-christkoenig-wessling_id1685539
DTSTART;TZID=Europe/Berlin:20260516T174500
DURATION:PT30M
LOCATION:Christkönig
END:VEVENT
BEGIN:VEVENT
UID:sabre-vobject-802f511e-9746-4e34-8ab3-554ce9f00595
DTSTAMP:20260425T174446Z
SUMMARY:Heiliges Amt in Christkönig\, Weßling
DESCRIPTION:https://www2.bistum-augsburg.de/gottesdienste/heiliges-amt-in-c
 hristkoenig-wessling_id1685540
DTSTART;TZID=Europe/Berlin:20260517T103000
DURATION:PT30M
LOCATION:Christkönig
END:VEVENT
BEGIN:VEVENT
UID:sabre-vobject-90935935-4731-4135-8139-d4be3011b524
DTSTAMP:20260425T174446Z
SUMMARY:Küchenrosenkranzgebet in Mariae Himmelfahrt\, Weßling
DESCRIPTION:https://www2.bistum-augsburg.de/gottesdienste/kuechenrosenkranz
 gebet-in-mariae-himmelfahrt-wessling_id1685541
DTSTART;TZID=Europe/Berlin:20260519T183000
DURATION:PT30M
LOCATION:Christkönig
END:VEVENT
BEGIN:VEVENT
UID:sabre-vobject-898fbaaf-1533-41cc-8a81-308ff44032ed
DTSTAMP:20260425T174446Z
SUMMARY:Heilige Messe in Mariae Himmelfahrt\, Weßling - mit anschließende
 r kurzer Maiandacht
DESCRIPTION:https://www2.bistum-augsburg.de/gottesdienste/heilige-messe-in-
 mariae-himmelfahrt-wessling-mit-anschliessender-kurzer-maiandacht_id168533
 3
DTSTART;TZID=Europe/Berlin:20260522T190000
DURATION:PT30M
LOCATION:Christkönig
END:VEVENT
END:VCALENDAR
