BEGIN:VCALENDAR
VERSION:2.0
PRODID:-//Sabre//Sabre VObject 4.5.8//EN
CALSCALE:GREGORIAN
NAME:Bistum Augsburg
X-WR-CALNAME:Bistum Augsburg
BEGIN:VEVENT
UID:sabre-vobject-2763b902-9609-409e-bffd-ad0622882122
DTSTAMP:20260420T171632Z
SUMMARY:Rosenkranz für den Frieden (in d. Klosterkapelle)
DESCRIPTION:https://www2.bistum-augsburg.de/gottesdienste/rosenkranz-fuer-d
 en-frieden-in-d-klosterkapelle_id1713583
DTSTART;TZID=Europe/Berlin:20260420T180000
DURATION:PT30M
LOCATION:Heilig Kreuz
END:VEVENT
BEGIN:VEVENT
UID:sabre-vobject-eda4edca-de6e-41c7-8890-b68712d3b75b
DTSTAMP:20260420T171632Z
SUMMARY:Heilige Messe
DESCRIPTION:https://www2.bistum-augsburg.de/gottesdienste/heilige-messe_id1
 713495
DTSTART;TZID=Europe/Berlin:20260422T180000
DURATION:PT30M
LOCATION:Heilig Kreuz
END:VEVENT
BEGIN:VEVENT
UID:sabre-vobject-dfc6bd02-89b1-4866-a70f-b8e1730c2607
DTSTAMP:20260420T171632Z
SUMMARY:Feier der Erstkommunion f. Polling u. Oderding
DESCRIPTION:https://www2.bistum-augsburg.de/gottesdienste/feier-der-erstkom
 munion-f-polling-u-oderding_id1713496
DTSTART;TZID=Europe/Berlin:20260426T103000
DURATION:PT30M
LOCATION:Heilig Kreuz
END:VEVENT
BEGIN:VEVENT
UID:sabre-vobject-9846e274-b4bb-4a90-9fe6-4acc016a83b5
DTSTAMP:20260420T171632Z
SUMMARY:Rosenkranz für den Frieden (in d. Klosterkapelle)
DESCRIPTION:https://www2.bistum-augsburg.de/gottesdienste/rosenkranz-fuer-d
 en-frieden-in-d-klosterkapelle_id1713504
DTSTART;TZID=Europe/Berlin:20260427T180000
DURATION:PT30M
LOCATION:Heilig Kreuz
END:VEVENT
END:VCALENDAR
