BEGIN:VCALENDAR
VERSION:2.0
PRODID:-//Sabre//Sabre VObject 4.5.8//EN
CALSCALE:GREGORIAN
NAME:Bistum Augsburg
X-WR-CALNAME:Bistum Augsburg
BEGIN:VEVENT
UID:sabre-vobject-5df836b6-28be-44ed-ac3f-d88a593514b3
DTSTAMP:20260423T093533Z
SUMMARY:Rosenkranz
DESCRIPTION:https://www2.bistum-augsburg.de/gottesdienste/rosenkranz_id1731
 468
DTSTART;TZID=Europe/Berlin:20260426T082500
DURATION:PT30M
LOCATION:St. Walburga\, Philippus und Jakobus
END:VEVENT
BEGIN:VEVENT
UID:sabre-vobject-3e30c594-6330-4add-b26e-682336b9d114
DTSTAMP:20260423T093533Z
SUMMARY:Heilige Messe
DESCRIPTION:https://www2.bistum-augsburg.de/gottesdienste/heilige-messe_id1
 731469
DTSTART;TZID=Europe/Berlin:20260426T090000
DURATION:PT30M
LOCATION:St. Walburga\, Philippus und Jakobus
END:VEVENT
BEGIN:VEVENT
UID:sabre-vobject-b300b12f-b4ae-45bf-b75f-3f986e10b467
DTSTAMP:20260423T093533Z
SUMMARY:Heilige Messe
DESCRIPTION:https://www2.bistum-augsburg.de/gottesdienste/heilige-messe_id1
 731470
DTSTART;TZID=Europe/Berlin:20260428T083000
DURATION:PT30M
LOCATION:St. Walburga\, Philippus und Jakobus
END:VEVENT
END:VCALENDAR
