BEGIN:VCALENDAR
VERSION:2.0
PRODID:-//Sabre//Sabre VObject 4.5.8//EN
CALSCALE:GREGORIAN
NAME:Bistum Augsburg
X-WR-CALNAME:Bistum Augsburg
BEGIN:VEVENT
UID:sabre-vobject-007eec59-8a43-4885-8c1b-a10d4be804b0
DTSTAMP:20260423T111806Z
SUMMARY:Hl. Messe\, musik. Gestaltung der Gruppe Cantanti
DESCRIPTION:https://www2.bistum-augsburg.de/gottesdienste/hl-messe-musik-ge
 staltung-der-gruppe-cantanti_id1718111
DTSTART;TZID=Europe/Berlin:20260423T100000
DURATION:PT30M
LOCATION:St. Andreas
END:VEVENT
BEGIN:VEVENT
UID:sabre-vobject-7a0eaead-9a8e-4c1b-a218-acf6a1ef2f64
DTSTAMP:20260423T111806Z
SUMMARY:Pfarrhaus Beichtgelegenheit
DESCRIPTION:https://www2.bistum-augsburg.de/gottesdienste/pfarrhaus-beichtg
 elegenheit_id1723497
DTSTART;TZID=Europe/Berlin:20260425T181500
DURATION:PT30M
LOCATION:St. Andreas
END:VEVENT
BEGIN:VEVENT
UID:sabre-vobject-bd1f2568-6187-44c7-bb55-65c69aace57a
DTSTAMP:20260423T111806Z
SUMMARY:Rosenkranz
DESCRIPTION:https://www2.bistum-augsburg.de/gottesdienste/rosenkranz_id1723
 498
DTSTART;TZID=Europe/Berlin:20260425T183000
DURATION:PT30M
LOCATION:St. Andreas
END:VEVENT
BEGIN:VEVENT
UID:sabre-vobject-ec8678bd-af6b-4fae-bce3-d63206308e80
DTSTAMP:20260423T111806Z
SUMMARY:VAM
DESCRIPTION:https://www2.bistum-augsburg.de/gottesdienste/vam_id1723502
DTSTART;TZID=Europe/Berlin:20260425T190000
DURATION:PT30M
LOCATION:St. Andreas
END:VEVENT
BEGIN:VEVENT
UID:sabre-vobject-84f42236-b31d-446f-8403-9ea0efc892bc
DTSTAMP:20260423T111806Z
SUMMARY:Feier der ERSTKOMMUNION\, musik. Gestaltung: Mädchen-\, Buben- u. 
 Teeniechor
DESCRIPTION:https://www2.bistum-augsburg.de/gottesdienste/feier-der-erstkom
 munion-musik-gestaltung-maedchen-buben-u-teeniechor_id1723496
DTSTART;TZID=Europe/Berlin:20260426T090000
DURATION:PT30M
LOCATION:St. Andreas
END:VEVENT
BEGIN:VEVENT
UID:sabre-vobject-5fca92bc-4282-41b0-b87c-eea0976e3bcd
DTSTAMP:20260423T111806Z
SUMMARY:Patrozinium Mutter vom guten Rat\, f. alle Leb. u. Verst. von Herti
 ngen
DESCRIPTION:https://www2.bistum-augsburg.de/gottesdienste/patrozinium-mutte
 r-vom-guten-rat-f-alle-leb-u-verst-von-hertingen_id1723399
DTSTART;TZID=Europe/Berlin:20260427T193000
DURATION:PT30M
LOCATION:St. Andreas
END:VEVENT
BEGIN:VEVENT
UID:sabre-vobject-7a451681-ca39-432b-a5f8-bf9826387568
DTSTAMP:20260423T111806Z
SUMMARY:Hl. Messe anschl. EuA
DESCRIPTION:https://www2.bistum-augsburg.de/gottesdienste/hl-messe-anschl-e
 ua_id1723400
DTSTART;TZID=Europe/Berlin:20260428T090000
DURATION:PT30M
LOCATION:St. Andreas
END:VEVENT
BEGIN:VEVENT
UID:sabre-vobject-0fb75257-16a4-4d70-b86e-bca4edf9837b
DTSTAMP:20260423T111806Z
SUMMARY:Hl. Messe
DESCRIPTION:https://www2.bistum-augsburg.de/gottesdienste/hl-messe_id172350
 7
DTSTART;TZID=Europe/Berlin:20260430T100000
DURATION:PT30M
LOCATION:St. Andreas
END:VEVENT
BEGIN:VEVENT
UID:sabre-vobject-fc8a9444-afa6-48c1-a58f-d6595f916164
DTSTAMP:20260423T111806Z
SUMMARY:Feierliche Maiandacht\, musik. Gestaltung: Kirchenchor
DESCRIPTION:https://www2.bistum-augsburg.de/gottesdienste/feierliche-maiand
 acht-musik-gestaltung-kirchenchor_id1723508
DTSTART;TZID=Europe/Berlin:20260501T193000
DURATION:PT30M
LOCATION:St. Andreas
END:VEVENT
END:VCALENDAR
