BEGIN:VCALENDAR
VERSION:2.0
PRODID:-//Sabre//Sabre VObject 4.5.8//EN
CALSCALE:GREGORIAN
NAME:Bistum Augsburg
X-WR-CALNAME:Bistum Augsburg
BEGIN:VEVENT
UID:sabre-vobject-88e9afb9-7423-4adb-b0ed-e5934a940e28
DTSTAMP:20260425T163349Z
SUMMARY:Rosenkranz und Beichtgelegenheit
DESCRIPTION:https://www2.bistum-augsburg.de/gottesdienste/rosenkranz-und-be
 ichtgelegenheit_id1730145
DTSTART;TZID=Europe/Berlin:20260425T184500
DURATION:PT30M
LOCATION:St. Ulrich
END:VEVENT
BEGIN:VEVENT
UID:sabre-vobject-c60ae2e3-7ea3-428e-b7ed-c800c2148690
DTSTAMP:20260425T163349Z
SUMMARY:Vorabendmesse
DESCRIPTION:https://www2.bistum-augsburg.de/gottesdienste/vorabendmesse_id1
 730146
DTSTART;TZID=Europe/Berlin:20260425T191500
DURATION:PT30M
LOCATION:St. Ulrich
END:VEVENT
BEGIN:VEVENT
UID:sabre-vobject-dcf2bdae-41ed-4ba8-b88a-91764df73d54
DTSTAMP:20260425T163349Z
SUMMARY:Rosenkranz
DESCRIPTION:https://www2.bistum-augsburg.de/gottesdienste/rosenkranz_id1730
 147
DTSTART;TZID=Europe/Berlin:20260426T083000
DURATION:PT30M
LOCATION:St. Ulrich
END:VEVENT
BEGIN:VEVENT
UID:sabre-vobject-2c4505a9-6d88-437c-8e87-60c923ba221b
DTSTAMP:20260425T163349Z
SUMMARY:Pfarrgottesdienst
DESCRIPTION:https://www2.bistum-augsburg.de/gottesdienste/pfarrgottesdienst
 _id1730150
DTSTART;TZID=Europe/Berlin:20260426T090000
DURATION:PT30M
LOCATION:St. Ulrich
END:VEVENT
BEGIN:VEVENT
UID:sabre-vobject-fcdc7f7b-ea31-4a61-adcc-e2b40dcea740
DTSTAMP:20260425T163349Z
SUMMARY:Euch. Anbetung in der Hauskapelle d. Caritasheims bis 21 Uhr
DESCRIPTION:https://www2.bistum-augsburg.de/gottesdienste/euch-anbetung-in-
 der-hauskapelle-d-caritasheims-bis-21-uhr_id1730151
DTSTART;TZID=Europe/Berlin:20260427T080000
DURATION:PT30M
LOCATION:St. Ulrich
END:VEVENT
BEGIN:VEVENT
UID:sabre-vobject-da874f9b-85f1-460e-8392-b7c49a59231b
DTSTAMP:20260425T163349Z
SUMMARY:Heilige Messe
DESCRIPTION:https://www2.bistum-augsburg.de/gottesdienste/heilige-messe_id1
 730152
DTSTART;TZID=Europe/Berlin:20260429T191500
DURATION:PT30M
LOCATION:St. Ulrich
END:VEVENT
BEGIN:VEVENT
UID:sabre-vobject-293d15aa-8a7d-4b13-a106-a4445f2d07cb
DTSTAMP:20260425T163349Z
SUMMARY:Heilige Messe im Caritasheim
DESCRIPTION:https://www2.bistum-augsburg.de/gottesdienste/heilige-messe-im-
 caritasheim_id1730153
DTSTART;TZID=Europe/Berlin:20260430T160000
DURATION:PT30M
LOCATION:St. Ulrich
END:VEVENT
BEGIN:VEVENT
UID:sabre-vobject-340f418b-3ef8-480e-b624-460cb2ebdcb6
DTSTAMP:20260425T163349Z
SUMMARY:Rosenkranz
DESCRIPTION:https://www2.bistum-augsburg.de/gottesdienste/rosenkranz_id1730
 154
DTSTART;TZID=Europe/Berlin:20260501T083000
DURATION:PT30M
LOCATION:St. Ulrich
END:VEVENT
BEGIN:VEVENT
UID:sabre-vobject-96917d41-48d2-465d-a675-985c43ee92c6
DTSTAMP:20260425T163349Z
SUMMARY:Festgottesdienst
DESCRIPTION:https://www2.bistum-augsburg.de/gottesdienste/festgottesdienst_
 id1730155
DTSTART;TZID=Europe/Berlin:20260501T090000
DURATION:PT30M
LOCATION:St. Ulrich
END:VEVENT
BEGIN:VEVENT
UID:sabre-vobject-52ba5716-130c-459c-868f-1ed9ecacf6a3
DTSTAMP:20260425T163349Z
SUMMARY:Maiandacht (Musik. Gest.: Kirchenchor)
DESCRIPTION:https://www2.bistum-augsburg.de/gottesdienste/maiandacht-musik-
 gest-kirchenchor_id1730156
DTSTART;TZID=Europe/Berlin:20260501T191500
DURATION:PT30M
LOCATION:St. Ulrich
END:VEVENT
BEGIN:VEVENT
UID:sabre-vobject-2b98fc30-3636-4875-abac-42443a52fc08
DTSTAMP:20260425T163349Z
SUMMARY:Rosenkranz und Beichtgelegenheit
DESCRIPTION:https://www2.bistum-augsburg.de/gottesdienste/rosenkranz-und-be
 ichtgelegenheit_id1730157
DTSTART;TZID=Europe/Berlin:20260502T184500
DURATION:PT30M
LOCATION:St. Ulrich
END:VEVENT
BEGIN:VEVENT
UID:sabre-vobject-83b3d05d-bf9e-4583-9b8a-d5c7f37004c9
DTSTAMP:20260425T163349Z
SUMMARY:Vorabendmesse
DESCRIPTION:https://www2.bistum-augsburg.de/gottesdienste/vorabendmesse_id1
 730159
DTSTART;TZID=Europe/Berlin:20260502T191500
DURATION:PT30M
LOCATION:St. Ulrich
END:VEVENT
BEGIN:VEVENT
UID:sabre-vobject-d30b7ca2-951e-4786-9381-d1e630687d55
DTSTAMP:20260425T163349Z
SUMMARY:Rosenkranz
DESCRIPTION:https://www2.bistum-augsburg.de/gottesdienste/rosenkranz_id1730
 160
DTSTART;TZID=Europe/Berlin:20260503T083000
DURATION:PT30M
LOCATION:St. Ulrich
END:VEVENT
BEGIN:VEVENT
UID:sabre-vobject-c916b251-85c8-479a-9812-371968824555
DTSTAMP:20260425T163349Z
SUMMARY:Pfarrgottesdienst (Musik. Gest.: Kirchenchor)
DESCRIPTION:https://www2.bistum-augsburg.de/gottesdienste/pfarrgottesdienst
 -musik-gest-kirchenchor_id1730158
DTSTART;TZID=Europe/Berlin:20260503T090000
DURATION:PT30M
LOCATION:St. Ulrich
END:VEVENT
BEGIN:VEVENT
UID:sabre-vobject-da3eb059-11c7-4bef-8915-8bba32d8971d
DTSTAMP:20260425T163349Z
SUMMARY:Taufe
DESCRIPTION:https://www2.bistum-augsburg.de/gottesdienste/taufe_id1730237
DTSTART;TZID=Europe/Berlin:20260503T120000
DURATION:PT30M
LOCATION:St. Ulrich
END:VEVENT
BEGIN:VEVENT
UID:sabre-vobject-3ec95676-2e41-4561-9e3c-9233fdb45069
DTSTAMP:20260425T163349Z
SUMMARY:Maiandacht für Kinder an der Mariengrotte am Kalkofen  (Musik. Ges
 t.: Kinderchor) - bei Regen in der Pfarrkirche
DESCRIPTION:https://www2.bistum-augsburg.de/gottesdienste/maiandacht-fuer-k
 inder-an-der-mariengrotte-am-kalkofen-musik-gest-kinderchor-bei-regen-in-d
 er-pfarrkirche_id1730219
DTSTART;TZID=Europe/Berlin:20260503T170000
DURATION:PT30M
LOCATION:St. Ulrich
END:VEVENT
BEGIN:VEVENT
UID:sabre-vobject-493791f6-647c-4922-9003-5acc860b70a6
DTSTAMP:20260425T163349Z
SUMMARY:Euch. Anbetung in der Hauskapelle d. Caritasheims bis 21 Uhr
DESCRIPTION:https://www2.bistum-augsburg.de/gottesdienste/euch-anbetung-in-
 der-hauskapelle-d-caritasheims-bis-21-uhr_id1730220
DTSTART;TZID=Europe/Berlin:20260504T080000
DURATION:PT30M
LOCATION:St. Ulrich
END:VEVENT
BEGIN:VEVENT
UID:sabre-vobject-3ed5909f-0732-4926-8be5-5d079be003fe
DTSTAMP:20260425T163349Z
SUMMARY:Maiandacht Frauenbund Seeg (Kapelle Langegg)
DESCRIPTION:https://www2.bistum-augsburg.de/gottesdienste/maiandacht-frauen
 bund-seeg-kapelle-langegg_id1730221
DTSTART;TZID=Europe/Berlin:20260504T193000
DURATION:PT30M
LOCATION:St. Ulrich
END:VEVENT
BEGIN:VEVENT
UID:sabre-vobject-b9f8573a-4818-4f75-8307-a4e81a8ea5de
DTSTAMP:20260425T163349Z
SUMMARY:Floriansmesse der Feuerwehr Seeg (Musik. Gest.: Harmoniemusik und M
 ännerchor Seeg)
DESCRIPTION:https://www2.bistum-augsburg.de/gottesdienste/floriansmesse-der
 -feuerwehr-seeg-musik-gest-harmoniemusik-und-maennerchor-seeg_id1730148
DTSTART;TZID=Europe/Berlin:20260506T191500
DURATION:PT30M
LOCATION:St. Ulrich
END:VEVENT
BEGIN:VEVENT
UID:sabre-vobject-1742dbd5-8a92-4034-9ef8-e5f71033473a
DTSTAMP:20260425T163349Z
SUMMARY:Heilige Messe im Caritasheim
DESCRIPTION:https://www2.bistum-augsburg.de/gottesdienste/heilige-messe-im-
 caritasheim_id1730149
DTSTART;TZID=Europe/Berlin:20260507T160000
DURATION:PT30M
LOCATION:St. Ulrich
END:VEVENT
BEGIN:VEVENT
UID:sabre-vobject-0f71cc48-8505-415a-8c99-62f8538925ae
DTSTAMP:20260425T163349Z
SUMMARY:Heilige Messe
DESCRIPTION:https://www2.bistum-augsburg.de/gottesdienste/heilige-messe_id1
 730222
DTSTART;TZID=Europe/Berlin:20260508T090000
DURATION:PT30M
LOCATION:St. Ulrich
END:VEVENT
BEGIN:VEVENT
UID:sabre-vobject-47169d66-64fc-45ed-a59f-e22f8adfac14
DTSTAMP:20260425T163349Z
SUMMARY:Taizè-Gebet
DESCRIPTION:https://www2.bistum-augsburg.de/gottesdienste/taize-gebet_id173
 0223
DTSTART;TZID=Europe/Berlin:20260508T190000
DURATION:PT30M
LOCATION:St. Ulrich
END:VEVENT
END:VCALENDAR
