BEGIN:VCALENDAR
VERSION:2.0
PRODID:-//Sabre//Sabre VObject 4.5.8//EN
CALSCALE:GREGORIAN
NAME:Bistum Augsburg
X-WR-CALNAME:Bistum Augsburg
BEGIN:VEVENT
UID:sabre-vobject-eb1701e5-7d43-474d-ae88-687a0e01639f
DTSTAMP:20260425T123635Z
SUMMARY:Festgottesdienst zur Erstkommunion
DESCRIPTION:https://www2.bistum-augsburg.de/gottesdienste/festgottesdienst-
 zur-erstkommunion_id1730804
DTSTART;TZID=Europe/Berlin:20260425T110000
DURATION:PT30M
LOCATION:Mariä Himmelfahrt
END:VEVENT
BEGIN:VEVENT
UID:sabre-vobject-ab1b70ff-b1f2-41bd-9a83-060b025da0d1
DTSTAMP:20260425T123635Z
SUMMARY:Rosenkranz
DESCRIPTION:https://www2.bistum-augsburg.de/gottesdienste/rosenkranz_id1730
 807
DTSTART;TZID=Europe/Berlin:20260425T171500
DURATION:PT30M
LOCATION:Mariä Himmelfahrt
END:VEVENT
BEGIN:VEVENT
UID:sabre-vobject-f1872abc-98da-4453-9731-d8c09883afa5
DTSTAMP:20260425T123635Z
SUMMARY:Wort-Gottes-Feier
DESCRIPTION:https://www2.bistum-augsburg.de/gottesdienste/wort-gottes-feier
 _id1730808
DTSTART;TZID=Europe/Berlin:20260425T180000
DURATION:PT30M
LOCATION:Mariä Himmelfahrt
END:VEVENT
BEGIN:VEVENT
UID:sabre-vobject-62280d29-549d-421a-befc-aa0ffe4edf77
DTSTAMP:20260425T123635Z
SUMMARY:Pfarrgottesdienst mit Kinderpredigt\, G. f. Lebende und Verstorbene
  der Pfarreiengemeinschaft
DESCRIPTION:https://www2.bistum-augsburg.de/gottesdienste/pfarrgottesdienst
 -mit-kinderpredigt-g-f-lebende-und-verstorbene-der-pfarreiengemeinschaft_i
 d1730809
DTSTART;TZID=Europe/Berlin:20260426T103000
DURATION:PT30M
LOCATION:Mariä Himmelfahrt
END:VEVENT
BEGIN:VEVENT
UID:sabre-vobject-41c8bc4a-3614-4e0f-9482-a84ecce62b69
DTSTAMP:20260425T123635Z
SUMMARY:- 17.30 Taufvorbereitung für Eltern und Paten
DESCRIPTION:https://www2.bistum-augsburg.de/gottesdienste/17-30-taufvorbere
 itung-fuer-eltern-und-paten_id1730810
DTSTART;TZID=Europe/Berlin:20260426T150000
DURATION:PT30M
LOCATION:Mariä Himmelfahrt
END:VEVENT
BEGIN:VEVENT
UID:sabre-vobject-07896b27-f620-46a1-b966-fd0ac815c65c
DTSTAMP:20260425T123635Z
SUMMARY:Vesper zum Abschiedstriduum der Dillinger Franziskanerinnen
DESCRIPTION:https://www2.bistum-augsburg.de/gottesdienste/vesper-zum-abschi
 edstriduum-der-dillinger-franziskanerinnen_id1730811
DTSTART;TZID=Europe/Berlin:20260426T180000
DURATION:PT30M
LOCATION:Mariä Himmelfahrt
END:VEVENT
BEGIN:VEVENT
UID:sabre-vobject-28f3d7a2-4a22-43d9-b09b-33345e32f630
DTSTAMP:20260425T123635Z
SUMMARY:Rosenkranz und Beichtgelegenheit
DESCRIPTION:https://www2.bistum-augsburg.de/gottesdienste/rosenkranz-und-be
 ichtgelegenheit_id1732612
DTSTART;TZID=Europe/Berlin:20260428T173000
DURATION:PT30M
LOCATION:Mariä Himmelfahrt
END:VEVENT
BEGIN:VEVENT
UID:sabre-vobject-0e8c9b2d-24e1-4c4b-9643-2b23a5f6b0b5
DTSTAMP:20260425T123635Z
SUMMARY:Eucharistiefeier
DESCRIPTION:https://www2.bistum-augsburg.de/gottesdienste/eucharistiefeier_
 id1732631
DTSTART;TZID=Europe/Berlin:20260428T180000
DURATION:PT30M
LOCATION:Mariä Himmelfahrt
END:VEVENT
BEGIN:VEVENT
UID:sabre-vobject-e20ada08-4c2d-4b31-a7f7-fe04706e88a0
DTSTAMP:20260425T123635Z
SUMMARY:Eucharistiefeier
DESCRIPTION:https://www2.bistum-augsburg.de/gottesdienste/eucharistiefeier_
 id1732632
DTSTART;TZID=Europe/Berlin:20260429T180000
DURATION:PT30M
LOCATION:Mariä Himmelfahrt
END:VEVENT
BEGIN:VEVENT
UID:sabre-vobject-cc1357ed-1d83-4ff5-87d5-85cafbe9c294
DTSTAMP:20260425T123635Z
SUMMARY:Eucharistiefeier
DESCRIPTION:https://www2.bistum-augsburg.de/gottesdienste/eucharistiefeier_
 id1732633
DTSTART;TZID=Europe/Berlin:20260429T191500
DURATION:PT30M
LOCATION:Mariä Himmelfahrt
END:VEVENT
BEGIN:VEVENT
UID:sabre-vobject-3b455249-4686-4c0c-acb6-770c4ddcad41
DTSTAMP:20260425T123635Z
SUMMARY:Eucharistiefeier
DESCRIPTION:https://www2.bistum-augsburg.de/gottesdienste/eucharistiefeier_
 id1732634
DTSTART;TZID=Europe/Berlin:20260430T090000
DURATION:PT30M
LOCATION:Mariä Himmelfahrt
END:VEVENT
BEGIN:VEVENT
UID:sabre-vobject-ec2a7194-6b4b-41aa-aab3-5d99aa9e90c9
DTSTAMP:20260425T123635Z
SUMMARY:Eucharistiefeier
DESCRIPTION:https://www2.bistum-augsburg.de/gottesdienste/eucharistiefeier_
 id1732635
DTSTART;TZID=Europe/Berlin:20260501T103000
DURATION:PT30M
LOCATION:Mariä Himmelfahrt
END:VEVENT
BEGIN:VEVENT
UID:sabre-vobject-360bdb9f-9c01-4c4d-8d4c-9a223480b18e
DTSTAMP:20260425T123635Z
SUMMARY:Feierliche Maiandacht
DESCRIPTION:https://www2.bistum-augsburg.de/gottesdienste/feierliche-maiand
 acht_id1732636
DTSTART;TZID=Europe/Berlin:20260501T180000
DURATION:PT30M
LOCATION:Mariä Himmelfahrt
END:VEVENT
BEGIN:VEVENT
UID:sabre-vobject-0166e628-edfc-439c-9d5f-5230fec7847a
DTSTAMP:20260425T123635Z
SUMMARY:Rosenkranz
DESCRIPTION:https://www2.bistum-augsburg.de/gottesdienste/rosenkranz_id1735
 945
DTSTART;TZID=Europe/Berlin:20260502T171500
DURATION:PT30M
LOCATION:Mariä Himmelfahrt
END:VEVENT
BEGIN:VEVENT
UID:sabre-vobject-af4d257e-e33d-47a1-b7f1-fb210c7ba93f
DTSTAMP:20260425T123635Z
SUMMARY:Eucharistiefeier
DESCRIPTION:https://www2.bistum-augsburg.de/gottesdienste/eucharistiefeier_
 id1735946
DTSTART;TZID=Europe/Berlin:20260502T180000
DURATION:PT30M
LOCATION:Mariä Himmelfahrt
END:VEVENT
BEGIN:VEVENT
UID:sabre-vobject-8ddc1d8a-8f2e-4232-a53c-0c2ec2d02a25
DTSTAMP:20260425T123635Z
SUMMARY:Pfarrgottesdienst mit Kinderpredigt\, G. f. Lebende und Verstorbene
  der Pfarreiengemeinschaft
DESCRIPTION:https://www2.bistum-augsburg.de/gottesdienste/pfarrgottesdienst
 -mit-kinderpredigt-g-f-lebende-und-verstorbene-der-pfarreiengemeinschaft_i
 d1735947
DTSTART;TZID=Europe/Berlin:20260503T103000
DURATION:PT30M
LOCATION:Mariä Himmelfahrt
END:VEVENT
BEGIN:VEVENT
UID:sabre-vobject-113fdfcd-b6b7-42c9-be75-840e56752640
DTSTAMP:20260425T123635Z
SUMMARY:Maiandacht im Innenhof des Seniorenheims (bei schlechtem Wetter fei
 ern wir um 18:00 Uhr in der Stadtpfarrkirche Maiandacht)
DESCRIPTION:https://www2.bistum-augsburg.de/gottesdienste/maiandacht-im-inn
 enhof-des-seniorenheims-bei-schlechtem-wetter-feiern-wir-um-18-00-uhr-in-d
 er-stadtpfarrkirche-maiandacht_id1735948
DTSTART;TZID=Europe/Berlin:20260503T180000
DURATION:PT30M
LOCATION:Mariä Himmelfahrt
END:VEVENT
END:VCALENDAR
