BEGIN:VCALENDAR
VERSION:2.0
PRODID:-//Sabre//Sabre VObject 4.5.8//EN
CALSCALE:GREGORIAN
NAME:Bistum Augsburg
X-WR-CALNAME:Bistum Augsburg
BEGIN:VEVENT
UID:sabre-vobject-2276dfa6-694a-4427-8c30-73dd20a09164
DTSTAMP:20260425T211319Z
SUMMARY:Eucharistiefeier
DESCRIPTION:https://www2.bistum-augsburg.de/gottesdienste/eucharistiefeier_
 id1730815
DTSTART;TZID=Europe/Berlin:20260426T103000
DURATION:PT30M
LOCATION:St. Alban\, St.-Alban-Str. 6\, 86807 Buchloe-Honsolgen
END:VEVENT
BEGIN:VEVENT
UID:sabre-vobject-ff744b59-de84-4669-b7cc-671c650b203a
DTSTAMP:20260425T211319Z
SUMMARY:Rosenkranz
DESCRIPTION:https://www2.bistum-augsburg.de/gottesdienste/rosenkranz_id1732
 754
DTSTART;TZID=Europe/Berlin:20260428T160000
DURATION:PT30M
LOCATION:St. Alban\, St.-Alban-Str. 6\, 86807 Buchloe-Honsolgen
END:VEVENT
BEGIN:VEVENT
UID:sabre-vobject-7dcbeab3-c662-4a63-8bd6-2ab1c6d48364
DTSTAMP:20260425T211319Z
SUMMARY:Eucharistiefeier
DESCRIPTION:https://www2.bistum-augsburg.de/gottesdienste/eucharistiefeier_
 id1732755
DTSTART;TZID=Europe/Berlin:20260428T191500
DURATION:PT30M
LOCATION:St. Andreas\, St. Andreas-Straße\, 86807 Buchloe-Hausen 
END:VEVENT
BEGIN:VEVENT
UID:sabre-vobject-34734432-0d51-44fa-ae80-7c55eac128d2
DTSTAMP:20260425T211319Z
SUMMARY:Wort-Gottes-Feier
DESCRIPTION:https://www2.bistum-augsburg.de/gottesdienste/wort-gottes-feier
 _id1735970
DTSTART;TZID=Europe/Berlin:20260502T191500
DURATION:PT30M
LOCATION:St. Alban\, St.-Alban-Str. 6\, 86807 Buchloe-Honsolgen
END:VEVENT
BEGIN:VEVENT
UID:sabre-vobject-64e82333-dfe7-42ab-9cdf-f2baeac045f9
DTSTAMP:20260425T211319Z
SUMMARY:Tauffeier
DESCRIPTION:https://www2.bistum-augsburg.de/gottesdienste/tauffeier_id17359
 71
DTSTART;TZID=Europe/Berlin:20260503T133000
DURATION:PT30M
LOCATION:St. Andreas\, St. Andreas-Straße\, 86807 Buchloe-Hausen 
END:VEVENT
BEGIN:VEVENT
UID:sabre-vobject-235961a7-213e-464a-8aca-2cf3f1d8a86c
DTSTAMP:20260425T211319Z
SUMMARY:Maiandacht der Vereine am Marienbrunnen (bei schlechter Witterung i
 n der Kirche)
DESCRIPTION:https://www2.bistum-augsburg.de/gottesdienste/maiandacht-der-ve
 reine-am-marienbrunnen-bei-schlechter-witterung-in-der-kirche_id1735972
DTSTART;TZID=Europe/Berlin:20260503T191500
DURATION:PT30M
LOCATION:St. Alban\, St.-Alban-Str. 6\, 86807 Buchloe-Honsolgen
END:VEVENT
END:VCALENDAR
