BEGIN:VCALENDAR
VERSION:2.0
PRODID:-//Sabre//Sabre VObject 4.5.8//EN
CALSCALE:GREGORIAN
NAME:Bistum Augsburg
X-WR-CALNAME:Bistum Augsburg
BEGIN:VEVENT
UID:sabre-vobject-299f9ba5-fc31-452f-b8d7-8ca813e7dd0e
DTSTAMP:20260426T013944Z
SUMMARY:Pfarrgottesdienst
DESCRIPTION:https://www2.bistum-augsburg.de/gottesdienste/pfarrgottesdienst
 _id1735548
DTSTART;TZID=Europe/Berlin:20260426T100000
DURATION:PT30M
LOCATION:St. Vitus
END:VEVENT
BEGIN:VEVENT
UID:sabre-vobject-8eb2d8fc-caf4-4533-acd1-8a5ec5cfcf64
DTSTAMP:20260426T013944Z
SUMMARY:Messfeier
DESCRIPTION:https://www2.bistum-augsburg.de/gottesdienste/messfeier_id17355
 46
DTSTART;TZID=Europe/Berlin:20260430T191500
DURATION:PT30M
LOCATION:St. Vitus
END:VEVENT
BEGIN:VEVENT
UID:sabre-vobject-816674c5-0d22-45cb-8097-d8d8ec580524
DTSTAMP:20260426T013944Z
SUMMARY:Vorabendmesse
DESCRIPTION:https://www2.bistum-augsburg.de/gottesdienste/vorabendmesse_id1
 735547
DTSTART;TZID=Europe/Berlin:20260502T191500
DURATION:PT30M
LOCATION:St. Vitus
END:VEVENT
BEGIN:VEVENT
UID:sabre-vobject-57b71a38-af91-4ed7-82a6-b110eea015c5
DTSTAMP:20260426T013944Z
SUMMARY:Eucharistiefeier anschl. Eucharistische Anbetung bis 20:30 Uhr
DESCRIPTION:https://www2.bistum-augsburg.de/gottesdienste/eucharistiefeier-
 anschl-eucharistische-anbetung-bis-20-30-uhr_id1734890
DTSTART;TZID=Europe/Berlin:20260504T174500
DURATION:PT30M
LOCATION:St. Vitus
END:VEVENT
BEGIN:VEVENT
UID:sabre-vobject-33bc86f6-3ea3-4b14-aed3-5398db6dd92b
DTSTAMP:20260426T013944Z
SUMMARY:Marienmesse mit Marienlob "Maienkönigin"
DESCRIPTION:https://www2.bistum-augsburg.de/gottesdienste/marienmesse-mit-m
 arienlob-maienkoenigin_id1734886
DTSTART;TZID=Europe/Berlin:20260507T191500
DURATION:PT30M
LOCATION:St. Vitus
END:VEVENT
BEGIN:VEVENT
UID:sabre-vobject-a9c649f2-2c23-4d19-b15c-bb15643bba16
DTSTAMP:20260426T013944Z
SUMMARY:Wortgottesfeier
DESCRIPTION:https://www2.bistum-augsburg.de/gottesdienste/wortgottesfeier_i
 d1734887
DTSTART;TZID=Europe/Berlin:20260510T093000
DURATION:PT30M
LOCATION:St. Vitus
END:VEVENT
BEGIN:VEVENT
UID:sabre-vobject-1b82f53d-32db-40f8-8544-375b38b24b8f
DTSTAMP:20260426T013944Z
SUMMARY:Bittgang
DESCRIPTION:https://www2.bistum-augsburg.de/gottesdienste/bittgang_id173488
 8
DTSTART;TZID=Europe/Berlin:20260511T191500
DURATION:PT30M
LOCATION:St. Vitus
END:VEVENT
BEGIN:VEVENT
UID:sabre-vobject-d3bc550b-1538-47b8-afe8-f1117ec1d196
DTSTAMP:20260426T013944Z
SUMMARY:Bittgang nach Weinhausen
DESCRIPTION:https://www2.bistum-augsburg.de/gottesdienste/bittgang-nach-wei
 nhausen_id1735853
DTSTART;TZID=Europe/Berlin:20260512T184500
DURATION:PT30M
LOCATION:St. Vitus
END:VEVENT
BEGIN:VEVENT
UID:sabre-vobject-fc4cda71-9b68-4318-846b-1f4dd02b7fb7
DTSTAMP:20260426T013944Z
SUMMARY:Bittgang
DESCRIPTION:https://www2.bistum-augsburg.de/gottesdienste/bittgang_id173585
 4
DTSTART;TZID=Europe/Berlin:20260513T191500
DURATION:PT30M
LOCATION:St. Vitus
END:VEVENT
BEGIN:VEVENT
UID:sabre-vobject-680db898-49e2-4b26-a78d-bfc8256d984e
DTSTAMP:20260426T013944Z
SUMMARY:Pfarrgottesdienst
DESCRIPTION:https://www2.bistum-augsburg.de/gottesdienste/pfarrgottesdienst
 _id1735858
DTSTART;TZID=Europe/Berlin:20260514T100000
DURATION:PT30M
LOCATION:St. Vitus
END:VEVENT
BEGIN:VEVENT
UID:sabre-vobject-79cf80e3-07ae-4804-9dc6-8688909f5fab
DTSTAMP:20260426T013944Z
SUMMARY:Pfarrgottesdienst
DESCRIPTION:https://www2.bistum-augsburg.de/gottesdienste/pfarrgottesdienst
 _id1735859
DTSTART;TZID=Europe/Berlin:20260517T083000
DURATION:PT30M
LOCATION:St. Vitus
END:VEVENT
END:VCALENDAR
