BEGIN:VCALENDAR
VERSION:2.0
PRODID:-//Sabre//Sabre VObject 4.5.8//EN
CALSCALE:GREGORIAN
NAME:Bistum Augsburg
X-WR-CALNAME:Bistum Augsburg
BEGIN:VEVENT
UID:sabre-vobject-9f7e1575-b0dd-4306-b564-64abc4b363fa
DTSTAMP:20260424T234936Z
SUMMARY:Weichberg: Abendgebet in der Osterzeit
DESCRIPTION:https://www2.bistum-augsburg.de/gottesdienste/weichberg-abendge
 bet-in-der-osterzeit_id1732887
DTSTART;TZID=Europe/Berlin:20260425T193000
DURATION:PT30M
LOCATION:St. Vitus\, Modestus u. Kreszentia
END:VEVENT
BEGIN:VEVENT
UID:sabre-vobject-17fa7dac-319b-4827-bb68-3464e2757cdf
DTSTAMP:20260424T234936Z
SUMMARY:Rosenkranz
DESCRIPTION:https://www2.bistum-augsburg.de/gottesdienste/rosenkranz_id1732
 888
DTSTART;TZID=Europe/Berlin:20260426T090000
DURATION:PT30M
LOCATION:St. Vitus\, Modestus u. Kreszentia
END:VEVENT
BEGIN:VEVENT
UID:sabre-vobject-6ce9da15-12ad-4ef9-8e2a-6e8c4b7cd814
DTSTAMP:20260424T234936Z
SUMMARY:Rosenkranz
DESCRIPTION:https://www2.bistum-augsburg.de/gottesdienste/rosenkranz_id1732
 906
DTSTART;TZID=Europe/Berlin:20260429T190000
DURATION:PT30M
LOCATION:St. Vitus\, Modestus u. Kreszentia
END:VEVENT
BEGIN:VEVENT
UID:sabre-vobject-83d95cb2-8de5-41b1-babe-66aa87f5b1b8
DTSTAMP:20260424T234936Z
SUMMARY:Hl. Messe
DESCRIPTION:https://www2.bistum-augsburg.de/gottesdienste/hl-messe_id173290
 7
DTSTART;TZID=Europe/Berlin:20260429T193000
DURATION:PT30M
LOCATION:St. Vitus\, Modestus u. Kreszentia
END:VEVENT
BEGIN:VEVENT
UID:sabre-vobject-d0ce3d56-ab8f-40b5-828b-7d04bf560644
DTSTAMP:20260424T234936Z
SUMMARY:Rosenkranz
DESCRIPTION:https://www2.bistum-augsburg.de/gottesdienste/rosenkranz_id1732
 908
DTSTART;TZID=Europe/Berlin:20260501T090000
DURATION:PT30M
LOCATION:St. Vitus\, Modestus u. Kreszentia
END:VEVENT
BEGIN:VEVENT
UID:sabre-vobject-08549ca5-b4b7-4a60-9e78-b42191a415ae
DTSTAMP:20260424T234936Z
SUMMARY:Hl. Messe
DESCRIPTION:https://www2.bistum-augsburg.de/gottesdienste/hl-messe_id173258
 9
DTSTART;TZID=Europe/Berlin:20260501T093000
DURATION:PT30M
LOCATION:St. Vitus\, Modestus u. Kreszentia
END:VEVENT
END:VCALENDAR
