BEGIN:VCALENDAR
VERSION:2.0
PRODID:-//Sabre//Sabre VObject 4.5.8//EN
CALSCALE:GREGORIAN
NAME:Bistum Augsburg
X-WR-CALNAME:Bistum Augsburg
BEGIN:VEVENT
UID:sabre-vobject-4af92a9c-823d-4abf-ab37-d4f7582bb9e1
DTSTAMP:20260423T093559Z
SUMMARY:Probe der Erstkommunionkinder
DESCRIPTION:https://www2.bistum-augsburg.de/gottesdienste/probe-der-erstkom
 munionkinder_id1732675
DTSTART;TZID=Europe/Berlin:20260423T170000
DURATION:PT30M
LOCATION:St. Georg
END:VEVENT
BEGIN:VEVENT
UID:sabre-vobject-58afefd1-1db4-4182-9a10-d3ee3b611170
DTSTAMP:20260423T093559Z
SUMMARY:Rosenkranz
DESCRIPTION:https://www2.bistum-augsburg.de/gottesdienste/rosenkranz_id1732
 847
DTSTART;TZID=Europe/Berlin:20260423T180000
DURATION:PT30M
LOCATION:St. Georg
END:VEVENT
BEGIN:VEVENT
UID:sabre-vobject-872717b3-add6-411e-81ca-fcc81e8ccf96
DTSTAMP:20260423T093559Z
SUMMARY:Rosenkranz
DESCRIPTION:https://www2.bistum-augsburg.de/gottesdienste/rosenkranz_id1732
 848
DTSTART;TZID=Europe/Berlin:20260424T080000
DURATION:PT30M
LOCATION:St. Georg
END:VEVENT
BEGIN:VEVENT
UID:sabre-vobject-f44e5022-30d7-4062-b5bf-c39a593ca2cc
DTSTAMP:20260423T093559Z
SUMMARY:Gottesdienst mit anschließendem Frühstück im Pfarrheim
DESCRIPTION:https://www2.bistum-augsburg.de/gottesdienste/gottesdienst-mit-
 anschliessendem-fruehstueck-im-pfarrheim_id1732849
DTSTART;TZID=Europe/Berlin:20260424T083000
DURATION:PT30M
LOCATION:St. Georg
END:VEVENT
BEGIN:VEVENT
UID:sabre-vobject-a91d8cea-dc24-4e58-8f53-8adf90aa0811
DTSTAMP:20260423T093559Z
SUMMARY:Feier der Heiligen Erstkommunion mit Patrozinium
DESCRIPTION:https://www2.bistum-augsburg.de/gottesdienste/feier-der-heilige
 n-erstkommunion-mit-patrozinium_id1732850
DTSTART;TZID=Europe/Berlin:20260426T101500
DURATION:PT30M
LOCATION:St. Georg
END:VEVENT
BEGIN:VEVENT
UID:sabre-vobject-7e64a918-e63e-4a33-a7be-b20bc6fb45a1
DTSTAMP:20260423T093559Z
SUMMARY:Rosenkranz
DESCRIPTION:https://www2.bistum-augsburg.de/gottesdienste/rosenkranz_id1731
 301
DTSTART;TZID=Europe/Berlin:20260427T180000
DURATION:PT30M
LOCATION:St. Georg
END:VEVENT
BEGIN:VEVENT
UID:sabre-vobject-cfe0e2f4-f502-44c1-8443-e9067e33f7d2
DTSTAMP:20260423T093559Z
SUMMARY:Rosenkranz
DESCRIPTION:https://www2.bistum-augsburg.de/gottesdienste/rosenkranz_id1731
 302
DTSTART;TZID=Europe/Berlin:20260428T080000
DURATION:PT30M
LOCATION:St. Georg
END:VEVENT
BEGIN:VEVENT
UID:sabre-vobject-2d6de242-3dd8-4521-a863-df909ad360e2
DTSTAMP:20260423T093559Z
SUMMARY:Rosenkranz und Beichtgelegenheit
DESCRIPTION:https://www2.bistum-augsburg.de/gottesdienste/rosenkranz-und-be
 ichtgelegenheit_id1731303
DTSTART;TZID=Europe/Berlin:20260429T183000
DURATION:PT30M
LOCATION:St. Georg
END:VEVENT
BEGIN:VEVENT
UID:sabre-vobject-0ddc643f-0ae5-4d24-ab16-9f4f8ba8d18f
DTSTAMP:20260423T093559Z
SUMMARY:Dankgottesdienst der Erstkommunionkinder
DESCRIPTION:https://www2.bistum-augsburg.de/gottesdienste/dankgottesdienst-
 der-erstkommunionkinder_id1731188
DTSTART;TZID=Europe/Berlin:20260429T190000
DURATION:PT30M
LOCATION:St. Georg
END:VEVENT
BEGIN:VEVENT
UID:sabre-vobject-b3e87645-842c-4a56-a28e-ef8dbdeb44d0
DTSTAMP:20260423T093559Z
SUMMARY:Rosenkranz
DESCRIPTION:https://www2.bistum-augsburg.de/gottesdienste/rosenkranz_id1731
 189
DTSTART;TZID=Europe/Berlin:20260430T180000
DURATION:PT30M
LOCATION:St. Georg
END:VEVENT
BEGIN:VEVENT
UID:sabre-vobject-7609e053-938a-4250-9368-bfc09eb488be
DTSTAMP:20260423T093559Z
SUMMARY:Taufe Malia Birker
DESCRIPTION:https://www2.bistum-augsburg.de/gottesdienste/taufe-malia-birke
 r_id1731190
DTSTART;TZID=Europe/Berlin:20260502T150000
DURATION:PT30M
LOCATION:St. Georg
END:VEVENT
BEGIN:VEVENT
UID:sabre-vobject-5eac65c5-697b-4ffe-9ac8-759349a81251
DTSTAMP:20260423T093559Z
SUMMARY:Rosenkranz
DESCRIPTION:https://www2.bistum-augsburg.de/gottesdienste/rosenkranz_id1731
 206
DTSTART;TZID=Europe/Berlin:20260502T183000
DURATION:PT30M
LOCATION:St. Georg
END:VEVENT
BEGIN:VEVENT
UID:sabre-vobject-0c6f06be-f339-450a-89f7-7c955eb7d4c0
DTSTAMP:20260423T093559Z
SUMMARY:Vorabendmesse
DESCRIPTION:https://www2.bistum-augsburg.de/gottesdienste/vorabendmesse_id1
 731202
DTSTART;TZID=Europe/Berlin:20260502T190000
DURATION:PT30M
LOCATION:St. Georg
END:VEVENT
END:VCALENDAR
