BEGIN:VCALENDAR
VERSION:2.0
PRODID:-//Sabre//Sabre VObject 4.5.8//EN
CALSCALE:GREGORIAN
NAME:Bistum Augsburg
X-WR-CALNAME:Bistum Augsburg
BEGIN:VEVENT
UID:sabre-vobject-3ffe1177-6854-4899-bf96-567612beb0ec
DTSTAMP:20260425T225947Z
SUMMARY:PATROZINIUM - Hl. Messe
DESCRIPTION:https://www2.bistum-augsburg.de/gottesdienste/patrozinium-hl-me
 sse_id1730534
DTSTART;TZID=Europe/Berlin:20260426T103000
DURATION:PT30M
LOCATION:St. Markus
END:VEVENT
BEGIN:VEVENT
UID:sabre-vobject-8cc97a8b-0692-46d5-ae31-de7591767268
DTSTAMP:20260425T225947Z
SUMMARY:Rosenkranz u. Beichtgelegenheit
DESCRIPTION:https://www2.bistum-augsburg.de/gottesdienste/rosenkranz-u-beic
 htgelegenheit_id1730535
DTSTART;TZID=Europe/Berlin:20260428T183000
DURATION:PT30M
LOCATION:St. Markus
END:VEVENT
BEGIN:VEVENT
UID:sabre-vobject-6792108f-6d1a-49af-9b22-36bf38d4a803
DTSTAMP:20260425T225947Z
SUMMARY:Hl. Messe
DESCRIPTION:https://www2.bistum-augsburg.de/gottesdienste/hl-messe_id173053
 6
DTSTART;TZID=Europe/Berlin:20260428T190000
DURATION:PT30M
LOCATION:St. Markus
END:VEVENT
BEGIN:VEVENT
UID:sabre-vobject-97ad1d46-d6a3-4917-9cf4-7c710764cc2e
DTSTAMP:20260425T225947Z
SUMMARY:Im Pfarrheim: Vortrag von Markus Weiland "Paulus und die Thessaloni
 cher"
DESCRIPTION:https://www2.bistum-augsburg.de/gottesdienste/im-pfarrheim-vort
 rag-von-markus-weiland-paulus-und-die-thessalonicher_id1730537
DTSTART;TZID=Europe/Berlin:20260428T200000
DURATION:PT30M
LOCATION:St. Markus
END:VEVENT
BEGIN:VEVENT
UID:sabre-vobject-66491422-a145-45d2-af4b-19fea22fe9a2
DTSTAMP:20260425T225947Z
SUMMARY:Stille Anbetung
DESCRIPTION:https://www2.bistum-augsburg.de/gottesdienste/stille-anbetung_i
 d1730538
DTSTART;TZID=Europe/Berlin:20260429T190000
DURATION:PT30M
LOCATION:St. Markus
END:VEVENT
BEGIN:VEVENT
UID:sabre-vobject-63219197-c4ad-49b4-9d60-082997dc6b8f
DTSTAMP:20260425T225947Z
SUMMARY:Laudes
DESCRIPTION:https://www2.bistum-augsburg.de/gottesdienste/laudes_id1730539
DTSTART;TZID=Europe/Berlin:20260430T071500
DURATION:PT30M
LOCATION:St. Markus
END:VEVENT
BEGIN:VEVENT
UID:sabre-vobject-178796e8-2f57-4d4d-9200-bef05a6f72bb
DTSTAMP:20260425T225947Z
SUMMARY:Vorabendmesse
DESCRIPTION:https://www2.bistum-augsburg.de/gottesdienste/vorabendmesse_id1
 730540
DTSTART;TZID=Europe/Berlin:20260430T190000
DURATION:PT30M
LOCATION:St. Markus
END:VEVENT
BEGIN:VEVENT
UID:sabre-vobject-b275b358-8b3d-4955-a9bf-9cd06b311fdf
DTSTAMP:20260425T225947Z
SUMMARY:Feier der Erstkommunion für Kinder aus Bösenreutin u. Sigmarszell
DESCRIPTION:https://www2.bistum-augsburg.de/gottesdienste/feier-der-erstkom
 munion-fuer-kinder-aus-boesenreutin-u-sigmarszell_id1730548
DTSTART;TZID=Europe/Berlin:20260502T103000
DURATION:PT30M
LOCATION:St. Markus
END:VEVENT
BEGIN:VEVENT
UID:sabre-vobject-b0164bb2-85ab-4d83-902f-6b4a54251a70
DTSTAMP:20260425T225947Z
SUMMARY:Feier der Erstkommunion für Kinder aus Weißensberg u. Niederstauf
 en
DESCRIPTION:https://www2.bistum-augsburg.de/gottesdienste/feier-der-erstkom
 munion-fuer-kinder-aus-weissensberg-u-niederstaufen_id1730549
DTSTART;TZID=Europe/Berlin:20260503T103000
DURATION:PT30M
LOCATION:St. Markus
END:VEVENT
BEGIN:VEVENT
UID:sabre-vobject-3d0ab8e9-68eb-4f00-b26c-434bbc9acc81
DTSTAMP:20260425T225947Z
SUMMARY:Dankandacht für alle Erstkommunionkinder
DESCRIPTION:https://www2.bistum-augsburg.de/gottesdienste/dankandacht-fuer-
 alle-erstkommunionkinder_id1730550
DTSTART;TZID=Europe/Berlin:20260503T183000
DURATION:PT30M
LOCATION:St. Markus
END:VEVENT
BEGIN:VEVENT
UID:sabre-vobject-acee8137-e3e4-4ed3-b497-d092e1b5e815
DTSTAMP:20260425T225947Z
SUMMARY:YouGo (Jugendkirche des Dekanates Lindau) in Scheidegg\n
DESCRIPTION:https://www2.bistum-augsburg.de/gottesdienste/yougo-jugendkirch
 e-des-dekanates-lindau-in-scheidegg_id1730531
DTSTART;TZID=Europe/Berlin:20260503T190000
DURATION:PT30M
LOCATION:St. Markus
END:VEVENT
BEGIN:VEVENT
UID:sabre-vobject-2d6e29c5-05cd-4d56-8cb0-945c8f821c0d
DTSTAMP:20260425T225947Z
SUMMARY:In der Festhalle: Seniorennachmittag
DESCRIPTION:https://www2.bistum-augsburg.de/gottesdienste/in-der-festhalle-
 seniorennachmittag_id1727937
DTSTART;TZID=Europe/Berlin:20260505T143000
DURATION:PT30M
LOCATION:St. Markus
END:VEVENT
BEGIN:VEVENT
UID:sabre-vobject-9d782efd-de8a-42de-b73c-b80b4529b5ba
DTSTAMP:20260425T225947Z
SUMMARY:Kapelle Wildberg: Hl. Messe
DESCRIPTION:https://www2.bistum-augsburg.de/gottesdienste/kapelle-wildberg-
 hl-messe_id1727942
DTSTART;TZID=Europe/Berlin:20260505T190000
DURATION:PT30M
LOCATION:St. Markus
END:VEVENT
BEGIN:VEVENT
UID:sabre-vobject-50df262c-cbbc-4330-8e51-8c95370f033e
DTSTAMP:20260425T225947Z
SUMMARY:Im Pfarrheim: Vortrag von Markus Weiland "Paulus und die Korinther"
DESCRIPTION:https://www2.bistum-augsburg.de/gottesdienste/im-pfarrheim-vort
 rag-von-markus-weiland-paulus-und-die-korinther_id1727943
DTSTART;TZID=Europe/Berlin:20260505T200000
DURATION:PT30M
LOCATION:St. Markus
END:VEVENT
BEGIN:VEVENT
UID:sabre-vobject-a4a95eb0-b5b5-40fa-87dd-c945bdca0369
DTSTAMP:20260425T225947Z
SUMMARY:Stille Anbetung
DESCRIPTION:https://www2.bistum-augsburg.de/gottesdienste/stille-anbetung_i
 d1727944
DTSTART;TZID=Europe/Berlin:20260506T190000
DURATION:PT30M
LOCATION:St. Markus
END:VEVENT
BEGIN:VEVENT
UID:sabre-vobject-03dbc8b8-86f2-4e14-aba3-5599b3c2a7f5
DTSTAMP:20260425T225947Z
SUMMARY:Laudes
DESCRIPTION:https://www2.bistum-augsburg.de/gottesdienste/laudes_id1727945
DTSTART;TZID=Europe/Berlin:20260507T071500
DURATION:PT30M
LOCATION:St. Markus
END:VEVENT
BEGIN:VEVENT
UID:sabre-vobject-e8073d23-b58e-4f78-90d0-c6779b71fb82
DTSTAMP:20260425T225947Z
SUMMARY:PGR-Sitzung
DESCRIPTION:https://www2.bistum-augsburg.de/gottesdienste/pgr-sitzung_id172
 7946
DTSTART;TZID=Europe/Berlin:20260507T200000
DURATION:PT30M
LOCATION:St. Markus
END:VEVENT
BEGIN:VEVENT
UID:sabre-vobject-5345b0ea-a89d-4150-8b05-4acc0c87de7d
DTSTAMP:20260425T225947Z
SUMMARY:Sonntag-Vorabendmesse "Himmlische Liturgie" im byzantinischen Ritus
DESCRIPTION:https://www2.bistum-augsburg.de/gottesdienste/sonntag-vorabendm
 esse-himmlische-liturgie-im-byzantinischen-ritus_id1727947
DTSTART;TZID=Europe/Berlin:20260509T180000
DURATION:PT30M
LOCATION:St. Markus
END:VEVENT
BEGIN:VEVENT
UID:sabre-vobject-066a4b7b-74d0-43b9-9f61-11d4aca3ddd0
DTSTAMP:20260425T225947Z
SUMMARY:In Schwatzen: Bittgang u. Hl. Messe - Treffpunkt am Brunnen\, Hl. M
 esse auf der Halde beim Wasserbehälter
DESCRIPTION:https://www2.bistum-augsburg.de/gottesdienste/in-schwatzen-bitt
 gang-u-hl-messe-treffpunkt-am-brunnen-hl-messe-auf-der-halde-beim-wasserbe
 haelter_id1727975
DTSTART;TZID=Europe/Berlin:20260511T180000
DURATION:PT30M
LOCATION:St. Markus
END:VEVENT
BEGIN:VEVENT
UID:sabre-vobject-1fb46704-6ca6-4586-88d2-9e9499042ef5
DTSTAMP:20260425T225947Z
SUMMARY:Festgottesdienst
DESCRIPTION:https://www2.bistum-augsburg.de/gottesdienste/festgottesdienst_
 id1728001
DTSTART;TZID=Europe/Berlin:20260514T103000
DURATION:PT30M
LOCATION:St. Markus
END:VEVENT
BEGIN:VEVENT
UID:sabre-vobject-ee33d4ae-044b-4f28-b67e-97451296a56f
DTSTAMP:20260425T225947Z
SUMMARY:Erstkommunionausflug
DESCRIPTION:https://www2.bistum-augsburg.de/gottesdienste/erstkommunionausf
 lug_id1728002
DTSTART;TZID=Europe/Berlin:20260515T080000
DURATION:PT30M
LOCATION:St. Markus
END:VEVENT
BEGIN:VEVENT
UID:sabre-vobject-49c94736-1c86-4b94-bc78-6a2ab4c65dde
DTSTAMP:20260425T225947Z
SUMMARY:Jahrestag der Erstkommunion
DESCRIPTION:https://www2.bistum-augsburg.de/gottesdienste/jahrestag-der-ers
 tkommunion_id1728003
DTSTART;TZID=Europe/Berlin:20260515T150000
DURATION:PT30M
LOCATION:St. Markus
END:VEVENT
BEGIN:VEVENT
UID:sabre-vobject-20957429-ff02-4b40-ad04-52784e5b9981
DTSTAMP:20260425T225947Z
SUMMARY:Im Pfarrheim: Filmabend "The Chosen"
DESCRIPTION:https://www2.bistum-augsburg.de/gottesdienste/im-pfarrheim-film
 abend-the-chosen_id1728004
DTSTART;TZID=Europe/Berlin:20260515T200000
DURATION:PT30M
LOCATION:St. Markus
END:VEVENT
BEGIN:VEVENT
UID:sabre-vobject-bae7127c-f028-4aed-847a-13cb3862cb8a
DTSTAMP:20260425T225947Z
SUMMARY:In Lindau: Prozession mit Fatima-Pilgermadonna
DESCRIPTION:https://www2.bistum-augsburg.de/gottesdienste/in-lindau-prozess
 ion-mit-fatima-pilgermadonna_id1727666
DTSTART;TZID=Europe/Berlin:20260516T183000
DURATION:PT30M
LOCATION:St. Markus
END:VEVENT
BEGIN:VEVENT
UID:sabre-vobject-96af20c5-7f74-4a38-a14d-6d5aded66391
DTSTAMP:20260425T225947Z
SUMMARY:Hl. Messe
DESCRIPTION:https://www2.bistum-augsburg.de/gottesdienste/hl-messe_id172800
 8
DTSTART;TZID=Europe/Berlin:20260517T103000
DURATION:PT30M
LOCATION:St. Markus
END:VEVENT
BEGIN:VEVENT
UID:sabre-vobject-91f03c87-89f6-40f9-a820-e965362f4d63
DTSTAMP:20260425T225947Z
SUMMARY:Maiandacht
DESCRIPTION:https://www2.bistum-augsburg.de/gottesdienste/maiandacht_id1728
 009
DTSTART;TZID=Europe/Berlin:20260519T183000
DURATION:PT30M
LOCATION:St. Markus
END:VEVENT
BEGIN:VEVENT
UID:sabre-vobject-0fd56d06-726e-4531-a3b4-f0c76a1ff517
DTSTAMP:20260425T225947Z
SUMMARY:Hl. Messe
DESCRIPTION:https://www2.bistum-augsburg.de/gottesdienste/hl-messe_id172801
 0
DTSTART;TZID=Europe/Berlin:20260519T190000
DURATION:PT30M
LOCATION:St. Markus
END:VEVENT
BEGIN:VEVENT
UID:sabre-vobject-50c999bf-833a-4e4d-985f-e0581c21d085
DTSTAMP:20260425T225947Z
SUMMARY:Stille Anbetung
DESCRIPTION:https://www2.bistum-augsburg.de/gottesdienste/stille-anbetung_i
 d1727882
DTSTART;TZID=Europe/Berlin:20260520T190000
DURATION:PT30M
LOCATION:St. Markus
END:VEVENT
BEGIN:VEVENT
UID:sabre-vobject-e39c04b7-4248-4cd1-b9f7-a8753b17980f
DTSTAMP:20260425T225947Z
SUMMARY:Laudes
DESCRIPTION:https://www2.bistum-augsburg.de/gottesdienste/laudes_id1727883
DTSTART;TZID=Europe/Berlin:20260521T071500
DURATION:PT30M
LOCATION:St. Markus
END:VEVENT
BEGIN:VEVENT
UID:sabre-vobject-0a4c4f7f-4bbb-4e8b-87ee-2bcd8b6099e5
DTSTAMP:20260425T225947Z
SUMMARY:Kapelle Wildberg: Maiandacht vom Frauenbund
DESCRIPTION:https://www2.bistum-augsburg.de/gottesdienste/kapelle-wildberg-
 maiandacht-vom-frauenbund_id1727884
DTSTART;TZID=Europe/Berlin:20260521T190000
DURATION:PT30M
LOCATION:St. Markus
END:VEVENT
BEGIN:VEVENT
UID:sabre-vobject-50c89765-263b-4d86-bcf3-3ebe181d2046
DTSTAMP:20260425T225947Z
SUMMARY:Taufe von Lars Josef Motz und Lara Zimmermann
DESCRIPTION:https://www2.bistum-augsburg.de/gottesdienste/taufe-von-lars-jo
 sef-motz-und-lara-zimmermann_id1727885
DTSTART;TZID=Europe/Berlin:20260523T140000
DURATION:PT30M
LOCATION:St. Markus
END:VEVENT
BEGIN:VEVENT
UID:sabre-vobject-6a1b949f-8486-495c-94a5-2d22ebbab674
DTSTAMP:20260425T225947Z
SUMMARY:Festgottesdienst
DESCRIPTION:https://www2.bistum-augsburg.de/gottesdienste/festgottesdienst_
 id1727999
DTSTART;TZID=Europe/Berlin:20260524T103000
DURATION:PT30M
LOCATION:St. Markus
END:VEVENT
BEGIN:VEVENT
UID:sabre-vobject-779c871f-e8ab-4e2d-8090-016bbfe3b4d2
DTSTAMP:20260425T225947Z
SUMMARY:Laudes
DESCRIPTION:https://www2.bistum-augsburg.de/gottesdienste/laudes_id1727844
DTSTART;TZID=Europe/Berlin:20260528T071500
DURATION:PT30M
LOCATION:St. Markus
END:VEVENT
BEGIN:VEVENT
UID:sabre-vobject-7823c5d9-21e2-4ffc-a079-af935e3c728a
DTSTAMP:20260425T225947Z
SUMMARY:Hl. Messe
DESCRIPTION:https://www2.bistum-augsburg.de/gottesdienste/hl-messe_id172777
 5
DTSTART;TZID=Europe/Berlin:20260531T103000
DURATION:PT30M
LOCATION:St. Markus
END:VEVENT
END:VCALENDAR
