BEGIN:VCALENDAR
VERSION:2.0
PRODID:-//Sabre//Sabre VObject 4.5.8//EN
CALSCALE:GREGORIAN
NAME:Bistum Augsburg
X-WR-CALNAME:Bistum Augsburg
BEGIN:VEVENT
UID:sabre-vobject-be9bfb1f-7e94-455e-a097-7c074b1f4615
DTSTAMP:20260424T031514Z
SUMMARY:Heilige Messe mit Gebärdensprache
DESCRIPTION:https://www2.bistum-augsburg.de/gottesdienste/heilige-messe-mit
 -gebaerdensprache_id1727912
DTSTART;TZID=Europe/Berlin:20260425T110000
DURATION:PT30M
LOCATION:St. Gallus\, Kirchplatz 2\, 88175 Scheidegg
END:VEVENT
BEGIN:VEVENT
UID:sabre-vobject-618fc956-9e5e-4a0d-bd77-22942d1af79e
DTSTAMP:20260424T031514Z
SUMMARY:Rosenkranz
DESCRIPTION:https://www2.bistum-augsburg.de/gottesdienste/rosenkranz_id1727
 913
DTSTART;TZID=Europe/Berlin:20260425T180000
DURATION:PT30M
LOCATION:St. Gallus\, Kirchplatz 2\, 88175 Scheidegg
END:VEVENT
BEGIN:VEVENT
UID:sabre-vobject-9d04cbda-fe67-4e5a-ad2f-6695052856a9
DTSTAMP:20260424T031514Z
SUMMARY:Vorabendmesse
DESCRIPTION:https://www2.bistum-augsburg.de/gottesdienste/vorabendmesse_id1
 727914
DTSTART;TZID=Europe/Berlin:20260425T183000
DURATION:PT30M
LOCATION:St. Gallus\, Kirchplatz 2\, 88175 Scheidegg
END:VEVENT
BEGIN:VEVENT
UID:sabre-vobject-e9e3b7de-1580-43bd-9ab3-144857aa7e4c
DTSTAMP:20260424T031514Z
SUMMARY:Pfarrgottesdienst
DESCRIPTION:https://www2.bistum-augsburg.de/gottesdienste/pfarrgottesdienst
 _id1727915
DTSTART;TZID=Europe/Berlin:20260426T100000
DURATION:PT30M
LOCATION:St. Gallus\, Kirchplatz 2\, 88175 Scheidegg
END:VEVENT
BEGIN:VEVENT
UID:sabre-vobject-f0b235a4-2619-49e4-a8a8-dba47da30587
DTSTAMP:20260424T031514Z
SUMMARY:Pfarrgottesdienst zum 1. Mai
DESCRIPTION:https://www2.bistum-augsburg.de/gottesdienste/pfarrgottesdienst
 -zum-1-mai_id1729497
DTSTART;TZID=Europe/Berlin:20260501T090000
DURATION:PT30M
LOCATION:St. Gallus\, Kirchplatz 2\, 88175 Scheidegg
END:VEVENT
BEGIN:VEVENT
UID:sabre-vobject-1d058184-5ecd-449d-b225-40653c0ef47e
DTSTAMP:20260424T031514Z
SUMMARY:Beichtgesprächs-Gelegenheit im Pfarrhaus
DESCRIPTION:https://www2.bistum-augsburg.de/gottesdienste/beichtgespraechs-
 gelegenheit-im-pfarrhaus_id1729504
DTSTART;TZID=Europe/Berlin:20260502T173000
DURATION:PT30M
LOCATION:St. Gallus\, Kirchplatz 2\, 88175 Scheidegg
END:VEVENT
BEGIN:VEVENT
UID:sabre-vobject-8d4eb431-214c-4676-9f3e-ff6c2ef93120
DTSTAMP:20260424T031514Z
SUMMARY:Rosenkranz
DESCRIPTION:https://www2.bistum-augsburg.de/gottesdienste/rosenkranz_id1729
 505
DTSTART;TZID=Europe/Berlin:20260502T180000
DURATION:PT30M
LOCATION:St. Gallus\, Kirchplatz 2\, 88175 Scheidegg
END:VEVENT
BEGIN:VEVENT
UID:sabre-vobject-3d365f7f-2135-4887-bf20-2a77739e3a95
DTSTAMP:20260424T031514Z
SUMMARY:Vorabendmesse
DESCRIPTION:https://www2.bistum-augsburg.de/gottesdienste/vorabendmesse_id1
 729499
DTSTART;TZID=Europe/Berlin:20260502T183000
DURATION:PT30M
LOCATION:St. Gallus\, Kirchplatz 2\, 88175 Scheidegg
END:VEVENT
BEGIN:VEVENT
UID:sabre-vobject-e585accf-a1ec-48ec-aafa-2fc896f43ccb
DTSTAMP:20260424T031514Z
SUMMARY:Pfarrgottesdienst
DESCRIPTION:https://www2.bistum-augsburg.de/gottesdienste/pfarrgottesdienst
 _id1729500
DTSTART;TZID=Europe/Berlin:20260503T100000
DURATION:PT30M
LOCATION:St. Gallus\, Kirchplatz 2\, 88175 Scheidegg
END:VEVENT
BEGIN:VEVENT
UID:sabre-vobject-d62a3de4-2449-49e5-ac92-c639a126e505
DTSTAMP:20260424T031514Z
SUMMARY:Kinderkirche im Meditationsraum
DESCRIPTION:https://www2.bistum-augsburg.de/gottesdienste/kinderkirche-im-m
 editationsraum_id1729515
DTSTART;TZID=Europe/Berlin:20260503T100000
DURATION:PT30M
LOCATION:St. Gallus\, Kirchplatz 2\, 88175 Scheidegg
END:VEVENT
BEGIN:VEVENT
UID:sabre-vobject-a3b20552-7794-48c2-a394-b08f4a63d3fe
DTSTAMP:20260424T031514Z
SUMMARY:1. Maiandacht mit Kirchenchor
DESCRIPTION:https://www2.bistum-augsburg.de/gottesdienste/1-maiandacht-mit-
 kirchenchor_id1729525
DTSTART;TZID=Europe/Berlin:20260503T183000
DURATION:PT30M
LOCATION:St. Gallus\, Kirchplatz 2\, 88175 Scheidegg
END:VEVENT
BEGIN:VEVENT
UID:sabre-vobject-b293a742-62f9-44df-bada-66a389b2f553
DTSTAMP:20260424T031514Z
SUMMARY:Yougo - Jugendgottesdienst
DESCRIPTION:https://www2.bistum-augsburg.de/gottesdienste/yougo-jugendgotte
 sdienst_id1730463
DTSTART;TZID=Europe/Berlin:20260503T190000
DURATION:PT30M
LOCATION:St. Gallus\, Kirchplatz 2\, 88175 Scheidegg
END:VEVENT
BEGIN:VEVENT
UID:sabre-vobject-dab29651-423f-407a-88ad-496ef0ac5f30
DTSTAMP:20260424T031514Z
SUMMARY:Heilige Messe
DESCRIPTION:https://www2.bistum-augsburg.de/gottesdienste/heilige-messe_id1
 729508
DTSTART;TZID=Europe/Berlin:20260505T183000
DURATION:PT30M
LOCATION:St. Gallus\, Kirchplatz 2\, 88175 Scheidegg
END:VEVENT
BEGIN:VEVENT
UID:sabre-vobject-741f175f-8f1e-4599-ac4a-e5ae47f82fa4
DTSTAMP:20260424T031514Z
SUMMARY:Heilige Messe
DESCRIPTION:https://www2.bistum-augsburg.de/gottesdienste/heilige-messe_id1
 729516
DTSTART;TZID=Europe/Berlin:20260507T183000
DURATION:PT30M
LOCATION:St. Gallus\, Kirchplatz 2\, 88175 Scheidegg
END:VEVENT
BEGIN:VEVENT
UID:sabre-vobject-938ade7b-69e1-4012-8db7-6a18f2020e88
DTSTAMP:20260424T031514Z
SUMMARY:Motorradsegnung / Marienkapelle Haus
DESCRIPTION:https://www2.bistum-augsburg.de/gottesdienste/motorradsegnung-m
 arienkapelle-haus_id1729521
DTSTART;TZID=Europe/Berlin:20260509T190000
DURATION:PT30M
LOCATION:St. Gallus\, Kirchplatz 2\, 88175 Scheidegg
END:VEVENT
BEGIN:VEVENT
UID:sabre-vobject-503a58f1-f4c1-4b4c-ab83-1ade2eadf468
DTSTAMP:20260424T031514Z
SUMMARY:Familiengottesdienst zum Muttertag gestaltet von Mugru
DESCRIPTION:https://www2.bistum-augsburg.de/gottesdienste/familiengottesdie
 nst-zum-muttertag-gestaltet-von-mugru_id1729526
DTSTART;TZID=Europe/Berlin:20260510T100000
DURATION:PT30M
LOCATION:St. Gallus\, Kirchplatz 2\, 88175 Scheidegg
END:VEVENT
BEGIN:VEVENT
UID:sabre-vobject-fbaba5ea-7063-4ed3-ae4f-01e81402c3d7
DTSTAMP:20260424T031514Z
SUMMARY:2. Maiandacht mit eucharistischem Segen
DESCRIPTION:https://www2.bistum-augsburg.de/gottesdienste/2-maiandacht-mit-
 eucharistischem-segen_id1729542
DTSTART;TZID=Europe/Berlin:20260510T183000
DURATION:PT30M
LOCATION:St. Gallus\, Kirchplatz 2\, 88175 Scheidegg
END:VEVENT
BEGIN:VEVENT
UID:sabre-vobject-c2f77ae0-125b-4a57-b098-da4dbe652742
DTSTAMP:20260424T031514Z
SUMMARY:1.Bittgang von Pfarrkirche Scheidegg nach Möggers
DESCRIPTION:https://www2.bistum-augsburg.de/gottesdienste/1-bittgang-von-pf
 arrkirche-scheidegg-nach-moeggers_id1729543
DTSTART;TZID=Europe/Berlin:20260511T180000
DURATION:PT30M
LOCATION:St. Gallus\, Kirchplatz 2\, 88175 Scheidegg
END:VEVENT
BEGIN:VEVENT
UID:sabre-vobject-9fc9abe3-4333-4d2c-b169-6c734fcc97fc
DTSTAMP:20260424T031514Z
SUMMARY:Heilige Messe (1.Bittgang) in der Pfarrkirche St. Ulrich in Mögger
 s
DESCRIPTION:https://www2.bistum-augsburg.de/gottesdienste/heilige-messe-1-b
 ittgang-in-der-pfarrkirche-st-ulrich-in-moeggers_id1729544
DTSTART;TZID=Europe/Berlin:20260511T193000
DURATION:PT30M
LOCATION:St. Gallus\, Kirchplatz 2\, 88175 Scheidegg
END:VEVENT
BEGIN:VEVENT
UID:sabre-vobject-43121a34-efdd-4446-b5c6-6487bef0afd1
DTSTAMP:20260424T031514Z
SUMMARY:2.Bittgang nach Haus\, Treffpunkt Pfarrkirche
DESCRIPTION:https://www2.bistum-augsburg.de/gottesdienste/2-bittgang-nach-h
 aus-treffpunkt-pfarrkirche_id1729545
DTSTART;TZID=Europe/Berlin:20260512T180000
DURATION:PT30M
LOCATION:St. Gallus\, Kirchplatz 2\, 88175 Scheidegg
END:VEVENT
BEGIN:VEVENT
UID:sabre-vobject-e0b17dc7-7985-4ff6-83ea-93fd1c244da2
DTSTAMP:20260424T031514Z
SUMMARY:Heilige Messe (2. Bittgang) in der Marienkapelle in Haus
DESCRIPTION:https://www2.bistum-augsburg.de/gottesdienste/heilige-messe-2-b
 ittgang-in-der-marienkapelle-in-haus_id1729546
DTSTART;TZID=Europe/Berlin:20260512T193000
DURATION:PT30M
LOCATION:St. Gallus\, Kirchplatz 2\, 88175 Scheidegg
END:VEVENT
BEGIN:VEVENT
UID:sabre-vobject-fd55435b-2a71-42f4-98fa-2e74df1a68d3
DTSTAMP:20260424T031514Z
SUMMARY:3.Bittgang nach Unterstein\, Treffpunkt Pfarrkirche
DESCRIPTION:https://www2.bistum-augsburg.de/gottesdienste/3-bittgang-nach-u
 nterstein-treffpunkt-pfarrkirche_id1729553
DTSTART;TZID=Europe/Berlin:20260513T180000
DURATION:PT30M
LOCATION:St. Gallus\, Kirchplatz 2\, 88175 Scheidegg
END:VEVENT
BEGIN:VEVENT
UID:sabre-vobject-3983e68b-f147-4478-a11c-c14f925f13db
DTSTAMP:20260424T031514Z
SUMMARY:Heilige Messe (3.Bittgang) Anna- und Joachimkapelle\, Unterstein
DESCRIPTION:https://www2.bistum-augsburg.de/gottesdienste/heilige-messe-3-b
 ittgang-anna-und-joachimkapelle-unterstein_id1729554
DTSTART;TZID=Europe/Berlin:20260513T193000
DURATION:PT30M
LOCATION:St. Gallus\, Kirchplatz 2\, 88175 Scheidegg
END:VEVENT
BEGIN:VEVENT
UID:sabre-vobject-76b2bdf3-5213-4aa3-a66e-73152fff90ec
DTSTAMP:20260424T031514Z
SUMMARY:Pfarrgottesdienst / Christi Himmelfahrt gestaltet vom Kirchenchor
DESCRIPTION:https://www2.bistum-augsburg.de/gottesdienste/pfarrgottesdienst
 -christi-himmelfahrt-gestaltet-vom-kirchenchor_id1729555
DTSTART;TZID=Europe/Berlin:20260514T100000
DURATION:PT30M
LOCATION:St. Gallus\, Kirchplatz 2\, 88175 Scheidegg
END:VEVENT
BEGIN:VEVENT
UID:sabre-vobject-21ec1bc8-dc6c-4ac2-b149-b6e006d490c7
DTSTAMP:20260424T031514Z
SUMMARY:Fahrradsegnung in der Anna und Joachimkapelle in Unterstein mit ans
 chl. gemütlichen Beisammensein\, mit Bewirtung u. den Untersteiner-Musika
 nten
DESCRIPTION:https://www2.bistum-augsburg.de/gottesdienste/fahrradsegnung-in
 -der-anna-und-joachimkapelle-in-unterstein-mit-anschl-gemuetlichen-beisamm
 ensein-mit-bewirtung-u-den-untersteiner-musikanten_id1729556
DTSTART;TZID=Europe/Berlin:20260514T143000
DURATION:PT30M
LOCATION:St. Gallus\, Kirchplatz 2\, 88175 Scheidegg
END:VEVENT
BEGIN:VEVENT
UID:sabre-vobject-4296f6ba-2d49-49cb-81b9-73a46ac42cc7
DTSTAMP:20260424T031514Z
SUMMARY:Grenzgottesdienst unterhalb der Ulrichskapelle Möggers gest. von d
 en Pfänderstock-Buaba
DESCRIPTION:https://www2.bistum-augsburg.de/gottesdienste/grenzgottesdienst
 -unterhalb-der-ulrichskapelle-moeggers-gest-von-den-pfaenderstock-buaba_id
 1729557
DTSTART;TZID=Europe/Berlin:20260516T193000
DURATION:PT30M
LOCATION:St. Gallus\, Kirchplatz 2\, 88175 Scheidegg
END:VEVENT
BEGIN:VEVENT
UID:sabre-vobject-33e2d812-3580-4b2f-8dc3-f1aee6e0386c
DTSTAMP:20260424T031514Z
SUMMARY:Pfarrgottesdienst
DESCRIPTION:https://www2.bistum-augsburg.de/gottesdienste/pfarrgottesdienst
 _id1729558
DTSTART;TZID=Europe/Berlin:20260517T100000
DURATION:PT30M
LOCATION:St. Gallus\, Kirchplatz 2\, 88175 Scheidegg
END:VEVENT
BEGIN:VEVENT
UID:sabre-vobject-074a8b51-8184-4a76-ae88-ad61077ad66a
DTSTAMP:20260424T031514Z
SUMMARY:Heilige Messe
DESCRIPTION:https://www2.bistum-augsburg.de/gottesdienste/heilige-messe_id1
 729559
DTSTART;TZID=Europe/Berlin:20260519T183000
DURATION:PT30M
LOCATION:St. Gallus\, Kirchplatz 2\, 88175 Scheidegg
END:VEVENT
BEGIN:VEVENT
UID:sabre-vobject-7271b42f-e7ed-4cf4-8c1b-c071ef219c2a
DTSTAMP:20260424T031514Z
SUMMARY:Heilige Messe
DESCRIPTION:https://www2.bistum-augsburg.de/gottesdienste/heilige-messe_id1
 729560
DTSTART;TZID=Europe/Berlin:20260520T190000
DURATION:PT30M
LOCATION:St. Gallus\, Kirchplatz 2\, 88175 Scheidegg
END:VEVENT
BEGIN:VEVENT
UID:sabre-vobject-0fab2a00-1763-489a-805c-357eed59d009
DTSTAMP:20260424T031514Z
SUMMARY:Heilige Messe
DESCRIPTION:https://www2.bistum-augsburg.de/gottesdienste/heilige-messe_id1
 730501
DTSTART;TZID=Europe/Berlin:20260521T183000
DURATION:PT30M
LOCATION:St. Gallus\, Kirchplatz 2\, 88175 Scheidegg
END:VEVENT
BEGIN:VEVENT
UID:sabre-vobject-3d6f4010-b417-4eda-b314-ff985dd53e69
DTSTAMP:20260424T031514Z
SUMMARY:Beichtgesprächs-Gelegenheit im Pfarrhaus
DESCRIPTION:https://www2.bistum-augsburg.de/gottesdienste/beichtgespraechs-
 gelegenheit-im-pfarrhaus_id1729589
DTSTART;TZID=Europe/Berlin:20260523T173000
DURATION:PT30M
LOCATION:St. Gallus\, Kirchplatz 2\, 88175 Scheidegg
END:VEVENT
BEGIN:VEVENT
UID:sabre-vobject-a5e4c989-6fdc-4229-975f-eadb22acc0c8
DTSTAMP:20260424T031514Z
SUMMARY:Rosenkranz
DESCRIPTION:https://www2.bistum-augsburg.de/gottesdienste/rosenkranz_id1729
 590
DTSTART;TZID=Europe/Berlin:20260523T180000
DURATION:PT30M
LOCATION:St. Gallus\, Kirchplatz 2\, 88175 Scheidegg
END:VEVENT
BEGIN:VEVENT
UID:sabre-vobject-ac3009bb-4cbc-4e06-b840-1efbfdc8089a
DTSTAMP:20260424T031514Z
SUMMARY:Vorabendmesse
DESCRIPTION:https://www2.bistum-augsburg.de/gottesdienste/vorabendmesse_id1
 729588
DTSTART;TZID=Europe/Berlin:20260523T183000
DURATION:PT30M
LOCATION:St. Gallus\, Kirchplatz 2\, 88175 Scheidegg
END:VEVENT
BEGIN:VEVENT
UID:sabre-vobject-ea8018cd-e92d-4843-a100-afa4f73263de
DTSTAMP:20260424T031514Z
SUMMARY:Festgottesdienst zu Pfingsten\, gestaltet vom Kirchenchor mit Hostu
 be mit Kirchencafe
DESCRIPTION:https://www2.bistum-augsburg.de/gottesdienste/festgottesdienst-
 zu-pfingsten-gestaltet-vom-kirchenchor-mit-hostube-mit-kirchencafe_id17294
 34
DTSTART;TZID=Europe/Berlin:20260524T100000
DURATION:PT30M
LOCATION:St. Gallus\, Kirchplatz 2\, 88175 Scheidegg
END:VEVENT
BEGIN:VEVENT
UID:sabre-vobject-6e4fe4e8-3825-46f6-89b7-f45228fa2434
DTSTAMP:20260424T031514Z
SUMMARY:3. Maiandacht mit Liturgiekreis
DESCRIPTION:https://www2.bistum-augsburg.de/gottesdienste/3-maiandacht-mit-
 liturgiekreis_id1729435
DTSTART;TZID=Europe/Berlin:20260524T183000
DURATION:PT30M
LOCATION:St. Gallus\, Kirchplatz 2\, 88175 Scheidegg
END:VEVENT
BEGIN:VEVENT
UID:sabre-vobject-dc0e540a-648a-42b1-9eea-159036f6554d
DTSTAMP:20260424T031514Z
SUMMARY:Pfarrgottesdienst
DESCRIPTION:https://www2.bistum-augsburg.de/gottesdienste/pfarrgottesdienst
 _id1729321
DTSTART;TZID=Europe/Berlin:20260525T100000
DURATION:PT30M
LOCATION:St. Gallus\, Kirchplatz 2\, 88175 Scheidegg
END:VEVENT
BEGIN:VEVENT
UID:sabre-vobject-f1e8b7a8-fa85-4f47-a83a-7cf6cbc8f237
DTSTAMP:20260424T031514Z
SUMMARY:Maiandacht
DESCRIPTION:https://www2.bistum-augsburg.de/gottesdienste/maiandacht_id1729
 322
DTSTART;TZID=Europe/Berlin:20260529T190000
DURATION:PT30M
LOCATION:St. Gallus\, Kirchplatz 2\, 88175 Scheidegg
END:VEVENT
BEGIN:VEVENT
UID:sabre-vobject-8ce72579-80b2-482b-838b-19864f3d880f
DTSTAMP:20260424T031514Z
SUMMARY:Beichtgesprächs-Gelegenheit im Pfarrhaus
DESCRIPTION:https://www2.bistum-augsburg.de/gottesdienste/beichtgespraechs-
 gelegenheit-im-pfarrhaus_id1729323
DTSTART;TZID=Europe/Berlin:20260530T173000
DURATION:PT30M
LOCATION:St. Gallus\, Kirchplatz 2\, 88175 Scheidegg
END:VEVENT
BEGIN:VEVENT
UID:sabre-vobject-d51c3505-444f-418a-bbbe-a73748fdbee1
DTSTAMP:20260424T031514Z
SUMMARY:Rosenkranz
DESCRIPTION:https://www2.bistum-augsburg.de/gottesdienste/rosenkranz_id1729
 324
DTSTART;TZID=Europe/Berlin:20260530T180000
DURATION:PT30M
LOCATION:St. Gallus\, Kirchplatz 2\, 88175 Scheidegg
END:VEVENT
BEGIN:VEVENT
UID:sabre-vobject-0d072cbd-a9f1-4a3a-8acb-6e3c90b29701
DTSTAMP:20260424T031514Z
SUMMARY:Vorabendmesse
DESCRIPTION:https://www2.bistum-augsburg.de/gottesdienste/vorabendmesse_id1
 729517
DTSTART;TZID=Europe/Berlin:20260530T183000
DURATION:PT30M
LOCATION:St. Gallus\, Kirchplatz 2\, 88175 Scheidegg
END:VEVENT
BEGIN:VEVENT
UID:sabre-vobject-d4b57b1f-ab47-4814-98f6-01e9d84a5e49
DTSTAMP:20260424T031514Z
SUMMARY:Pfarrgottesdienst
DESCRIPTION:https://www2.bistum-augsburg.de/gottesdienste/pfarrgottesdienst
 _id1729518
DTSTART;TZID=Europe/Berlin:20260531T100000
DURATION:PT30M
LOCATION:St. Gallus\, Kirchplatz 2\, 88175 Scheidegg
END:VEVENT
END:VCALENDAR
