BEGIN:VCALENDAR
VERSION:2.0
PRODID:-//Sabre//Sabre VObject 4.5.8//EN
CALSCALE:GREGORIAN
NAME:Bistum Augsburg
X-WR-CALNAME:Bistum Augsburg
BEGIN:VEVENT
UID:sabre-vobject-487e369c-a090-4c24-976e-a10c60dc183d
DTSTAMP:20260425T005050Z
SUMMARY:Pfarrgottesdienst
DESCRIPTION:https://www2.bistum-augsburg.de/gottesdienste/pfarrgottesdienst
 _id1715957
DTSTART;TZID=Europe/Berlin:20260426T101500
DURATION:PT30M
LOCATION:St. Martin\, Dorfstraße 5\, 87547 Missen-Wilhams
END:VEVENT
BEGIN:VEVENT
UID:sabre-vobject-a0056e04-b9d5-48b0-af68-4eaa0871156f
DTSTAMP:20260425T005050Z
SUMMARY:Hl. Messe
DESCRIPTION:https://www2.bistum-augsburg.de/gottesdienste/hl-messe_id171595
 8
DTSTART;TZID=Europe/Berlin:20260428T190000
DURATION:PT30M
LOCATION:St. Martin\, Dorfstraße 5\, 87547 Missen-Wilhams
END:VEVENT
BEGIN:VEVENT
UID:sabre-vobject-6dec338d-f047-4a7a-b7d0-ceaaa0fd446b
DTSTAMP:20260425T005050Z
SUMMARY:Sitzung d. PGR
DESCRIPTION:https://www2.bistum-augsburg.de/gottesdienste/sitzung-d-pgr_id1
 715959
DTSTART;TZID=Europe/Berlin:20260429T200000
DURATION:PT30M
LOCATION:St. Martin\, Dorfstraße 5\, 87547 Missen-Wilhams
END:VEVENT
BEGIN:VEVENT
UID:sabre-vobject-37c680a4-b918-4437-9a83-ab08734b68a8
DTSTAMP:20260425T005050Z
SUMMARY:Taufe
DESCRIPTION:https://www2.bistum-augsburg.de/gottesdienste/taufe_id1715800
DTSTART;TZID=Europe/Berlin:20260502T140000
DURATION:PT30M
LOCATION:St. Martin\, Dorfstraße 5\, 87547 Missen-Wilhams
END:VEVENT
BEGIN:VEVENT
UID:sabre-vobject-ab9c04b8-6ede-41fd-a6b1-3f3db5bffac1
DTSTAMP:20260425T005050Z
SUMMARY:Seniorenwallfahrt n. Wettenhausen
DESCRIPTION:https://www2.bistum-augsburg.de/gottesdienste/seniorenwallfahrt
 -n-wettenhausen_id1715801
DTSTART;TZID=Europe/Berlin:20260505T080000
DURATION:PT30M
LOCATION:St. Martin\, Dorfstraße 5\, 87547 Missen-Wilhams
END:VEVENT
BEGIN:VEVENT
UID:sabre-vobject-9f31371c-0285-4c1b-b7bb-12331f1be342
DTSTAMP:20260425T005050Z
SUMMARY:Maiandacht gest. v. PGR
DESCRIPTION:https://www2.bistum-augsburg.de/gottesdienste/maiandacht-gest-v
 -pgr_id1715802
DTSTART;TZID=Europe/Berlin:20260505T190000
DURATION:PT30M
LOCATION:St. Martin\, Dorfstraße 5\, 87547 Missen-Wilhams
END:VEVENT
BEGIN:VEVENT
UID:sabre-vobject-2b1123de-6c0c-4c75-919c-f9279fccaed0
DTSTAMP:20260425T005050Z
SUMMARY:Firmandacht d. Dekanates in Seifriedsberg
DESCRIPTION:https://www2.bistum-augsburg.de/gottesdienste/firmandacht-d-dek
 anates-in-seifriedsberg_id1715866
DTSTART;TZID=Europe/Berlin:20260506T190000
DURATION:PT30M
LOCATION:St. Martin\, Dorfstraße 5\, 87547 Missen-Wilhams
END:VEVENT
BEGIN:VEVENT
UID:sabre-vobject-e26bd176-7671-4c44-a2e3-bd5b5c9d0acb
DTSTAMP:20260425T005050Z
SUMMARY:Bezirksmaiandacht d. KDFB  - musik. mitgest. v.d. Niedersonthofer S
 ingfehla
DESCRIPTION:https://www2.bistum-augsburg.de/gottesdienste/bezirksmaiandacht
 -d-kdfb-musik-mitgest-v-d-niedersonthofer-singfehla_id1715819
DTSTART;TZID=Europe/Berlin:20260506T193000
DURATION:PT30M
LOCATION:St. Martin\, Dorfstraße 5\, 87547 Missen-Wilhams
END:VEVENT
BEGIN:VEVENT
UID:sabre-vobject-44be1f18-e1df-43cc-aeae-04bc69973b64
DTSTAMP:20260425T005050Z
SUMMARY:Krankenkommunion in der PG
DESCRIPTION:https://www2.bistum-augsburg.de/gottesdienste/krankenkommunion-
 in-der-pg_id1715820
DTSTART;TZID=Europe/Berlin:20260508T000000
DURATION:PT30M
LOCATION:St. Martin\, Dorfstraße 5\, 87547 Missen-Wilhams
END:VEVENT
BEGIN:VEVENT
UID:sabre-vobject-951acd86-4a9c-4419-941f-28b6d877a7ca
DTSTAMP:20260425T005050Z
SUMMARY:Patrozinium d. Nikolauskapelle Missen-Berg
DESCRIPTION:https://www2.bistum-augsburg.de/gottesdienste/patrozinium-d-nik
 olauskapelle-missen-berg_id1715821
DTSTART;TZID=Europe/Berlin:20260509T143000
DURATION:PT30M
LOCATION:St. Martin\, Dorfstraße 5\, 87547 Missen-Wilhams
END:VEVENT
BEGIN:VEVENT
UID:sabre-vobject-b5c3d734-4aaf-407b-a598-7feac0bb52d1
DTSTAMP:20260425T005050Z
SUMMARY:Pfarrgottesdienst
DESCRIPTION:https://www2.bistum-augsburg.de/gottesdienste/pfarrgottesdienst
 _id1715854
DTSTART;TZID=Europe/Berlin:20260510T090000
DURATION:PT30M
LOCATION:St. Martin\, Dorfstraße 5\, 87547 Missen-Wilhams
END:VEVENT
BEGIN:VEVENT
UID:sabre-vobject-685fb643-cf22-4f0d-8d27-beb1ae8ccb0e
DTSTAMP:20260425T005050Z
SUMMARY:Maiandacht gest. v. PGR
DESCRIPTION:https://www2.bistum-augsburg.de/gottesdienste/maiandacht-gest-v
 -pgr_id1715855
DTSTART;TZID=Europe/Berlin:20260510T190000
DURATION:PT30M
LOCATION:St. Martin\, Dorfstraße 5\, 87547 Missen-Wilhams
END:VEVENT
END:VCALENDAR
