BEGIN:VCALENDAR
VERSION:2.0
PRODID:-//Sabre//Sabre VObject 4.5.8//EN
CALSCALE:GREGORIAN
NAME:Bistum Augsburg
X-WR-CALNAME:Bistum Augsburg
BEGIN:VEVENT
UID:sabre-vobject-cc7b5014-1c89-446c-aa39-0899c20ba1c9
DTSTAMP:20260425T115243Z
SUMMARY:Pfarrgottesdienst
DESCRIPTION:https://www2.bistum-augsburg.de/gottesdienste/pfarrgottesdienst
 _id1724762
DTSTART;TZID=Europe/Berlin:20260426T091500
DURATION:PT30M
LOCATION:St. Barbara
END:VEVENT
END:VCALENDAR
