BEGIN:VCALENDAR
VERSION:2.0
PRODID:-//Sabre//Sabre VObject 4.5.8//EN
CALSCALE:GREGORIAN
NAME:Bistum Augsburg
X-WR-CALNAME:Bistum Augsburg
BEGIN:VEVENT
UID:sabre-vobject-c54419c3-b2da-4200-a2fc-c035a490cf5d
DTSTAMP:20260422T025213Z
SUMMARY:Probe zur Erstkommunion
DESCRIPTION:https://www2.bistum-augsburg.de/gottesdienste/probe-zur-erstkom
 munion_id1714237
DTSTART;TZID=Europe/Berlin:20260423T170000
DURATION:PT30M
LOCATION:St. Martin\, Frankenhofener Str. 2\, 86825 Bad Wörishofen
END:VEVENT
BEGIN:VEVENT
UID:sabre-vobject-592a0bff-a984-4d96-bfcb-e19586cbcd1b
DTSTAMP:20260422T025213Z
SUMMARY:Erstkommunionfeier musikalische Gestaltung: Singgemeinschaft Schlin
 gen
DESCRIPTION:https://www2.bistum-augsburg.de/gottesdienste/erstkommunionfeie
 r-musikalische-gestaltung-singgemeinschaft-schlingen_id1722604
DTSTART;TZID=Europe/Berlin:20260425T101500
DURATION:PT30M
LOCATION:St. Martin\, Frankenhofener Str. 2\, 86825 Bad Wörishofen
END:VEVENT
BEGIN:VEVENT
UID:sabre-vobject-8c4d08d7-374f-4451-8682-42e36c3edf53
DTSTAMP:20260422T025213Z
SUMMARY:Hl. Messe
DESCRIPTION:https://www2.bistum-augsburg.de/gottesdienste/hl-messe_id172260
 5
DTSTART;TZID=Europe/Berlin:20260428T190000
DURATION:PT30M
LOCATION:St. Martin\, Frankenhofener Str. 2\, 86825 Bad Wörishofen
END:VEVENT
BEGIN:VEVENT
UID:sabre-vobject-6277ef1a-3850-4bd0-89c7-3e2fbf0f6b88
DTSTAMP:20260422T025213Z
SUMMARY:Hl. Messe
DESCRIPTION:https://www2.bistum-augsburg.de/gottesdienste/hl-messe_id172260
 6
DTSTART;TZID=Europe/Berlin:20260501T101500
DURATION:PT30M
LOCATION:St. Martin\, Frankenhofener Str. 2\, 86825 Bad Wörishofen
END:VEVENT
BEGIN:VEVENT
UID:sabre-vobject-0f8bede8-fad3-4764-8113-8b756d490d30
DTSTAMP:20260422T025213Z
SUMMARY:Ewige Anbetung mit Te Deum und eucharistischem Segen
DESCRIPTION:https://www2.bistum-augsburg.de/gottesdienste/ewige-anbetung-mi
 t-te-deum-und-eucharistischem-segen_id1722646
DTSTART;TZID=Europe/Berlin:20260502T180000
DURATION:PT30M
LOCATION:St. Martin\, Frankenhofener Str. 2\, 86825 Bad Wörishofen
END:VEVENT
BEGIN:VEVENT
UID:sabre-vobject-4a4a3c22-3198-46bb-b610-4243c796a24c
DTSTAMP:20260422T025213Z
SUMMARY:Hl. Messe
DESCRIPTION:https://www2.bistum-augsburg.de/gottesdienste/hl-messe_id172264
 7
DTSTART;TZID=Europe/Berlin:20260502T190000
DURATION:PT30M
LOCATION:St. Martin\, Frankenhofener Str. 2\, 86825 Bad Wörishofen
END:VEVENT
BEGIN:VEVENT
UID:sabre-vobject-d3a00c60-5889-4d02-b96b-619facdcd073
DTSTAMP:20260422T025213Z
SUMMARY:Maiandacht musikalische Gestaltung: Singgemeinschaft Schlingen
DESCRIPTION:https://www2.bistum-augsburg.de/gottesdienste/maiandacht-musika
 lische-gestaltung-singgemeinschaft-schlingen_id1722648
DTSTART;TZID=Europe/Berlin:20260503T190000
DURATION:PT30M
LOCATION:St. Martin\, Frankenhofener Str. 2\, 86825 Bad Wörishofen
END:VEVENT
BEGIN:VEVENT
UID:sabre-vobject-d2253360-2555-4396-ac49-f017477f4582
DTSTAMP:20260422T025213Z
SUMMARY:Maiandacht gestaltet vom Frauenkreis aus Stockheim
DESCRIPTION:https://www2.bistum-augsburg.de/gottesdienste/maiandacht-gestal
 tet-vom-frauenkreis-aus-stockheim_id1722661
DTSTART;TZID=Europe/Berlin:20260504T190000
DURATION:PT30M
LOCATION:St. Martin\, Frankenhofener Str. 2\, 86825 Bad Wörishofen
END:VEVENT
BEGIN:VEVENT
UID:sabre-vobject-604df81e-e5ec-4573-a5ce-43aaeff4111e
DTSTAMP:20260422T025213Z
SUMMARY:Rosenkranzgebet
DESCRIPTION:https://www2.bistum-augsburg.de/gottesdienste/rosenkranzgebet_i
 d1722662
DTSTART;TZID=Europe/Berlin:20260505T183000
DURATION:PT30M
LOCATION:St. Martin\, Frankenhofener Str. 2\, 86825 Bad Wörishofen
END:VEVENT
BEGIN:VEVENT
UID:sabre-vobject-c2b82154-87e0-4297-aaea-3c7eaf848ca7
DTSTAMP:20260422T025213Z
SUMMARY:Hl. Messe
DESCRIPTION:https://www2.bistum-augsburg.de/gottesdienste/hl-messe_id172266
 3
DTSTART;TZID=Europe/Berlin:20260505T190000
DURATION:PT30M
LOCATION:St. Martin\, Frankenhofener Str. 2\, 86825 Bad Wörishofen
END:VEVENT
END:VCALENDAR
