BEGIN:VCALENDAR
VERSION:2.0
PRODID:-//Sabre//Sabre VObject 4.5.8//EN
CALSCALE:GREGORIAN
NAME:Bistum Augsburg
X-WR-CALNAME:Bistum Augsburg
BEGIN:VEVENT
UID:sabre-vobject-2998bc3b-e211-4f7e-a669-54bab47b095c
DTSTAMP:20260422T015348Z
SUMMARY:Heilige Messe
DESCRIPTION:https://www2.bistum-augsburg.de/gottesdienste/heilige-messe_id1
 713557
DTSTART;TZID=Europe/Berlin:20260422T191500
DURATION:PT30M
LOCATION:Patrona Bavariae\, Obere Hauptstraße 20\, 87782 Unteregg
END:VEVENT
BEGIN:VEVENT
UID:sabre-vobject-ad37cc7e-d353-4138-8490-918962f2582a
DTSTAMP:20260422T015348Z
SUMMARY:Vorabendmesse
DESCRIPTION:https://www2.bistum-augsburg.de/gottesdienste/vorabendmesse_id1
 722064
DTSTART;TZID=Europe/Berlin:20260425T191500
DURATION:PT30M
LOCATION:Patrona Bavariae\, Obere Hauptstraße 20\, 87782 Unteregg
END:VEVENT
BEGIN:VEVENT
UID:sabre-vobject-4dae538e-1889-41d5-bbe2-0e3f2a5a253e
DTSTAMP:20260422T015348Z
SUMMARY:Heilige Messe
DESCRIPTION:https://www2.bistum-augsburg.de/gottesdienste/heilige-messe_id1
 722065
DTSTART;TZID=Europe/Berlin:20260429T191500
DURATION:PT30M
LOCATION:Patrona Bavariae\, Obere Hauptstraße 20\, 87782 Unteregg
END:VEVENT
BEGIN:VEVENT
UID:sabre-vobject-9389f236-f3f5-439c-8d5d-67cec382e3e4
DTSTAMP:20260422T015348Z
SUMMARY:Familiengottesdienst zum Patrozinium (musikalische Gestaltung Famil
 ienchor)
DESCRIPTION:https://www2.bistum-augsburg.de/gottesdienste/familiengottesdie
 nst-zum-patrozinium-musikalische-gestaltung-familienchor_id1722069
DTSTART;TZID=Europe/Berlin:20260501T093000
DURATION:PT30M
LOCATION:Patrona Bavariae\, Obere Hauptstraße 20\, 87782 Unteregg
END:VEVENT
END:VCALENDAR
