BEGIN:VCALENDAR
VERSION:2.0
PRODID:-//Sabre//Sabre VObject 4.5.8//EN
CALSCALE:GREGORIAN
NAME:Bistum Augsburg
X-WR-CALNAME:Bistum Augsburg
BEGIN:VEVENT
UID:sabre-vobject-218b6428-4303-490e-94f7-0e16f178becb
DTSTAMP:20260422T044439Z
SUMMARY:Generalversammlung des Frauenkreises im Pfarrhof Zaisertshofen
DESCRIPTION:https://www2.bistum-augsburg.de/gottesdienste/generalversammlun
 g-des-frauenkreises-im-pfarrhof-zaisertshofen_id1686842
DTSTART;TZID=Europe/Berlin:20260423T190000
DURATION:PT30M
LOCATION:St. Silvester
END:VEVENT
BEGIN:VEVENT
UID:sabre-vobject-608c0752-11bf-4fdb-b7ec-ca13e03edda4
DTSTAMP:20260422T044439Z
SUMMARY:Andacht an der Pestkapelle mit Motorradsegnung
DESCRIPTION:https://www2.bistum-augsburg.de/gottesdienste/andacht-an-der-pe
 stkapelle-mit-motorradsegnung_id1686843
DTSTART;TZID=Europe/Berlin:20260424T191500
DURATION:PT30M
LOCATION:St. Silvester
END:VEVENT
BEGIN:VEVENT
UID:sabre-vobject-1b984559-9e8d-4836-9840-c9fffb7c328f
DTSTAMP:20260422T044439Z
SUMMARY:Pfarrgottesdienst für die Lebenden und Verstorbenen der Pfarrei - 
 Heilige Messe
DESCRIPTION:https://www2.bistum-augsburg.de/gottesdienste/pfarrgottesdienst
 -fuer-die-lebenden-und-verstorbenen-der-pfarrei-heilige-messe_id1686955
DTSTART;TZID=Europe/Berlin:20260426T084500
DURATION:PT30M
LOCATION:St. Silvester
END:VEVENT
BEGIN:VEVENT
UID:sabre-vobject-c36d8239-e45c-45d0-b3aa-b7e02f64808b
DTSTAMP:20260422T044439Z
SUMMARY:Heilige Messe
DESCRIPTION:https://www2.bistum-augsburg.de/gottesdienste/heilige-messe_id1
 686956
DTSTART;TZID=Europe/Berlin:20260428T191500
DURATION:PT30M
LOCATION:St. Silvester
END:VEVENT
END:VCALENDAR
