BEGIN:VCALENDAR
VERSION:2.0
PRODID:-//Sabre//Sabre VObject 4.5.8//EN
CALSCALE:GREGORIAN
NAME:Bistum Augsburg
X-WR-CALNAME:Bistum Augsburg
BEGIN:VEVENT
UID:sabre-vobject-775a888b-24d4-4f46-b89d-c6dcbbca9772
DTSTAMP:20260422T015348Z
SUMMARY:Rosenkranz
DESCRIPTION:https://www2.bistum-augsburg.de/gottesdienste/rosenkranz_id1716
 922
DTSTART;TZID=Europe/Berlin:20260424T184500
DURATION:PT30M
LOCATION:Mariä Himmelfahrt
END:VEVENT
BEGIN:VEVENT
UID:sabre-vobject-ad29735d-c82a-4e4c-8dfb-f0f2bb5f0b75
DTSTAMP:20260422T015348Z
SUMMARY:Heilige Messe
DESCRIPTION:https://www2.bistum-augsburg.de/gottesdienste/heilige-messe_id1
 716919
DTSTART;TZID=Europe/Berlin:20260424T191500
DURATION:PT30M
LOCATION:Mariä Himmelfahrt
END:VEVENT
BEGIN:VEVENT
UID:sabre-vobject-b42e9dd6-3f20-4731-8b9a-f74c1ad2370d
DTSTAMP:20260422T015348Z
SUMMARY:Rosenkranz
DESCRIPTION:https://www2.bistum-augsburg.de/gottesdienste/rosenkranz_id1726
 096
DTSTART;TZID=Europe/Berlin:20260426T081500
DURATION:PT30M
LOCATION:Mariä Himmelfahrt
END:VEVENT
BEGIN:VEVENT
UID:sabre-vobject-431c608a-91fd-41ae-8eab-1f5ead795c13
DTSTAMP:20260422T015348Z
SUMMARY:Heilige Messe
DESCRIPTION:https://www2.bistum-augsburg.de/gottesdienste/heilige-messe_id1
 726107
DTSTART;TZID=Europe/Berlin:20260426T084500
DURATION:PT30M
LOCATION:Mariä Himmelfahrt
END:VEVENT
BEGIN:VEVENT
UID:sabre-vobject-5efe96c6-ff4a-4904-a97a-e794084ab489
DTSTAMP:20260422T015348Z
SUMMARY:Rosenkranz
DESCRIPTION:https://www2.bistum-augsburg.de/gottesdienste/rosenkranz_id1725
 909
DTSTART;TZID=Europe/Berlin:20260428T170000
DURATION:PT30M
LOCATION:Mariä Himmelfahrt
END:VEVENT
BEGIN:VEVENT
UID:sabre-vobject-eaef6fea-02c3-4f7a-9b45-4e6a71816e04
DTSTAMP:20260422T015348Z
SUMMARY:Rosenkranz
DESCRIPTION:https://www2.bistum-augsburg.de/gottesdienste/rosenkranz_id1725
 910
DTSTART;TZID=Europe/Berlin:20260501T184500
DURATION:PT30M
LOCATION:Mariä Himmelfahrt
END:VEVENT
BEGIN:VEVENT
UID:sabre-vobject-c9891caf-c465-43d7-adcf-434468896a8e
DTSTAMP:20260422T015348Z
SUMMARY:Heilige Messe
DESCRIPTION:https://www2.bistum-augsburg.de/gottesdienste/heilige-messe_id1
 725926
DTSTART;TZID=Europe/Berlin:20260501T191500
DURATION:PT30M
LOCATION:Mariä Himmelfahrt
END:VEVENT
END:VCALENDAR
