BEGIN:VCALENDAR
VERSION:2.0
PRODID:-//Sabre//Sabre VObject 4.5.8//EN
CALSCALE:GREGORIAN
NAME:Bistum Augsburg
X-WR-CALNAME:Bistum Augsburg
BEGIN:VEVENT
UID:sabre-vobject-5f3d2c84-b004-4eeb-b7d2-08b00d14b2b9
DTSTAMP:20260423T185810Z
SUMMARY:Aktionstag der Firmlinge im Bürger- u. Vereinshaus in Könghausen
DESCRIPTION:https://www2.bistum-augsburg.de/gottesdienste/aktionstag-der-fi
 rmlinge-im-buerger-u-vereinshaus-in-koenghausen_id1718324
DTSTART;TZID=Europe/Berlin:20260425T090000
DURATION:PT30M
LOCATION:St. Johannes Baptist\, Schulstraße 9\, 87745 Eppishausen
END:VEVENT
BEGIN:VEVENT
UID:sabre-vobject-47dea30d-291f-4e99-a592-c1326114b32c
DTSTAMP:20260423T185810Z
SUMMARY:Pfarrgottesdienst
DESCRIPTION:https://www2.bistum-augsburg.de/gottesdienste/pfarrgottesdienst
 _id1718351
DTSTART;TZID=Europe/Berlin:20260426T084500
DURATION:PT30M
LOCATION:St. Johannes Baptist\, Schulstraße 9\, 87745 Eppishausen
END:VEVENT
BEGIN:VEVENT
UID:sabre-vobject-9bfc5e65-437c-47b1-b50e-aec491e84676
DTSTAMP:20260423T185810Z
SUMMARY:Krankenkommunion
DESCRIPTION:https://www2.bistum-augsburg.de/gottesdienste/krankenkommunion_
 id1718352
DTSTART;TZID=Europe/Berlin:20260501T110000
DURATION:PT30M
LOCATION:St. Johannes Baptist\, Schulstraße 9\, 87745 Eppishausen
END:VEVENT
END:VCALENDAR
