BEGIN:VCALENDAR
VERSION:2.0
PRODID:-//Sabre//Sabre VObject 4.5.8//EN
CALSCALE:GREGORIAN
NAME:Bistum Augsburg
X-WR-CALNAME:Bistum Augsburg
BEGIN:VEVENT
UID:sabre-vobject-319afbe3-71c1-4b03-8907-498070f375c3
DTSTAMP:20260423T185851Z
SUMMARY:Hl. Messe
DESCRIPTION:https://www2.bistum-augsburg.de/gottesdienste/hl-messe_id171875
 2
DTSTART;TZID=Europe/Berlin:20260423T191500
DURATION:PT30M
LOCATION:Heilige Sieben Brüder
END:VEVENT
BEGIN:VEVENT
UID:sabre-vobject-00de9760-f502-4992-b0a3-8ff8c0fada7e
DTSTAMP:20260423T185851Z
SUMMARY:Hl. Messe
DESCRIPTION:https://www2.bistum-augsburg.de/gottesdienste/hl-messe_id172984
 2
DTSTART;TZID=Europe/Berlin:20260426T084500
DURATION:PT30M
LOCATION:Heilige Sieben Brüder
END:VEVENT
BEGIN:VEVENT
UID:sabre-vobject-6ab5e0ba-40c3-45ea-9f47-bdef5fe82fbc
DTSTAMP:20260423T185851Z
SUMMARY:Hl. Messe
DESCRIPTION:https://www2.bistum-augsburg.de/gottesdienste/hl-messe_id172984
 3
DTSTART;TZID=Europe/Berlin:20260430T191500
DURATION:PT30M
LOCATION:Heilige Sieben Brüder
END:VEVENT
END:VCALENDAR
