BEGIN:VCALENDAR
VERSION:2.0
PRODID:-//Sabre//Sabre VObject 4.5.8//EN
CALSCALE:GREGORIAN
NAME:Bistum Augsburg
X-WR-CALNAME:Bistum Augsburg
BEGIN:VEVENT
UID:sabre-vobject-48a011cf-70e1-4b5c-a90d-1d42e17dda6d
DTSTAMP:20260422T044622Z
SUMMARY:Heilige Messe
DESCRIPTION:https://www2.bistum-augsburg.de/gottesdienste/heilige-messe_id1
 686902
DTSTART;TZID=Europe/Berlin:20260424T191500
DURATION:PT30M
LOCATION:St. Magnus
END:VEVENT
BEGIN:VEVENT
UID:sabre-vobject-9b1b86aa-e3b2-449e-a664-151f17e16fbd
DTSTAMP:20260422T044622Z
SUMMARY:Vorabendmesse - Heilige Messe
DESCRIPTION:https://www2.bistum-augsburg.de/gottesdienste/vorabendmesse-hei
 lige-messe_id1686976
DTSTART;TZID=Europe/Berlin:20260425T191500
DURATION:PT30M
LOCATION:St. Magnus
END:VEVENT
BEGIN:VEVENT
UID:sabre-vobject-d0d9dfa1-7ce6-4893-97a3-cc8e231cc32d
DTSTAMP:20260422T044622Z
SUMMARY:bis 17.15 Uhr Ewige Anbetung\, anschl. Hl. Messe
DESCRIPTION:https://www2.bistum-augsburg.de/gottesdienste/bis-17-15-uhr-ewi
 ge-anbetung-anschl-hl-messe_id1686977
DTSTART;TZID=Europe/Berlin:20260430T140000
DURATION:PT30M
LOCATION:St. Magnus
END:VEVENT
END:VCALENDAR
