BEGIN:VCALENDAR
VERSION:2.0
PRODID:-//Sabre//Sabre VObject 4.5.8//EN
CALSCALE:GREGORIAN
NAME:Bistum Augsburg
X-WR-CALNAME:Bistum Augsburg
BEGIN:VEVENT
UID:sabre-vobject-18abdbf5-397c-4f17-9d78-37585a56d662
DTSTAMP:20260425T191128Z
SUMMARY:Heilige Messe
DESCRIPTION:https://www2.bistum-augsburg.de/gottesdienste/heilige-messe_id1
 734103
DTSTART;TZID=Europe/Berlin:20260426T103000
DURATION:PT30M
LOCATION:St. Martin
END:VEVENT
BEGIN:VEVENT
UID:sabre-vobject-d5db7646-3762-44a6-b3a5-2d9c81b0ce81
DTSTAMP:20260425T191128Z
SUMMARY:Start zur Marienwallfahrt nach Matzenhofen
DESCRIPTION:https://www2.bistum-augsburg.de/gottesdienste/start-zur-marienw
 allfahrt-nach-matzenhofen_id1734104
DTSTART;TZID=Europe/Berlin:20260501T065500
DURATION:PT30M
LOCATION:St. Martin
END:VEVENT
BEGIN:VEVENT
UID:sabre-vobject-513715bc-dc09-46c1-9737-97062978a6bc
DTSTAMP:20260425T191128Z
SUMMARY:Start zur Marienwallfahrt nach Matzenhofen
DESCRIPTION:https://www2.bistum-augsburg.de/gottesdienste/start-zur-marienw
 allfahrt-nach-matzenhofen_id1734105
DTSTART;TZID=Europe/Berlin:20260501T073000
DURATION:PT30M
LOCATION:St. Martin
END:VEVENT
BEGIN:VEVENT
UID:sabre-vobject-772bab8b-38ef-45bf-8b7c-630ecb5c8622
DTSTAMP:20260425T191128Z
SUMMARY:Heilige Messe - vorher Rosenkranz
DESCRIPTION:https://www2.bistum-augsburg.de/gottesdienste/heilige-messe-vor
 her-rosenkranz_id1734106
DTSTART;TZID=Europe/Berlin:20260502T183000
DURATION:PT30M
LOCATION:St. Martin
END:VEVENT
BEGIN:VEVENT
UID:sabre-vobject-deb90d0c-c478-439a-a1c8-5e96ad7d1438
DTSTAMP:20260425T191128Z
SUMMARY:Heilige Messe
DESCRIPTION:https://www2.bistum-augsburg.de/gottesdienste/heilige-messe_id1
 733667
DTSTART;TZID=Europe/Berlin:20260504T190000
DURATION:PT30M
LOCATION:St. Martin
END:VEVENT
BEGIN:VEVENT
UID:sabre-vobject-6ae43628-ad51-43c5-b6bf-bb2262c68301
DTSTAMP:20260425T191128Z
SUMMARY:Heilige Messe
DESCRIPTION:https://www2.bistum-augsburg.de/gottesdienste/heilige-messe_id1
 733866
DTSTART;TZID=Europe/Berlin:20260509T183000
DURATION:PT30M
LOCATION:St. Martin
END:VEVENT
BEGIN:VEVENT
UID:sabre-vobject-67ac6757-94a2-4b1c-ab57-ea13df22c61f
DTSTAMP:20260425T191128Z
SUMMARY:Bittgang zum Feldkreuz am Stelzenweg (Zankerhof)\, dort Bittmesse d
 er Pfarreien Herrenstetten und Untereichen
DESCRIPTION:https://www2.bistum-augsburg.de/gottesdienste/bittgang-zum-feld
 kreuz-am-stelzenweg-zankerhof-dort-bittmesse-der-pfarreien-herrenstetten-u
 nd-untereichen_id1733879
DTSTART;TZID=Europe/Berlin:20260512T183000
DURATION:PT30M
LOCATION:St. Martin
END:VEVENT
BEGIN:VEVENT
UID:sabre-vobject-199e8371-3534-4025-aa8e-f23674f21d01
DTSTAMP:20260425T191128Z
SUMMARY:Festgottesdienst zu Christi Himmelfahrt
DESCRIPTION:https://www2.bistum-augsburg.de/gottesdienste/festgottesdienst-
 zu-christi-himmelfahrt_id1733880
DTSTART;TZID=Europe/Berlin:20260514T103000
DURATION:PT30M
LOCATION:St. Martin
END:VEVENT
BEGIN:VEVENT
UID:sabre-vobject-d74e6817-836e-43f5-84a6-9701c3d4d785
DTSTAMP:20260425T191128Z
SUMMARY:feierliche Maiandacht mit Aussetzung - an der Grotte
DESCRIPTION:https://www2.bistum-augsburg.de/gottesdienste/feierliche-maiand
 acht-mit-aussetzung-an-der-grotte_id1733881
DTSTART;TZID=Europe/Berlin:20260517T170000
DURATION:PT30M
LOCATION:St. Martin
END:VEVENT
END:VCALENDAR
