BEGIN:VCALENDAR
VERSION:2.0
PRODID:-//Sabre//Sabre VObject 4.5.8//EN
CALSCALE:GREGORIAN
NAME:Bistum Augsburg
X-WR-CALNAME:Bistum Augsburg
BEGIN:VEVENT
UID:sabre-vobject-bf8e8b82-740d-41d8-ac4f-0435c35fd746
DTSTAMP:20260425T020240Z
SUMMARY:Heilige Messe
DESCRIPTION:https://www2.bistum-augsburg.de/gottesdienste/heilige-messe_id1
 688758
DTSTART;TZID=Europe/Berlin:20260426T103000
DURATION:PT30M
LOCATION:St. Meinrad\, Kirchenstraße 23\, 89257 Illertissen
END:VEVENT
BEGIN:VEVENT
UID:sabre-vobject-ee1dd112-ae3a-4062-9424-0213ffbbe45b
DTSTAMP:20260425T020240Z
SUMMARY:Abendmesse
DESCRIPTION:https://www2.bistum-augsburg.de/gottesdienste/abendmesse_id1688
 760
DTSTART;TZID=Europe/Berlin:20260428T180000
DURATION:PT30M
LOCATION:St. Meinrad\, Kirchenstraße 23\, 89257 Illertissen
END:VEVENT
BEGIN:VEVENT
UID:sabre-vobject-742410f0-343c-4978-8788-5dd005a74efb
DTSTAMP:20260425T020240Z
SUMMARY:Heilige Messe
DESCRIPTION:https://www2.bistum-augsburg.de/gottesdienste/heilige-messe_id1
 725097
DTSTART;TZID=Europe/Berlin:20260503T090000
DURATION:PT30M
LOCATION:St. Meinrad\, Kirchenstraße 23\, 89257 Illertissen
END:VEVENT
BEGIN:VEVENT
UID:sabre-vobject-2cbab45c-0425-49d4-b8c6-67ddf077fd64
DTSTAMP:20260425T020240Z
SUMMARY:Maiandacht
DESCRIPTION:https://www2.bistum-augsburg.de/gottesdienste/maiandacht_id1724
 980
DTSTART;TZID=Europe/Berlin:20260503T180000
DURATION:PT30M
LOCATION:St. Meinrad\, Kirchenstraße 23\, 89257 Illertissen
END:VEVENT
BEGIN:VEVENT
UID:sabre-vobject-6fc4cde6-d39d-4dac-859a-4f4494941847
DTSTAMP:20260425T020240Z
SUMMARY:Abendmesse
DESCRIPTION:https://www2.bistum-augsburg.de/gottesdienste/abendmesse_id1724
 981
DTSTART;TZID=Europe/Berlin:20260505T180000
DURATION:PT30M
LOCATION:St. Meinrad\, Kirchenstraße 23\, 89257 Illertissen
END:VEVENT
BEGIN:VEVENT
UID:sabre-vobject-4ace1455-f3f1-46b2-a0d3-2bc6a589a9c3
DTSTAMP:20260425T020240Z
SUMMARY:Heilige Messe (für die Pfarrgemeinde)
DESCRIPTION:https://www2.bistum-augsburg.de/gottesdienste/heilige-messe-fue
 r-die-pfarrgemeinde_id1724982
DTSTART;TZID=Europe/Berlin:20260510T103000
DURATION:PT30M
LOCATION:St. Meinrad\, Kirchenstraße 23\, 89257 Illertissen
END:VEVENT
BEGIN:VEVENT
UID:sabre-vobject-3d653c9d-1d87-4bb3-a0f0-8525361cd964
DTSTAMP:20260425T020240Z
SUMMARY:Bittgang\, Treffpunkt: 18:30 an der Kirche
DESCRIPTION:https://www2.bistum-augsburg.de/gottesdienste/bittgang-treffpun
 kt-18-30-an-der-kirche_id1724983
DTSTART;TZID=Europe/Berlin:20260512T183000
DURATION:PT30M
LOCATION:St. Meinrad\, Kirchenstraße 23\, 89257 Illertissen
END:VEVENT
BEGIN:VEVENT
UID:sabre-vobject-7d868c0b-ad2c-41c6-b118-4bdcc46d123e
DTSTAMP:20260425T020240Z
SUMMARY:Messe am Feldkreuz (bei schlechtem Wetter in der Kirche St. Meinrad
 )
DESCRIPTION:https://www2.bistum-augsburg.de/gottesdienste/messe-am-feldkreu
 z-bei-schlechtem-wetter-in-der-kirche-st-meinrad_id1724984
DTSTART;TZID=Europe/Berlin:20260512T190000
DURATION:PT30M
LOCATION:St. Meinrad\, Kirchenstraße 23\, 89257 Illertissen
END:VEVENT
BEGIN:VEVENT
UID:sabre-vobject-48529837-644a-472e-ac05-b9aa02d62875
DTSTAMP:20260425T020240Z
SUMMARY:Festgottesdienst im Pfarrgarten
DESCRIPTION:https://www2.bistum-augsburg.de/gottesdienste/festgottesdienst-
 im-pfarrgarten_id1724985
DTSTART;TZID=Europe/Berlin:20260514T103000
DURATION:PT30M
LOCATION:St. Meinrad\, Kirchenstraße 23\, 89257 Illertissen
END:VEVENT
BEGIN:VEVENT
UID:sabre-vobject-c8b012ef-58d9-4a31-b5ec-c5cccddb3076
DTSTAMP:20260425T020240Z
SUMMARY:Heilige Messe
DESCRIPTION:https://www2.bistum-augsburg.de/gottesdienste/heilige-messe_id1
 724688
DTSTART;TZID=Europe/Berlin:20260517T090000
DURATION:PT30M
LOCATION:St. Meinrad\, Kirchenstraße 23\, 89257 Illertissen
END:VEVENT
BEGIN:VEVENT
UID:sabre-vobject-8823b2ed-7186-4346-b1c4-494203ca4dbd
DTSTAMP:20260425T020240Z
SUMMARY:Abendmesse
DESCRIPTION:https://www2.bistum-augsburg.de/gottesdienste/abendmesse_id1724
 689
DTSTART;TZID=Europe/Berlin:20260519T180000
DURATION:PT30M
LOCATION:St. Meinrad\, Kirchenstraße 23\, 89257 Illertissen
END:VEVENT
BEGIN:VEVENT
UID:sabre-vobject-2943ccf7-3a31-43c5-874b-4573f2cacab5
DTSTAMP:20260425T020240Z
SUMMARY:Festgottesdienst
DESCRIPTION:https://www2.bistum-augsburg.de/gottesdienste/festgottesdienst_
 id1724691
DTSTART;TZID=Europe/Berlin:20260524T103000
DURATION:PT30M
LOCATION:St. Meinrad\, Kirchenstraße 23\, 89257 Illertissen
END:VEVENT
BEGIN:VEVENT
UID:sabre-vobject-6ff38f40-7e5d-4d91-820e-63ff824c760b
DTSTAMP:20260425T020240Z
SUMMARY:Taufe
DESCRIPTION:https://www2.bistum-augsburg.de/gottesdienste/taufe_id1724692
DTSTART;TZID=Europe/Berlin:20260524T113000
DURATION:PT30M
LOCATION:St. Meinrad\, Kirchenstraße 23\, 89257 Illertissen
END:VEVENT
BEGIN:VEVENT
UID:sabre-vobject-bbfae8ab-aa6e-4b7f-8d8f-7a97286bb7a4
DTSTAMP:20260425T020240Z
SUMMARY:Maiandacht
DESCRIPTION:https://www2.bistum-augsburg.de/gottesdienste/maiandacht_id1724
 693
DTSTART;TZID=Europe/Berlin:20260524T180000
DURATION:PT30M
LOCATION:St. Meinrad\, Kirchenstraße 23\, 89257 Illertissen
END:VEVENT
BEGIN:VEVENT
UID:sabre-vobject-f916daed-2315-4009-a8f4-0a1a2aed1c4e
DTSTAMP:20260425T020240Z
SUMMARY:Abendmesse
DESCRIPTION:https://www2.bistum-augsburg.de/gottesdienste/abendmesse_id1724
 694
DTSTART;TZID=Europe/Berlin:20260526T180000
DURATION:PT30M
LOCATION:St. Meinrad\, Kirchenstraße 23\, 89257 Illertissen
END:VEVENT
BEGIN:VEVENT
UID:sabre-vobject-a4d9d758-57a0-44cc-bb19-46d5a87006fb
DTSTAMP:20260425T020240Z
SUMMARY:Heilige Messe
DESCRIPTION:https://www2.bistum-augsburg.de/gottesdienste/heilige-messe_id1
 724695
DTSTART;TZID=Europe/Berlin:20260531T103000
DURATION:PT30M
LOCATION:St. Meinrad\, Kirchenstraße 23\, 89257 Illertissen
END:VEVENT
END:VCALENDAR
