BEGIN:VCALENDAR
VERSION:2.0
PRODID:-//Sabre//Sabre VObject 4.5.8//EN
CALSCALE:GREGORIAN
NAME:Bistum Augsburg
X-WR-CALNAME:Bistum Augsburg
BEGIN:VEVENT
UID:sabre-vobject-bbde31ae-c505-496e-b0ee-9a9f6c5e0472
DTSTAMP:20260424T073534Z
SUMMARY:Heilige Messe
DESCRIPTION:https://www2.bistum-augsburg.de/gottesdienste/heilige-messe_id1
 718123
DTSTART;TZID=Europe/Berlin:20260424T090000
DURATION:PT30M
LOCATION:St. Peter und Paul
END:VEVENT
BEGIN:VEVENT
UID:sabre-vobject-eb959509-ed5c-4732-a69f-1b405e90c2a2
DTSTAMP:20260424T073534Z
SUMMARY:Sonntags- Pfarrgottesdienst
DESCRIPTION:https://www2.bistum-augsburg.de/gottesdienste/sonntags-pfarrgot
 tesdienst_id1728409
DTSTART;TZID=Europe/Berlin:20260426T084500
DURATION:PT30M
LOCATION:St. Peter und Paul
END:VEVENT
BEGIN:VEVENT
UID:sabre-vobject-2a441915-613b-497e-b8ab-b78702bb60d6
DTSTAMP:20260424T073534Z
SUMMARY:Rosenkranz
DESCRIPTION:https://www2.bistum-augsburg.de/gottesdienste/rosenkranz_id1728
 410
DTSTART;TZID=Europe/Berlin:20260428T180000
DURATION:PT30M
LOCATION:St. Peter und Paul
END:VEVENT
BEGIN:VEVENT
UID:sabre-vobject-b1eaf859-38f8-4695-a786-3c00d117d05f
DTSTAMP:20260424T073534Z
SUMMARY:Rosenkranz
DESCRIPTION:https://www2.bistum-augsburg.de/gottesdienste/rosenkranz_id1728
 385
DTSTART;TZID=Europe/Berlin:20260429T083000
DURATION:PT30M
LOCATION:St. Peter und Paul
END:VEVENT
BEGIN:VEVENT
UID:sabre-vobject-81450e89-832c-4d5d-a26f-3a758785a4e3
DTSTAMP:20260424T073534Z
SUMMARY:Heilige Messe
DESCRIPTION:https://www2.bistum-augsburg.de/gottesdienste/heilige-messe_id1
 729531
DTSTART;TZID=Europe/Berlin:20260429T090000
DURATION:PT30M
LOCATION:St. Peter und Paul
END:VEVENT
BEGIN:VEVENT
UID:sabre-vobject-0040ce39-16b7-4ea6-80df-d4879c42e90f
DTSTAMP:20260424T073534Z
SUMMARY:Heilige Messe
DESCRIPTION:https://www2.bistum-augsburg.de/gottesdienste/heilige-messe_id1
 729527
DTSTART;TZID=Europe/Berlin:20260501T090000
DURATION:PT30M
LOCATION:St. Peter und Paul
END:VEVENT
BEGIN:VEVENT
UID:sabre-vobject-033b5f6c-6a6e-4b8f-a35c-d76b3240d098
DTSTAMP:20260424T073534Z
SUMMARY:1. feieriche Maiandacht
DESCRIPTION:https://www2.bistum-augsburg.de/gottesdienste/1-feieriche-maian
 dacht_id1729512
DTSTART;TZID=Europe/Berlin:20260501T190000
DURATION:PT30M
LOCATION:St. Peter und Paul
END:VEVENT
END:VCALENDAR
