BEGIN:VCALENDAR
VERSION:2.0
PRODID:-//Sabre//Sabre VObject 4.5.8//EN
CALSCALE:GREGORIAN
NAME:Bistum Augsburg
X-WR-CALNAME:Bistum Augsburg
BEGIN:VEVENT
UID:sabre-vobject-0b2ae264-782a-4747-b84b-d2799a3ebf97
DTSTAMP:20260424T192614Z
SUMMARY:Heilige Messe
DESCRIPTION:https://www2.bistum-augsburg.de/gottesdienste/heilige-messe_id1
 718366
DTSTART;TZID=Europe/Berlin:20260424T090000
DURATION:PT30M
LOCATION:St. Peter
END:VEVENT
BEGIN:VEVENT
UID:sabre-vobject-14932895-ce57-4533-a0a3-34f832c3af00
DTSTAMP:20260424T192614Z
SUMMARY:Kroatische Mission - Beichtgelegenheit/seelsorgl. Gespräche
DESCRIPTION:https://www2.bistum-augsburg.de/gottesdienste/kroatische-missio
 n-beichtgelegenheit-seelsorgl-gespraeche_id1730384
DTSTART;TZID=Europe/Berlin:20260425T163000
DURATION:PT30M
LOCATION:St. Peter
END:VEVENT
BEGIN:VEVENT
UID:sabre-vobject-269b7982-a5d3-433f-b6ed-339ce43ecb0b
DTSTAMP:20260424T192614Z
SUMMARY:Kroatische Mission - Heilige Messe
DESCRIPTION:https://www2.bistum-augsburg.de/gottesdienste/kroatische-missio
 n-heilige-messe_id1730385
DTSTART;TZID=Europe/Berlin:20260425T170000
DURATION:PT30M
LOCATION:St. Peter
END:VEVENT
BEGIN:VEVENT
UID:sabre-vobject-4befa50c-116d-4507-af19-92e15a14b24b
DTSTAMP:20260424T192614Z
SUMMARY:Heilige Messe
DESCRIPTION:https://www2.bistum-augsburg.de/gottesdienste/heilige-messe_id1
 730386
DTSTART;TZID=Europe/Berlin:20260426T083000
DURATION:PT30M
LOCATION:St. Peter
END:VEVENT
BEGIN:VEVENT
UID:sabre-vobject-6ccd3bf3-ee20-45f4-af3e-fb5a4875c521
DTSTAMP:20260424T192614Z
SUMMARY:Heilige Messe
DESCRIPTION:https://www2.bistum-augsburg.de/gottesdienste/heilige-messe_id1
 730387
DTSTART;TZID=Europe/Berlin:20260426T093000
DURATION:PT30M
LOCATION:St. Peter
END:VEVENT
BEGIN:VEVENT
UID:sabre-vobject-5088fe1a-4f6c-4448-967c-a71390f90005
DTSTAMP:20260424T192614Z
SUMMARY:Festgottesdienst mit Feier der Erstkommunion - Hl. M.
DESCRIPTION:https://www2.bistum-augsburg.de/gottesdienste/festgottesdienst-
 mit-feier-der-erstkommunion-hl-m_id1730388
DTSTART;TZID=Europe/Berlin:20260426T100000
DURATION:PT30M
LOCATION:St. Peter
END:VEVENT
BEGIN:VEVENT
UID:sabre-vobject-94102458-1a76-47de-b467-f5f996498923
DTSTAMP:20260424T192614Z
SUMMARY:Beichtgelegenheit (bis 18:45 Uhr)
DESCRIPTION:https://www2.bistum-augsburg.de/gottesdienste/beichtgelegenheit
 -bis-18-45-uhr_id1730389
DTSTART;TZID=Europe/Berlin:20260426T181500
DURATION:PT30M
LOCATION:St. Peter
END:VEVENT
BEGIN:VEVENT
UID:sabre-vobject-e683f7f7-9592-4e98-ad58-49852d53586c
DTSTAMP:20260424T192614Z
SUMMARY:Heilige Messe
DESCRIPTION:https://www2.bistum-augsburg.de/gottesdienste/heilige-messe_id1
 730390
DTSTART;TZID=Europe/Berlin:20260426T190000
DURATION:PT30M
LOCATION:St. Peter
END:VEVENT
BEGIN:VEVENT
UID:sabre-vobject-b7bd19f6-47d3-439a-8188-53717aaac37c
DTSTAMP:20260424T192614Z
SUMMARY:Heilige Messe
DESCRIPTION:https://www2.bistum-augsburg.de/gottesdienste/heilige-messe_id1
 730512
DTSTART;TZID=Europe/Berlin:20260428T090000
DURATION:PT30M
LOCATION:St. Peter
END:VEVENT
BEGIN:VEVENT
UID:sabre-vobject-34648c6e-be5c-47c8-9880-458c0a2d14f7
DTSTAMP:20260424T192614Z
SUMMARY:Heilige Messe
DESCRIPTION:https://www2.bistum-augsburg.de/gottesdienste/heilige-messe_id1
 730416
DTSTART;TZID=Europe/Berlin:20260429T090000
DURATION:PT30M
LOCATION:St. Peter
END:VEVENT
BEGIN:VEVENT
UID:sabre-vobject-e5092867-f763-4314-ba46-6396b14b5c14
DTSTAMP:20260424T192614Z
SUMMARY:Heilige Messe für die verstorbenen Patientinnen und Patienten der 
 Klinik
DESCRIPTION:https://www2.bistum-augsburg.de/gottesdienste/heilige-messe-fue
 r-die-verstorbenen-patientinnen-und-patienten-der-klinik_id1730417
DTSTART;TZID=Europe/Berlin:20260429T180000
DURATION:PT30M
LOCATION:St. Peter
END:VEVENT
BEGIN:VEVENT
UID:sabre-vobject-04b4aaa8-bf6c-4e66-a81c-54d569684aaa
DTSTAMP:20260424T192614Z
SUMMARY:Amt der Bruderschaft  - anschl. Stille Anbetung vor dem Allerheilig
 sten (bis 10 Uhr)
DESCRIPTION:https://www2.bistum-augsburg.de/gottesdienste/amt-der-brudersch
 aft-anschl-stille-anbetung-vor-dem-allerheiligsten-bis-10-uhr_id1730418
DTSTART;TZID=Europe/Berlin:20260430T090000
DURATION:PT30M
LOCATION:St. Peter
END:VEVENT
BEGIN:VEVENT
UID:sabre-vobject-106109db-4e14-48c0-ad45-a4dc3c13824a
DTSTAMP:20260424T192614Z
SUMMARY:keine Heilige Messe
DESCRIPTION:https://www2.bistum-augsburg.de/gottesdienste/keine-heilige-mes
 se_id1730421
DTSTART;TZID=Europe/Berlin:20260501T090000
DURATION:PT30M
LOCATION:St. Peter
END:VEVENT
BEGIN:VEVENT
UID:sabre-vobject-f9b812b6-632d-4f35-9bb4-bfe0d8b8b665
DTSTAMP:20260424T192614Z
SUMMARY:Heilige Messe
DESCRIPTION:https://www2.bistum-augsburg.de/gottesdienste/heilige-messe_id1
 730419
DTSTART;TZID=Europe/Berlin:20260501T100000
DURATION:PT30M
LOCATION:St. Peter
END:VEVENT
BEGIN:VEVENT
UID:sabre-vobject-4e019c8a-2de3-4ef9-837f-2da23d7b97f7
DTSTAMP:20260424T192614Z
SUMMARY:Erste feierliche Maiandacht mit den Erstkommunionkindern aus St. Pe
 ter Dillingen
DESCRIPTION:https://www2.bistum-augsburg.de/gottesdienste/erste-feierliche-
 maiandacht-mit-den-erstkommunionkindern-aus-st-peter-dillingen_id1730420
DTSTART;TZID=Europe/Berlin:20260501T180000
DURATION:PT30M
LOCATION:St. Peter
END:VEVENT
END:VCALENDAR
