BEGIN:VCALENDAR
VERSION:2.0
PRODID:-//Sabre//Sabre VObject 4.5.8//EN
CALSCALE:GREGORIAN
NAME:Bistum Augsburg
X-WR-CALNAME:Bistum Augsburg
BEGIN:VEVENT
UID:sabre-vobject-90f04c14-1480-48ab-9c51-5b4de820f38b
DTSTAMP:20260425T122527Z
SUMMARY:Laudes
DESCRIPTION:https://www2.bistum-augsburg.de/gottesdienste/laudes_id1734796
DTSTART;TZID=Europe/Berlin:20260425T073000
DURATION:PT30M
LOCATION:St. Martin
END:VEVENT
BEGIN:VEVENT
UID:sabre-vobject-e87a8bb2-dbad-46fb-8aff-cb33954be63b
DTSTAMP:20260425T122527Z
SUMMARY:Gesprächs- und Beichtgelegenheit (MB)
DESCRIPTION:https://www2.bistum-augsburg.de/gottesdienste/gespraechs-und-be
 ichtgelegenheit-mb_id1734808
DTSTART;TZID=Europe/Berlin:20260425T173000
DURATION:PT30M
LOCATION:St. Martin
END:VEVENT
BEGIN:VEVENT
UID:sabre-vobject-d781d9db-4588-4da5-986b-2d4a3a44e4f6
DTSTAMP:20260425T122527Z
SUMMARY:Wortgottesfeier
DESCRIPTION:https://www2.bistum-augsburg.de/gottesdienste/wortgottesfeier_i
 d1734809
DTSTART;TZID=Europe/Berlin:20260426T100000
DURATION:PT30M
LOCATION:St. Martin
END:VEVENT
BEGIN:VEVENT
UID:sabre-vobject-99fc92cb-d451-4baf-b12a-dcf3d43d2e0f
DTSTAMP:20260425T122527Z
SUMMARY:Rosenkranz
DESCRIPTION:https://www2.bistum-augsburg.de/gottesdienste/rosenkranz_id1734
 818
DTSTART;TZID=Europe/Berlin:20260427T170000
DURATION:PT30M
LOCATION:St. Martin
END:VEVENT
BEGIN:VEVENT
UID:sabre-vobject-bb3c5b9c-8f0e-4476-9078-8e13080be244
DTSTAMP:20260425T122527Z
SUMMARY:Heilige Messe (BT)
DESCRIPTION:https://www2.bistum-augsburg.de/gottesdienste/heilige-messe-bt_
 id1734819
DTSTART;TZID=Europe/Berlin:20260429T183000
DURATION:PT30M
LOCATION:St. Martin
END:VEVENT
BEGIN:VEVENT
UID:sabre-vobject-49e944cc-f74b-4114-af28-200680d8b31e
DTSTAMP:20260425T122527Z
SUMMARY:Feierliche Maiandacht (BT)
DESCRIPTION:https://www2.bistum-augsburg.de/gottesdienste/feierliche-maiand
 acht-bt_id1734820
DTSTART;TZID=Europe/Berlin:20260501T180000
DURATION:PT30M
LOCATION:St. Martin
END:VEVENT
END:VCALENDAR
