BEGIN:VCALENDAR
VERSION:2.0
PRODID:-//Sabre//Sabre VObject 4.5.8//EN
CALSCALE:GREGORIAN
NAME:Bistum Augsburg
X-WR-CALNAME:Bistum Augsburg
BEGIN:VEVENT
UID:sabre-vobject-dcb6b644-8eac-4ce2-a9a5-850987a63c39
DTSTAMP:20260425T231052Z
SUMMARY:Heilige Messe für die Pfarreiengemeinschaft
DESCRIPTION:https://www2.bistum-augsburg.de/gottesdienste/heilige-messe-fue
 r-die-pfarreiengemeinschaft_id1733068
DTSTART;TZID=Europe/Berlin:20260426T083000
DURATION:PT30M
LOCATION:Mariä Himmelfahrt\, Abteistraße 6\, 86687 Kaisheim
END:VEVENT
BEGIN:VEVENT
UID:sabre-vobject-cc9a1f01-13d1-4898-9879-043e0c0fe2a9
DTSTAMP:20260425T231052Z
SUMMARY:Rosenkranz
DESCRIPTION:https://www2.bistum-augsburg.de/gottesdienste/rosenkranz_id1733
 069
DTSTART;TZID=Europe/Berlin:20260429T173000
DURATION:PT30M
LOCATION:Mariä Himmelfahrt\, Abteistraße 6\, 86687 Kaisheim
END:VEVENT
BEGIN:VEVENT
UID:sabre-vobject-9fa49030-8ff1-447f-8843-1401c15cf7bd
DTSTAMP:20260425T231052Z
SUMMARY:Heilige Messe
DESCRIPTION:https://www2.bistum-augsburg.de/gottesdienste/heilige-messe_id1
 733070
DTSTART;TZID=Europe/Berlin:20260429T180000
DURATION:PT30M
LOCATION:Mariä Himmelfahrt\, Abteistraße 6\, 86687 Kaisheim
END:VEVENT
BEGIN:VEVENT
UID:sabre-vobject-954a10b5-80d6-4677-a579-520c9076aea0
DTSTAMP:20260425T231052Z
SUMMARY:Heilige Messe zum Hochfest
DESCRIPTION:https://www2.bistum-augsburg.de/gottesdienste/heilige-messe-zum
 -hochfest_id1733081
DTSTART;TZID=Europe/Berlin:20260501T100000
DURATION:PT30M
LOCATION:Mariä Himmelfahrt\, Abteistraße 6\, 86687 Kaisheim
END:VEVENT
BEGIN:VEVENT
UID:sabre-vobject-dca75b55-5927-403e-bcb3-bbbbec1957a4
DTSTAMP:20260425T231052Z
SUMMARY:Feierliche Maiandacht mitgestaltet von unserem Kirchenchor und den 
  Erstkommunionkindern
DESCRIPTION:https://www2.bistum-augsburg.de/gottesdienste/feierliche-maiand
 acht-mitgestaltet-von-unserem-kirchenchor-und-den-erstkommunionkindern_id1
 733082
DTSTART;TZID=Europe/Berlin:20260501T180000
DURATION:PT30M
LOCATION:Mariä Himmelfahrt\, Abteistraße 6\, 86687 Kaisheim
END:VEVENT
END:VCALENDAR
