BEGIN:VCALENDAR
VERSION:2.0
PRODID:-//Sabre//Sabre VObject 4.5.8//EN
CALSCALE:GREGORIAN
NAME:Bistum Augsburg
X-WR-CALNAME:Bistum Augsburg
BEGIN:VEVENT
UID:sabre-vobject-a0a125a1-94b5-4a6b-9221-24959929084b
DTSTAMP:20260425T104534Z
SUMMARY:Vorabendmesse
DESCRIPTION:https://www2.bistum-augsburg.de/gottesdienste/vorabendmesse_id1
 709406
DTSTART;TZID=Europe/Berlin:20260425T190000
DURATION:PT30M
LOCATION:St. Johannes Baptist
END:VEVENT
BEGIN:VEVENT
UID:sabre-vobject-1da46eb2-1a78-4903-8936-0f5538dc3854
DTSTAMP:20260425T104534Z
SUMMARY:Mariensingen an der Grotte\, Verabschiedung der ausscheidenden Pfar
 rgemeinderatsmitglieder(bei schlechter Witterung St. Johannes)
DESCRIPTION:https://www2.bistum-augsburg.de/gottesdienste/mariensingen-an-d
 er-grotte-verabschiedung-der-ausscheidenden-pfarrgemeinderatsmitglieder-be
 i-schlechter-witterung-st-johannes_id1733344
DTSTART;TZID=Europe/Berlin:20260503T190000
DURATION:PT30M
LOCATION:St. Johannes Baptist
END:VEVENT
BEGIN:VEVENT
UID:sabre-vobject-c2869abd-e860-438a-aacd-bd1635f344ec
DTSTAMP:20260425T104534Z
SUMMARY:Heilige Messe
DESCRIPTION:https://www2.bistum-augsburg.de/gottesdienste/heilige-messe_id1
 733345
DTSTART;TZID=Europe/Berlin:20260507T190000
DURATION:PT30M
LOCATION:St. Johannes Baptist
END:VEVENT
BEGIN:VEVENT
UID:sabre-vobject-3a289097-cb7c-469b-9a48-b0ae8860d227
DTSTAMP:20260425T104534Z
SUMMARY:Abmarsch zur Fußwallfahrt nach Wemding am Dominikus-Ringeisen-Plat
 z
DESCRIPTION:https://www2.bistum-augsburg.de/gottesdienste/abmarsch-zur-fuss
 wallfahrt-nach-wemding-am-dominikus-ringeisen-platz_id1733350
DTSTART;TZID=Europe/Berlin:20260509T044500
DURATION:PT30M
LOCATION:St. Johannes Baptist
END:VEVENT
BEGIN:VEVENT
UID:sabre-vobject-99e7366e-64d2-4803-96ff-3846e7d133b5
DTSTAMP:20260425T104534Z
SUMMARY:Heilige Messe in der Wallfahrtskirche Maria Brünnlein Wemding
DESCRIPTION:https://www2.bistum-augsburg.de/gottesdienste/heilige-messe-in-
 der-wallfahrtskirche-maria-bruennlein-wemding_id1733362
DTSTART;TZID=Europe/Berlin:20260509T163000
DURATION:PT30M
LOCATION:St. Johannes Baptist
END:VEVENT
BEGIN:VEVENT
UID:sabre-vobject-79e28829-e575-4880-b95c-1001f387860c
DTSTAMP:20260425T104534Z
SUMMARY:Heilige Messe-Spenden für die Tafel möglich
DESCRIPTION:https://www2.bistum-augsburg.de/gottesdienste/heilige-messe-spe
 nden-fuer-die-tafel-moeglich_id1733361
DTSTART;TZID=Europe/Berlin:20260510T100000
DURATION:PT30M
LOCATION:St. Johannes Baptist
END:VEVENT
BEGIN:VEVENT
UID:sabre-vobject-f08d180c-6c72-4cb6-a637-1387fe92a3f9
DTSTAMP:20260425T104534Z
SUMMARY:Maiandacht gestaltet vom Pfarrgemeinderat (bei schlechter Witterung
  St. Martin)
DESCRIPTION:https://www2.bistum-augsburg.de/gottesdienste/maiandacht-gestal
 tet-vom-pfarrgemeinderat-bei-schlechter-witterung-st-martin_id1733363
DTSTART;TZID=Europe/Berlin:20260510T190000
DURATION:PT30M
LOCATION:St. Johannes Baptist
END:VEVENT
BEGIN:VEVENT
UID:sabre-vobject-ec8029c3-c112-4156-8e60-cc788b1cf819
DTSTAMP:20260425T104534Z
SUMMARY:Heilige Messe
DESCRIPTION:https://www2.bistum-augsburg.de/gottesdienste/heilige-messe_id1
 733364
DTSTART;TZID=Europe/Berlin:20260514T100000
DURATION:PT30M
LOCATION:St. Johannes Baptist
END:VEVENT
BEGIN:VEVENT
UID:sabre-vobject-295ffcd1-fd60-4124-ad17-75ffe2ba293b
DTSTAMP:20260425T104534Z
SUMMARY:Heilige Messe
DESCRIPTION:https://www2.bistum-augsburg.de/gottesdienste/heilige-messe_id1
 733367
DTSTART;TZID=Europe/Berlin:20260517T083000
DURATION:PT30M
LOCATION:St. Johannes Baptist
END:VEVENT
BEGIN:VEVENT
UID:sabre-vobject-b2c6538b-5939-471a-a470-de29d6b5b711
DTSTAMP:20260425T104534Z
SUMMARY:Maiandacht des Landvolkes (bei schlechter Witterung St. Johannes)
DESCRIPTION:https://www2.bistum-augsburg.de/gottesdienste/maiandacht-des-la
 ndvolkes-bei-schlechter-witterung-st-johannes_id1733369
DTSTART;TZID=Europe/Berlin:20260517T190000
DURATION:PT30M
LOCATION:St. Johannes Baptist
END:VEVENT
BEGIN:VEVENT
UID:sabre-vobject-503a4e94-8738-4cc2-a519-f9ba2c7edd7c
DTSTAMP:20260425T104534Z
SUMMARY:Heilige Messe
DESCRIPTION:https://www2.bistum-augsburg.de/gottesdienste/heilige-messe_id1
 733370
DTSTART;TZID=Europe/Berlin:20260521T190000
DURATION:PT30M
LOCATION:St. Johannes Baptist
END:VEVENT
END:VCALENDAR
