BEGIN:VCALENDAR
VERSION:2.0
PRODID:-//Sabre//Sabre VObject 4.5.8//EN
CALSCALE:GREGORIAN
NAME:Bistum Augsburg
X-WR-CALNAME:Bistum Augsburg
BEGIN:VEVENT
UID:sabre-vobject-e95ae400-6716-483c-a3fa-6436cf7fb7c7
DTSTAMP:20260425T173115Z
SUMMARY:Festgottesdienst zur Erstkommunion mit Luzia-Chor
DESCRIPTION:https://www2.bistum-augsburg.de/gottesdienste/festgottesdienst-
 zur-erstkommunion-mit-luzia-chor_id1727757
DTSTART;TZID=Europe/Berlin:20260426T100000
DURATION:PT30M
LOCATION:St. Luzia
END:VEVENT
BEGIN:VEVENT
UID:sabre-vobject-9f3dae1e-8d19-4666-893f-ff08b1d1cabc
DTSTAMP:20260425T173115Z
SUMMARY:Pfarrheim St. Ulrich: gemeinsame Sitzung der Pfarrgemeinderäte von
  St. Ulrich u. St. Luzia
DESCRIPTION:https://www2.bistum-augsburg.de/gottesdienste/pfarrheim-st-ulri
 ch-gemeinsame-sitzung-der-pfarrgemeinderaete-von-st-ulrich-u-st-luzia_id17
 30457
DTSTART;TZID=Europe/Berlin:20260427T190000
DURATION:PT30M
LOCATION:St. Luzia
END:VEVENT
BEGIN:VEVENT
UID:sabre-vobject-69a6c299-073e-415d-93d0-f8b13741f9ab
DTSTAMP:20260425T173115Z
SUMMARY:in Bruck: Rosenkranz
DESCRIPTION:https://www2.bistum-augsburg.de/gottesdienste/in-bruck-rosenkra
 nz_id1730458
DTSTART;TZID=Europe/Berlin:20260428T163000
DURATION:PT30M
LOCATION:St. Luzia
END:VEVENT
BEGIN:VEVENT
UID:sabre-vobject-54de6c2b-ab80-437e-95b7-5ac32de9d7c9
DTSTAMP:20260425T173115Z
SUMMARY:Pfarrgottesdienst\, gestaltet mit mehreren Stücken aus der Flöten
 -Sonate in e-Moll von J. S. Bach\, Flöte spielt Frau Kozue Sato (Ingolsta
 dt)\, an der frisch gestimmten Orgel begleitet sie Mich
DESCRIPTION:https://www2.bistum-augsburg.de/gottesdienste/pfarrgottesdienst
 -gestaltet-mit-mehreren-stuecken-aus-der-floeten-sonate-in-e-moll-von-j-s-
 bach-floete-spielt-frau-kozue-sato-ingolstadt-an-der-frisch-gestimmten-org
 el-begleitet-sie-mich_id1730459
DTSTART;TZID=Europe/Berlin:20260503T090000
DURATION:PT30M
LOCATION:St. Luzia
END:VEVENT
BEGIN:VEVENT
UID:sabre-vobject-003ecf49-0af8-4285-a21a-c2b4bbb304e4
DTSTAMP:20260425T173115Z
SUMMARY:Mitarbeiterabend im Pfarr- und Jugendheim Zell
DESCRIPTION:https://www2.bistum-augsburg.de/gottesdienste/mitarbeiterabend-
 im-pfarr-und-jugendheim-zell_id1730460
DTSTART;TZID=Europe/Berlin:20260506T190000
DURATION:PT30M
LOCATION:St. Luzia
END:VEVENT
BEGIN:VEVENT
UID:sabre-vobject-a2148b08-fe29-4ef2-9d06-c460bb6883c8
DTSTAMP:20260425T173115Z
SUMMARY:Pfarrgottesdienst
DESCRIPTION:https://www2.bistum-augsburg.de/gottesdienste/pfarrgottesdienst
 _id1730461
DTSTART;TZID=Europe/Berlin:20260510T090000
DURATION:PT30M
LOCATION:St. Luzia
END:VEVENT
BEGIN:VEVENT
UID:sabre-vobject-dc296dd4-1345-4375-bfa7-6930706e7319
DTSTAMP:20260425T173115Z
SUMMARY:in Bruck: Maiandacht mit den Kommunionkindern
DESCRIPTION:https://www2.bistum-augsburg.de/gottesdienste/in-bruck-maiandac
 ht-mit-den-kommunionkindern_id1730462
DTSTART;TZID=Europe/Berlin:20260510T183000
DURATION:PT30M
LOCATION:St. Luzia
END:VEVENT
BEGIN:VEVENT
UID:sabre-vobject-ac49372c-8568-4544-bc93-0517ed9ac3fe
DTSTAMP:20260425T173115Z
SUMMARY:Festgottesdienst zu Christi Himmelfahrt\, anschl. Flurumgang
DESCRIPTION:https://www2.bistum-augsburg.de/gottesdienste/festgottesdienst-
 zu-christi-himmelfahrt-anschl-flurumgang_id1730479
DTSTART;TZID=Europe/Berlin:20260514T090000
DURATION:PT30M
LOCATION:St. Luzia
END:VEVENT
BEGIN:VEVENT
UID:sabre-vobject-cc6450b8-4aeb-443a-940c-609fd3336d22
DTSTAMP:20260425T173115Z
SUMMARY:Pfarrgottesdienst
DESCRIPTION:https://www2.bistum-augsburg.de/gottesdienste/pfarrgottesdienst
 _id1730480
DTSTART;TZID=Europe/Berlin:20260517T090000
DURATION:PT30M
LOCATION:St. Luzia
END:VEVENT
END:VCALENDAR
