BEGIN:VCALENDAR
VERSION:2.0
PRODID:-//Sabre//Sabre VObject 4.5.8//EN
CALSCALE:GREGORIAN
NAME:Bistum Augsburg
X-WR-CALNAME:Bistum Augsburg
BEGIN:VEVENT
UID:sabre-vobject-05993abb-8fd4-4672-a516-dd55866904dd
DTSTAMP:20260420T134344Z
SUMMARY:Heilige Messe
DESCRIPTION:https://www2.bistum-augsburg.de/gottesdienste/heilige-messe_id1
 718245
DTSTART;TZID=Europe/Berlin:20260421T090000
DURATION:PT30M
LOCATION:St. Margaretha
END:VEVENT
BEGIN:VEVENT
UID:sabre-vobject-f41bb0df-3f1c-4a84-b49e-5261764b14e2
DTSTAMP:20260420T134344Z
SUMMARY:Eucharistische Anbetung in der Seitenkapelle
DESCRIPTION:https://www2.bistum-augsburg.de/gottesdienste/eucharistische-an
 betung-in-der-seitenkapelle_id1718246
DTSTART;TZID=Europe/Berlin:20260421T180000
DURATION:PT30M
LOCATION:St. Margaretha
END:VEVENT
BEGIN:VEVENT
UID:sabre-vobject-4245f51c-0175-4055-a571-0390f51dde15
DTSTAMP:20260420T134344Z
SUMMARY:Rosenkranz und Beichtgelegenheit
DESCRIPTION:https://www2.bistum-augsburg.de/gottesdienste/rosenkranz-und-be
 ichtgelegenheit_id1718247
DTSTART;TZID=Europe/Berlin:20260425T180000
DURATION:PT30M
LOCATION:St. Margaretha
END:VEVENT
BEGIN:VEVENT
UID:sabre-vobject-9bb1d87d-e4b2-46ed-b808-ad7d01bec9a3
DTSTAMP:20260420T134344Z
SUMMARY:Vorabendmesse
DESCRIPTION:https://www2.bistum-augsburg.de/gottesdienste/vorabendmesse_id1
 718262
DTSTART;TZID=Europe/Berlin:20260425T183000
DURATION:PT30M
LOCATION:St. Margaretha
END:VEVENT
END:VCALENDAR
