BEGIN:VCALENDAR
VERSION:2.0
PRODID:-//Sabre//Sabre VObject 4.5.8//EN
CALSCALE:GREGORIAN
NAME:Bistum Augsburg
X-WR-CALNAME:Bistum Augsburg
BEGIN:VEVENT
UID:sabre-vobject-2884e2ae-c2fd-49ef-b425-48447b5f8572
DTSTAMP:20260422T200811Z
SUMMARY:Heilige Messe
DESCRIPTION:https://www2.bistum-augsburg.de/gottesdienste/heilige-messe_id1
 718030
DTSTART;TZID=Europe/Berlin:20260422T190000
DURATION:PT30M
LOCATION:St. Andreas
END:VEVENT
BEGIN:VEVENT
UID:sabre-vobject-d69a2d93-ee37-4ae8-8f4a-d556fbebfd22
DTSTAMP:20260422T200811Z
SUMMARY:Heilige Messe - Markusbittgang
DESCRIPTION:https://www2.bistum-augsburg.de/gottesdienste/heilige-messe-mar
 kusbittgang_id1718033
DTSTART;TZID=Europe/Berlin:20260424T190000
DURATION:PT30M
LOCATION:St. Andreas
END:VEVENT
BEGIN:VEVENT
UID:sabre-vobject-f77e5ba8-23ba-4267-a864-b2e6857fdf57
DTSTAMP:20260422T200811Z
SUMMARY:Stille Eucharistische Anbetung (bis 8.00 Uhr)
DESCRIPTION:https://www2.bistum-augsburg.de/gottesdienste/stille-eucharisti
 sche-anbetung-bis-8-00-uhr_id1718078
DTSTART;TZID=Europe/Berlin:20260425T070000
DURATION:PT30M
LOCATION:St. Andreas
END:VEVENT
BEGIN:VEVENT
UID:sabre-vobject-43296508-0247-40ec-856b-acf70c5652a4
DTSTAMP:20260422T200811Z
SUMMARY:Heilige Messe
DESCRIPTION:https://www2.bistum-augsburg.de/gottesdienste/heilige-messe_id1
 728593
DTSTART;TZID=Europe/Berlin:20260426T083000
DURATION:PT30M
LOCATION:St. Andreas
END:VEVENT
BEGIN:VEVENT
UID:sabre-vobject-1b0fc0e3-d6fd-4854-9887-e9a56aa42d30
DTSTAMP:20260422T200811Z
SUMMARY:Rosenkranz
DESCRIPTION:https://www2.bistum-augsburg.de/gottesdienste/rosenkranz_id1728
 204
DTSTART;TZID=Europe/Berlin:20260428T080000
DURATION:PT30M
LOCATION:St. Andreas
END:VEVENT
BEGIN:VEVENT
UID:sabre-vobject-c371e7fb-881c-4b27-94aa-52dd44eb410a
DTSTAMP:20260422T200811Z
SUMMARY:Heilige Messe
DESCRIPTION:https://www2.bistum-augsburg.de/gottesdienste/heilige-messe_id1
 728206
DTSTART;TZID=Europe/Berlin:20260429T190000
DURATION:PT30M
LOCATION:St. Andreas
END:VEVENT
BEGIN:VEVENT
UID:sabre-vobject-cce4fa33-5548-473f-8387-168ca589efc0
DTSTAMP:20260422T200811Z
SUMMARY:Glaubensgespräch im Pfarrhof
DESCRIPTION:https://www2.bistum-augsburg.de/gottesdienste/glaubensgespraech
 -im-pfarrhof_id1728208
DTSTART;TZID=Europe/Berlin:20260429T200000
DURATION:PT30M
LOCATION:St. Andreas
END:VEVENT
BEGIN:VEVENT
UID:sabre-vobject-ec44066a-7ce5-468d-9e17-7d8091ebf9ce
DTSTAMP:20260422T200811Z
SUMMARY:1. Maiandacht der Pfarreiengemeinschaft
DESCRIPTION:https://www2.bistum-augsburg.de/gottesdienste/1-maiandacht-der-
 pfarreiengemeinschaft_id1728274
DTSTART;TZID=Europe/Berlin:20260501T190000
DURATION:PT30M
LOCATION:St. Andreas
END:VEVENT
BEGIN:VEVENT
UID:sabre-vobject-f47350ff-d539-4669-8dff-68360555d643
DTSTAMP:20260422T200811Z
SUMMARY:Stille Eucharistische Anbetung (bis 8.00 Uhr)
DESCRIPTION:https://www2.bistum-augsburg.de/gottesdienste/stille-eucharisti
 sche-anbetung-bis-8-00-uhr_id1728275
DTSTART;TZID=Europe/Berlin:20260502T070000
DURATION:PT30M
LOCATION:St. Andreas
END:VEVENT
BEGIN:VEVENT
UID:sabre-vobject-250a0e77-e755-4c5e-9a7f-7bb14a3ae167
DTSTAMP:20260422T200811Z
SUMMARY:Rosenkranz für unsere Kranken
DESCRIPTION:https://www2.bistum-augsburg.de/gottesdienste/rosenkranz-fuer-u
 nsere-kranken_id1728278
DTSTART;TZID=Europe/Berlin:20260503T083000
DURATION:PT30M
LOCATION:St. Andreas
END:VEVENT
BEGIN:VEVENT
UID:sabre-vobject-32f9cc50-f13a-4864-9642-a9c42404bcb4
DTSTAMP:20260422T200811Z
SUMMARY:Pfarrgottesdienst
DESCRIPTION:https://www2.bistum-augsburg.de/gottesdienste/pfarrgottesdienst
 _id1728279
DTSTART;TZID=Europe/Berlin:20260503T090000
DURATION:PT30M
LOCATION:St. Andreas
END:VEVENT
BEGIN:VEVENT
UID:sabre-vobject-df0b6706-39c2-4d35-9d06-41f81f0c8f3d
DTSTAMP:20260422T200811Z
SUMMARY:Maiandacht (mit den Kommunionkindern)
DESCRIPTION:https://www2.bistum-augsburg.de/gottesdienste/maiandacht-mit-de
 n-kommunionkindern_id1728369
DTSTART;TZID=Europe/Berlin:20260503T190000
DURATION:PT30M
LOCATION:St. Andreas
END:VEVENT
END:VCALENDAR
